Workbook
Name _GoBack: '03_Busse'!$BH$12
Name AC_11kW: #REF!
Name AC_22kW: #REF!
Name AC_4kW: #REF!
Name AC_LS: #REF!
Name DC_LS: #REF!
Name EUR_AC_11kW: #REF!
Name EUR_AC_22kW: #REF!
Name EUR_AC_4kW: #REF!
Name EUR_AC_LS: #REF!
Name EUR_DC_LS: #REF!
Name ja: #REF!
Name nein: #REF!
Name PositionSumme: #REF!
Name Typ_E_Fahrzeug__Auswahlbox: #REF!

Sheet 01_Allgemein
A1: Skizze – Allgemeine Angaben
A2: Skizzen-ID (verfügbar nach Einreichung in easy-Online)
A3: Erstelldatum
A4: Name Skizzeneinreicher
A5: Organisationsform des Skizzeneinreichers
A6: Skizzeneinreicher ist vorsteuerabzugsberechtigt
A7: Ist ein grenzüberschreitender Verkehr geplant?
A11: Hinweise:
A12: 1. Beantworten Sie zuerst die oberen Punkte, bevor die weiteren Tabellenblätter zur Flottengröße sowie der Bus- und Infrastrukturbeschaffung ausgefüllt werden. 2. Füllen Sie zwingend die Registerkarte "Flottengröße und Beschaffung" aus. 3. Eine Skizze darf entweder nur Batteriebusse oder nur Brennstoffzellenbusse enthalten. Werden beide Technologien benötigt, müssen 2 getrennte Skizzen eingereicht werden. 4. Jeder in der Skizze angegebene Bus bzw. jede Busgruppe (Positionen 1–20, Blatt 03_Busse) ist anhand der Laufleistung einem überwiegenden Einsatzkontext (ÖPNV/Linienverkehr, Reise-/Fernbus oder Sonstiger Verkehr) zuzuordnen. Alle Busse einer Skizze müssen denselben überwiegenden Einsatzkontext aufweisen; bei Abweichungen sind getrennte Skizzen einzureichen. 5. Speichern Sie die ausgefüllten Arbeitsblätter als PDF und fügen Sie es der Skizze bei ("Endfassung einreichen" in easy-Online). 6. Schicken Sie die Excel Datei inklusive der easy-Online-Kennung als Präfix im Datei-Namen an "ptj-evi-busse@ptj.de". Bsp: 10050000_foerderfaehige_ausgaben.xlsx

Sheet 02_Flottengröße u. Beschaffung
A1: Übersicht zur aktuellen und zukünftigen Busflotte einschließlich Beschaffungsplanung und Berechnung des Elektrifizierungsgrades
A2: Die Angaben dienen der Ermittlung des Elektrifizierungsgrades der Busflotte.
A4: 1. Aktuelle Bestandsflotte einschließlich bereits bestellter Busse sowie weitere Busse, für die eine Förderung vorliegt
A5: Geben Sie die Anzahl der Fahrzeuge getrennt nach Fahrzeuglänge und Antriebsart an. Berücksichtigen Sie dabei auch bereits förderbewilligte emissionsfreie Busse.
A7: Elektrifizierungsgrad vor Bundesförderung | B7: =IF(SUM($B$14:$F$14) = 0,"", ($C$14+$D$14+$E$14) / SUM($B$14:$F$14))
A8: EG-Fahrzeugklasse | B8: Dieselbus | C8: Batteriebus | D8: Batterieoberleitungsbus | E8: Brennstoffzellenbus | F8: Sonstige Alternativen
A9: ='03_Busse'!AR22 -> bis 8m | B9: 0 | C9: 0 | D9: 0 | E9: 0 | F9: 0
A10: ='03_Busse'!AR23 -> größer 8m bis 10,6m | B10: 0 | C10: 0 | D10: 0 | E10: 0 | F10: 0
A11: ='03_Busse'!AR24 -> größer 10,6m bis 16m | B11: 0 | C11: 0 | D11: 0 | E11: 0 | F11: 0
A12: ='03_Busse'!AR25 -> größer 16m | B12: 0 | C12: 0 | D12: 0 | E12: 0 | F12: 0
A13: ='03_Busse'!AR26 -> Reise- und Fernbus | B13: 0 | C13: 0 | D13: 0 | E13: 0 | F13: 0
A14: Summe | B14: =SUM(B9:B13) -> 0 | C14: =SUM(C9:C13) -> 0 | D14: =SUM(D9:D13) -> 0 | E14: =SUM(E9:E13) -> 0 | F14: =SUM(F9:F13) -> 0
A16: 2. Zukünftige Bestandsflotte nach Förderung
A17: Stellen Sie die Zusammensetzung Ihrer Busflotte nach Abschluss der in der Skizze dargestellten Förderung dar.
A19: Elektrifizierungsgrad nach Bundesförderung | B19: =IF(SUM($B$26:$F$26) = 0,"", (C26+D26+E26) / SUM($B$26:$F$26))
A20: EG-Fahrzeugklasse | B20: Dieselbus | C20: Batteriebus | D20: Batterieoberleitungsbus | E20: Brennstoffzellenbus | F20: Sonstige Alternativen
A21: ='03_Busse'!AR22 -> bis 8m | B21: 0 | C21: 0 | D21: 0 | E21: 0 | F21: 0
A22: ='03_Busse'!AR23 -> größer 8m bis 10,6m | B22: 0 | C22: 0 | D22: 0 | E22: 0 | F22: 0
A23: ='03_Busse'!AR24 -> größer 10,6m bis 16m | B23: 0 | C23: 0 | D23: 0 | E23: 0 | F23: 0
A24: ='03_Busse'!AR25 -> größer 16m | B24: 0 | C24: 0 | D24: 0 | E24: 0 | F24: 0
A25: ='03_Busse'!AR26 -> Reise- und Fernbus | B25: 0 | C25: 0 | D25: 0 | E25: 0 | F25: 0
A26: Summe | B26: =SUM(B21:B25) -> 0 | C26: =SUM(C21:C25) -> 0 | D26: =SUM(D21:D25) -> 0 | E26: =SUM(E21:E25) -> 0 | F26: =SUM(F21:F25) -> 0

Sheet 03_Busse
A1: Ermittlung der förderfähigen Ausgaben (EfA) für Busse
A2: Aktuelle Flottengröße (Anzahl Busse aller Antriebsarten): | D2: =$AB$12 -> 0 | AR2: ja | AS2: nein
A3: Anzahl Busse mit emissionsfreien Antrieben (in Bestandsflotte): | D3: =$AC$12 -> 0
A4: Aktueller Elektrifizierungsgrad der Bestandsflotte | D4: ='02_Flottengröße u. Beschaffung'!$B$7
A5: Elektrifizierungsgrad der Busflotte nach Förderung | D5: ='02_Flottengröße u. Beschaffung'!$B$19
A6: Elektrifizierungskategorie | D6: =$W$12 -> Flottenangaben fehlen
A7: Überwiegender Einsatzkontext gemäß Aufruf: | D7: =$V$12 -> Nicht zuordbar
A8: Technologiepfad | D8: =U12 -> Keine Technologie gewählt
G10: Durchschnittliche Laufleistung in km/Jahr pro Bus | J10: Nur für "1.1. Batterie" | K10: Nur für "1.2. Brennstoffzelle" auszufüllen | AR10: Fehler: Angaben überprüfen! | AU10: Netto
A11: Position | B11: Fahrzeugklasse und Länge Bus [Auswahlbox] | C11: Antriebssystem nach Aufruf Kapitel 2 [Auswahlbox] | D11: Neufahrzeug oder Umrüstung [Auswahlbox] | E11: =IF('01_Allgemein'!$B$6="nein","Bruttopreis pro Bus bzw. Umrüstung",IF('01_Allgemein'!$B$6="ja","Nettopreis pro Bus bzw. Umrüstung","Bitte wählen sie aus, ob sie zum Vorsteuerabzug berechtigt sind!")) -> Bitte wählen sie aus, ob sie zum Vorsteuerabzug berechtigt sind! | F11: =IF('01_Allgemein'!$B$6="nein","Bruttopreis eigenes Referenzfahrzeug bei Auswahl von Reise- und Fernbusse",IF('01_Allgemein'!$B$6="ja","Nettopreis eigenes Referenzfahrzeug bei Auswahl von Reise- und Fernbusse","Bitte wählen sie aus, ob sie zum Vorsteuerabzug berechtigt sind!")) -> Bitte wählen sie aus, ob sie zum Vorsteuerabzug berechtigt sind! | G11: ÖPNV und Linienverkehr | H11: Reise- und Fernverkehre | I11: Sonstiger Verkehr | J11: Ladestrategie [Auswahlbox] | K11: Anteil erneuerbarer Wasserstoff aller geförderten BZ-Bussen in % | L11: Brennstoffzelle nur als Range-Extender? [Auswahlbox] | M11: Busklasse [Auswahlbox] | N11: Welchen SORT wird der Bus fahren? [Auswahlbox] | O11: Ersetzt das Neufahrzeug einen bestehenden Dieselbus? [Auswahlbox] | P11: =IF('01_Allgemein'!$B$6="nein","Bruttopreis Referenzfahrzeug",IF('01_Allgemein'!$B$6="ja","Nettopreis Referenzfahrzeug","Bitte wählen sie aus, ob sie zum Vorsteuerabzug berechtigt sind!")) -> Bitte wählen sie aus, ob sie zum Vorsteuerabzug berechtigt sind! | Q11: =IF('01_Allgemein'!$B$6="nein","Förderfähige Ausgaben pro Fahrzeug (brutto)",IF('01_Allgemein'!$B$6="ja","Förderfähige Ausgaben pro Fahrzeug (netto)","Bitte wählen sie aus, ob sie zum Vorsteuerabzug berechtigt sind!")) -> Bitte wählen sie aus, ob sie zum Vorsteuerabzug berechtigt sind! | R11: Anzahl zu beschaffender Fahrzeuge des Typs | S11: Förderfähige Ausgaben | U11: Technologiepfad | V11: Einsatzkontext | W11: Kategorie | X11: Fördereffizienz (Punkte) | Y11: Klimaschutzbeitrag | Z11: Förderfähige Ausgaben Bus in Euro | AA11: Förderfähige Ausgaben Infrastruktur in Euro | AB11: Aktuelle Flottengröße | AC11: Anzahl Busse mit emissionsfreien Antrieben | AD11: Anzahl geförderter Busse mit emissionsfreien Antrieben | AE11: Anzahl noch nicht beschaffter emissionsfreier Busse für die aber bereits eine Förderzusage vorliegt | AF11: Ist grenzüberschreitender Verkehr geplant? | AG11: Anzahl beantragter Busse in Skizze | AH11: Davon als Substitution für Dieselbus | AI11: Eingesparte CO2 Emissionen/Jahr [kg] | AK11: Platzkapazität | AL11: CO2 Emissionen Referenzfahrzeug [kg CO2/km] | AM11: Verbrauch Wasserstoff (kg H2/km) | AN11: CO2 Emissionen alternativer Antrieb (kg CO2/km) | AO11: Eingesparte CO2 Emissionen [kg CO2/km] | AP11: Eingesparte CO2 Emissionen [kg] | AQ11: Einsatzkontext | AR11: Batterie | AU11: Diesel-referenz | AV11: Batterie | AW11: Brennstoffzelle | AX11: Gas | AY11: Batterie (Umrüstung) | AZ11: Brennstoffzelle (Umrüstung) | BB11: Platzkapazität | BC11: CO2 kg/km von Referenzfahrzeug | BE11: Hilfstabelle Substitution
A12: 1 | P12: =IF(OR('01_Allgemein'!$B$6="",B12="",D12=""),"", IF(B12 = $AR$26,F12, IF(D12=$AR$16,0, IF('01_Allgemein'!$B$6=$AR$2, IF(B12=$AR$22,$AU$12,IF(B12=$AR$23,$AU$13,IF(B12=$AR$24,$AU$14,$AU$15))), IF(B12=$AR$22,$AU$20,IF(B12=$AR$23,$AU$21,IF(B12=$AR$24,$AU$22,$AU$23))) ) ) ) ) | Q12: =IF(OR(P12="",C12="",E12=""),"", IF('01_Allgemein'!$B$6 = $AR$2, IF(D12 = $AR$16, IF(C12 = $AR$11, IF(B12=$AR$22,IF(E12<$AY$12,E12,$AY$12), IF(B12=$AR$23,IF(E12<$AY$13,E12,$AY$13), IF(B12=$AR$24,IF(E12<$AY$14,E12,$AY$14), IF(B12=$AR$25,IF(E12<$AY$15,E12,$AY$15), IF(B12=$AR$26,IF(E12<$AY$16,E12,$AY$16), ""))))), IF(C12=$AR$12, IF(B12=$AR$22,IF(E12<$AZ$12,E12,$AZ$12), IF(B12=$AR$23,IF(E12<$AZ$13,E12,$AZ$13), IF(B12=$AR$24,IF(E12<$AZ$14,E12,$AZ$14), IF(B12=$AR$25,IF(E12<$AZ$15,E12,$AZ$15), IF(B12=$AR$26,IF(E12<$AZ$16,E12,$AZ$16), ""))))), "") ), IF(C12=$AR$11, IF(B12=$AR$22,IF(E12<$AV$12,E12-$AU$12,$AV$12-$AU$12), IF(B12=$AR$23,IF(E12<$AV$13,E12-$AU$13,$AV$13-$AU$13), IF(B12=$AR$24,IF(E12<$AV$14,E12-$AU$14,$AV$14-$AU$14), IF(B12=$AR$25,IF(E12<$AV$15,E12-$AU$15,$AV$15-$AU$15), IF(B12=$AR$26,IF(E12<$AV$16,E12-F12,$AV$16-F12), "" ) ) ) ) ), IF(C12=$AR$12, IF(B12=$AR$22,IF(E12<$AW$12,E12-$AU$12,$AW$12-$AU$12), IF(B12=$AR$23,IF(E12<$AW$13,E12-$AU$13,$AW$13-$AU$13), IF(B12=$AR$24,IF(E12<$AW$14,E12-$AU$14,$AW$14-$AU$14), IF(B12=$AR$25,IF(E12<$AW$15,E12-$AU$15,$AW$15-$AU$15), IF(B12=$AR$26,IF(E12<$AW$16,E12-F12,$AW$16-F12), ""))) ) ), "") ) ), IF(D12 = $AR$16, IF(C12 = $AR$11, IF(B12=$AR$22,IF(E12<$AY$20,E12,$AY$20), IF(B12=$AR$23,IF(E12<$AY$21,E12,$AY$21), IF(B12=$AR$24,IF(E12<$AY$22,E12,$AY$22), IF(B12=$AR$25,IF(E12<$AY$23,E12,$AY$23), IF(B12=$AR$26,IF(E12<$AY$24,E12,$AY$24), ""))))), IF(C12=$AR$12, IF(B12=$AR$22,IF(E12<$AZ$20,E12,$AZ$20), IF(B12=$AR$23,IF(E12<$AZ$21,E12,$AZ$21), IF(B12=$AR$24,IF(E12<$AZ$22,E12,$AZ$22), IF(B12=$AR$25,IF(E12<$AZ$23,E12,$AZ$23), IF(B12=$AR$26,IF(E12<$AZ$24,E12,$AZ$24), ""))))), "") ), IF(C12=$AR$11, IF(B12=$AR$22,IF(E12<$AV$20,E12-$AU$20,$AV$20-$AU$20), IF(B12=$AR$23,IF(E12<$AV$21,E12-$AU$21,$AV$21-$AU$21), IF(B12=$AR$24,IF(E12<$AV$22,E12-$AU$22,$AV$22-$AU$22), IF(B12=$AR$25,IF(E12<$AV$23,E12-$AU$23,$AV$23-$AU$23), IF(B12=$AR$26,IF(E12<$AV$24,E12-F12,$AV$24-F12), "" ) ) ) ) ), IF(C12=$AR$12, IF(B12=$AR$22,IF(E12<$AW$20,E12-$AU$20,$AW$20-$AU$20), IF(B12=$AR$23,IF(E12<$AW$21,E12-$AU$21,$AW$21-$AU$21), IF(B12=$AR$24,IF(E12<$AW$22,E12-$AU$22,$AW$22-$AU$22), IF(B12=$AR$25,IF(E12<$AW$23,E12-$AU$23,$AW$23-$AU$23), IF(B12=$AR$26,IF(E12<$AW$24,E12-F12,$AW$24-F12), ""))) ) ), "") ) ))) | S12: =IF(Q12="","", IF(Q12<0,0,Q12*R12)) | U12: =IF(AND(NOT(V21),NOT(V22)),"Keine Technologie gewählt",IF(AND(V21,NOT(V22)),AR11,IF(AND(NOT(V21),V22),AR12,AR10))) -> Keine Technologie gewählt | V12: =IF(AND(COUNTIF(AQ12:AQ31,$AR$52)>0,COUNTIF(AQ12:AQ31,$AR$53)=0,COUNTIF(AQ12:AQ31,$AR$54)=0,COUNTIF(AQ12:AQ31,$AR$55)=0),$AR$52, IF(AND(COUNTIF(AQ12:AQ31,$AR$53)>0,COUNTIF(AQ12:AQ31,$AR$52)=0,COUNTIF(AQ12:AQ31,$AR$54)=0,COUNTIF(AQ12:AQ31,$AR$55)=0),$AR$53, IF(AND(COUNTIF(AQ12:AQ31,$AR$54)>0,COUNTIF(AQ12:AQ31,$AR$52)=0,COUNTIF(AQ12:AQ31,$AR$53)=0,COUNTIF(AQ12:AQ31,$AR$55)=0),$AR$54, $AR$55))) -> Nicht zuordbar | W12: =IF( OR( '02_Flottengröße u. Beschaffung'!$B$7="",'02_Flottengröße u. Beschaffung'!$B$19=""),$AR$67, IF( OR($V$12=$AR$53,$V$12=$AR$54), "", IF( AND( D4 <= X24,D5 <= X26), $AR$62, IF( AND( D4 <= X25,D5 <= X26), $AR$63, IF( AND( D4 >= X25,D4 <= X26,D5 <= X27), $AR$64, $AR$65))) ) ) -> Flottenangaben fehlen | X12: muss mit FQ aus Profi errechnet werden | Y12: {=SUMPRODUCT((F12:F31 + G12:G31 + H12:H31),R12:R31,AK12:AK31,AO12:AO31)} -> 0 | Z12: =S32 -> 0 | AA12: ='04_Infrastruktur'!F22 | AB12: =SUM('02_Flottengröße u. Beschaffung'!$B$14:$F$14) -> 0 | AC12: =SUM('02_Flottengröße u. Beschaffung'!$C$14:$E$14) -> 0 | AF12: ='01_Allgemein'!B7 -> 0 | AG12: =SUM($R$12:$R$31) -> 0 | AH12: =SUM($BE$12:$BE$31) -> 0 | AI12: =$AP$32 -> 0 | AK12: =IF(B12=$AR$22,$BB$12,IF(B12=$AR$23,$BB$13,IF(B12=$AR$24,$BB$14,IF(B12=$AR$25,$BB$15,IF(B12=$AR$26,$BB$16,0))))) -> 0 | AL12: =IF(B12=$AR$22,$BC$12,IF(B12=$AR$23,$BC$13,IF(B12=$AR$24,$BC$14,IF(B12=$AR$25,$BC$15,IF(B12=$AR$26,$BC$16,"0"))))) -> 0 | AM12: =IF(C12=$AR$12, IF(L12=$AR$2, IF(B12=$AR$22,$AV$27,IF(B12=$AR$23,$AV$28,IF(B12=$AR$24,$AV$29,IF(B12=$AR$25,$AV$30,IF(B12=$AR$26,$AV$31,0))))), IF(B12=$AR$22,$AU$27,IF(B12=$AR$23,$AU$28,IF(B12=$AR$24,$AU$29,IF(B12=$AR$25,$AU$30,IF(B12=$AR$26,$AU$31,0))))) ),0) -> 0 | AN12: =AM12*10.7*(1-K12) -> 0 | AO12: =IF(AL12="",0,IF((AL12-AN12)>0,AL12-AN12,0)) -> 0 | AP12: =AO12*R12*SUM(G12:I12) -> 0 | AQ12: =IF(COUNTBLANK(B12:E12) = 4,"", IF( AND( PRODUCT(G12,R12) > PRODUCT(H12,R12),PRODUCT(G12,R12) > PRODUCT(I12,R12)),$AR$52, IF( AND( PRODUCT(H12,R12) > PRODUCT(G12,R12),PRODUCT(H12,R12) > PRODUCT(I12,R12)),$AR$53, IF( AND( PRODUCT(I12,R12) > PRODUCT(G12,R12),PRODUCT(I12,R12) > PRODUCT(H12,R12)),$AR$54, $AR$55) ) ) ) | AR12: Brennstoffzelle | AT12: bis 8 m | AU12: 135000 | AV12: 248000 | AW12: 313000 | AY12: 113000 | AZ12: 178000 | BA12: bis 8 m | BB12: 30 | BC12: 0.4 | BE12: =IF(O12=$AR$2,R12,0) -> 0
A13: 2 | P13: =IF(OR('01_Allgemein'!$B$6="",B13="",D13=""),"", IF(B13 = $AR$26,F13, IF(D13=$AR$16,0, IF('01_Allgemein'!$B$6=$AR$2, IF(B13=$AR$22,$AU$12,IF(B13=$AR$23,$AU$13,IF(B13=$AR$24,$AU$14,$AU$15))), IF(B13=$AR$22,$AU$20,IF(B13=$AR$23,$AU$21,IF(B13=$AR$24,$AU$22,$AU$23))) ) ) ) ) | Q13: =IF(OR(P13="",C13="",E13=""),"", IF('01_Allgemein'!$B$6 = $AR$2, IF(D13 = $AR$16, IF(C13 = $AR$11, IF(B13=$AR$22,IF(E13<$AY$12,E13,$AY$12), IF(B13=$AR$23,IF(E13<$AY$13,E13,$AY$13), IF(B13=$AR$24,IF(E13<$AY$14,E13,$AY$14), IF(B13=$AR$25,IF(E13<$AY$15,E13,$AY$15), IF(B13=$AR$26,IF(E13<$AY$16,E13,$AY$16), ""))))), IF(C13=$AR$12, IF(B13=$AR$22,IF(E13<$AZ$12,E13,$AZ$12), IF(B13=$AR$23,IF(E13<$AZ$13,E13,$AZ$13), IF(B13=$AR$24,IF(E13<$AZ$14,E13,$AZ$14), IF(B13=$AR$25,IF(E13<$AZ$15,E13,$AZ$15), IF(B13=$AR$26,IF(E13<$AZ$16,E13,$AZ$16), ""))))), "") ), IF(C13=$AR$11, IF(B13=$AR$22,IF(E13<$AV$12,E13-$AU$12,$AV$12-$AU$12), IF(B13=$AR$23,IF(E13<$AV$13,E13-$AU$13,$AV$13-$AU$13), IF(B13=$AR$24,IF(E13<$AV$14,E13-$AU$14,$AV$14-$AU$14), IF(B13=$AR$25,IF(E13<$AV$15,E13-$AU$15,$AV$15-$AU$15), IF(B13=$AR$26,IF(E13<$AV$16,E13-F13,$AV$16-F13), "" ) ) ) ) ), IF(C13=$AR$12, IF(B13=$AR$22,IF(E13<$AW$12,E13-$AU$12,$AW$12-$AU$12), IF(B13=$AR$23,IF(E13<$AW$13,E13-$AU$13,$AW$13-$AU$13), IF(B13=$AR$24,IF(E13<$AW$14,E13-$AU$14,$AW$14-$AU$14), IF(B13=$AR$25,IF(E13<$AW$15,E13-$AU$15,$AW$15-$AU$15), IF(B13=$AR$26,IF(E13<$AW$16,E13-F13,$AW$16-F13), ""))) ) ), "") ) ), IF(D13 = $AR$16, IF(C13 = $AR$11, IF(B13=$AR$22,IF(E13<$AY$20,E13,$AY$20), IF(B13=$AR$23,IF(E13<$AY$21,E13,$AY$21), IF(B13=$AR$24,IF(E13<$AY$22,E13,$AY$22), IF(B13=$AR$25,IF(E13<$AY$23,E13,$AY$23), IF(B13=$AR$26,IF(E13<$AY$24,E13,$AY$24), ""))))), IF(C13=$AR$12, IF(B13=$AR$22,IF(E13<$AZ$20,E13,$AZ$20), IF(B13=$AR$23,IF(E13<$AZ$21,E13,$AZ$21), IF(B13=$AR$24,IF(E13<$AZ$22,E13,$AZ$22), IF(B13=$AR$25,IF(E13<$AZ$23,E13,$AZ$23), IF(B13=$AR$26,IF(E13<$AZ$24,E13,$AZ$24), ""))))), "") ), IF(C13=$AR$11, IF(B13=$AR$22,IF(E13<$AV$20,E13-$AU$20,$AV$20-$AU$20), IF(B13=$AR$23,IF(E13<$AV$21,E13-$AU$21,$AV$21-$AU$21), IF(B13=$AR$24,IF(E13<$AV$22,E13-$AU$22,$AV$22-$AU$22), IF(B13=$AR$25,IF(E13<$AV$23,E13-$AU$23,$AV$23-$AU$23), IF(B13=$AR$26,IF(E13<$AV$24,E13-F13,$AV$24-F13), "" ) ) ) ) ), IF(C13=$AR$12, IF(B13=$AR$22,IF(E13<$AW$20,E13-$AU$20,$AW$20-$AU$20), IF(B13=$AR$23,IF(E13<$AW$21,E13-$AU$21,$AW$21-$AU$21), IF(B13=$AR$24,IF(E13<$AW$22,E13-$AU$22,$AW$22-$AU$22), IF(B13=$AR$25,IF(E13<$AW$23,E13-$AU$23,$AW$23-$AU$23), IF(B13=$AR$26,IF(E13<$AW$24,E13-F13,$AW$24-F13), ""))) ) ), "") ) ))) | S13: =IF(Q13="","", IF(Q13<0,0,Q13*R13)) | AK13: =IF(B13=$AR$22,$BB$12,IF(B13=$AR$23,$BB$13,IF(B13=$AR$24,$BB$14,IF(B13=$AR$25,$BB$15,IF(B13=$AR$26,$BB$16,0))))) -> 0 | AL13: =IF(B13=$AR$22,$BC$12,IF(B13=$AR$23,$BC$13,IF(B13=$AR$24,$BC$14,IF(B13=$AR$25,$BC$15,IF(B13=$AR$26,$BC$16,"0"))))) -> 0 | AM13: =IF(C13=$AR$12, IF(L13=$AR$2, IF(B13=$AR$22,$AV$27,IF(B13=$AR$23,$AV$28,IF(B13=$AR$24,$AV$29,IF(B13=$AR$25,$AV$30,IF(B13=$AR$26,$AV$31,0))))), IF(B13=$AR$22,$AU$27,IF(B13=$AR$23,$AU$28,IF(B13=$AR$24,$AU$29,IF(B13=$AR$25,$AU$30,IF(B13=$AR$26,$AU$31,0))))) ),0) -> 0 | AN13: =AM13*10.7*(1-K13) -> 0 | AO13: =IF(AL13="",0,IF((AL13-AN13)>0,AL13-AN13,0)) -> 0 | AP13: =AO13*R13*SUM(G13:I13) -> 0 | AQ13: =IF(COUNTBLANK(B13:E13) = 4,"", IF( AND( PRODUCT(G13,R13) > PRODUCT(H13,R13),PRODUCT(G13,R13) > PRODUCT(I13,R13)),$AR$52, IF( AND( PRODUCT(H13,R13) > PRODUCT(G13,R13),PRODUCT(H13,R13) > PRODUCT(I13,R13)),$AR$53, IF( AND( PRODUCT(I13,R13) > PRODUCT(G13,R13),PRODUCT(I13,R13) > PRODUCT(H13,R13)),$AR$54, $AR$55) ) ) ) | AT13: 8-10,6 m | AU13: 250000 | AV13: 414000 | AW13: 506000 | AY13: 164000 | AZ13: 256000 | BA13: 8-10,6 m | BB13: 60 | BC13: 0.641 | BE13: =IF(O13=$AR$2,R13,0) -> 0
A14: 3 | P14: =IF(OR('01_Allgemein'!$B$6="",B14="",D14=""),"", IF(B14 = $AR$26,F14, IF(D14=$AR$16,0, IF('01_Allgemein'!$B$6=$AR$2, IF(B14=$AR$22,$AU$12,IF(B14=$AR$23,$AU$13,IF(B14=$AR$24,$AU$14,$AU$15))), IF(B14=$AR$22,$AU$20,IF(B14=$AR$23,$AU$21,IF(B14=$AR$24,$AU$22,$AU$23))) ) ) ) ) | Q14: =IF(OR(P14="",C14="",E14=""),"", IF('01_Allgemein'!$B$6 = $AR$2, IF(D14 = $AR$16, IF(C14 = $AR$11, IF(B14=$AR$22,IF(E14<$AY$12,E14,$AY$12), IF(B14=$AR$23,IF(E14<$AY$13,E14,$AY$13), IF(B14=$AR$24,IF(E14<$AY$14,E14,$AY$14), IF(B14=$AR$25,IF(E14<$AY$15,E14,$AY$15), IF(B14=$AR$26,IF(E14<$AY$16,E14,$AY$16), ""))))), IF(C14=$AR$12, IF(B14=$AR$22,IF(E14<$AZ$12,E14,$AZ$12), IF(B14=$AR$23,IF(E14<$AZ$13,E14,$AZ$13), IF(B14=$AR$24,IF(E14<$AZ$14,E14,$AZ$14), IF(B14=$AR$25,IF(E14<$AZ$15,E14,$AZ$15), IF(B14=$AR$26,IF(E14<$AZ$16,E14,$AZ$16), ""))))), "") ), IF(C14=$AR$11, IF(B14=$AR$22,IF(E14<$AV$12,E14-$AU$12,$AV$12-$AU$12), IF(B14=$AR$23,IF(E14<$AV$13,E14-$AU$13,$AV$13-$AU$13), IF(B14=$AR$24,IF(E14<$AV$14,E14-$AU$14,$AV$14-$AU$14), IF(B14=$AR$25,IF(E14<$AV$15,E14-$AU$15,$AV$15-$AU$15), IF(B14=$AR$26,IF(E14<$AV$16,E14-F14,$AV$16-F14), "" ) ) ) ) ), IF(C14=$AR$12, IF(B14=$AR$22,IF(E14<$AW$12,E14-$AU$12,$AW$12-$AU$12), IF(B14=$AR$23,IF(E14<$AW$13,E14-$AU$13,$AW$13-$AU$13), IF(B14=$AR$24,IF(E14<$AW$14,E14-$AU$14,$AW$14-$AU$14), IF(B14=$AR$25,IF(E14<$AW$15,E14-$AU$15,$AW$15-$AU$15), IF(B14=$AR$26,IF(E14<$AW$16,E14-F14,$AW$16-F14), ""))) ) ), "") ) ), IF(D14 = $AR$16, IF(C14 = $AR$11, IF(B14=$AR$22,IF(E14<$AY$20,E14,$AY$20), IF(B14=$AR$23,IF(E14<$AY$21,E14,$AY$21), IF(B14=$AR$24,IF(E14<$AY$22,E14,$AY$22), IF(B14=$AR$25,IF(E14<$AY$23,E14,$AY$23), IF(B14=$AR$26,IF(E14<$AY$24,E14,$AY$24), ""))))), IF(C14=$AR$12, IF(B14=$AR$22,IF(E14<$AZ$20,E14,$AZ$20), IF(B14=$AR$23,IF(E14<$AZ$21,E14,$AZ$21), IF(B14=$AR$24,IF(E14<$AZ$22,E14,$AZ$22), IF(B14=$AR$25,IF(E14<$AZ$23,E14,$AZ$23), IF(B14=$AR$26,IF(E14<$AZ$24,E14,$AZ$24), ""))))), "") ), IF(C14=$AR$11, IF(B14=$AR$22,IF(E14<$AV$20,E14-$AU$20,$AV$20-$AU$20), IF(B14=$AR$23,IF(E14<$AV$21,E14-$AU$21,$AV$21-$AU$21), IF(B14=$AR$24,IF(E14<$AV$22,E14-$AU$22,$AV$22-$AU$22), IF(B14=$AR$25,IF(E14<$AV$23,E14-$AU$23,$AV$23-$AU$23), IF(B14=$AR$26,IF(E14<$AV$24,E14-F14,$AV$24-F14), "" ) ) ) ) ), IF(C14=$AR$12, IF(B14=$AR$22,IF(E14<$AW$20,E14-$AU$20,$AW$20-$AU$20), IF(B14=$AR$23,IF(E14<$AW$21,E14-$AU$21,$AW$21-$AU$21), IF(B14=$AR$24,IF(E14<$AW$22,E14-$AU$22,$AW$22-$AU$22), IF(B14=$AR$25,IF(E14<$AW$23,E14-$AU$23,$AW$23-$AU$23), IF(B14=$AR$26,IF(E14<$AW$24,E14-F14,$AW$24-F14), ""))) ) ), "") ) ))) | S14: =IF(Q14="","", IF(Q14<0,0,Q14*R14)) | AK14: =IF(B14=$AR$22,$BB$12,IF(B14=$AR$23,$BB$13,IF(B14=$AR$24,$BB$14,IF(B14=$AR$25,$BB$15,IF(B14=$AR$26,$BB$16,0))))) -> 0 | AL14: =IF(B14=$AR$22,$BC$12,IF(B14=$AR$23,$BC$13,IF(B14=$AR$24,$BC$14,IF(B14=$AR$25,$BC$15,IF(B14=$AR$26,$BC$16,"0"))))) -> 0 | AM14: =IF(C14=$AR$12, IF(L14=$AR$2, IF(B14=$AR$22,$AV$27,IF(B14=$AR$23,$AV$28,IF(B14=$AR$24,$AV$29,IF(B14=$AR$25,$AV$30,IF(B14=$AR$26,$AV$31,0))))), IF(B14=$AR$22,$AU$27,IF(B14=$AR$23,$AU$28,IF(B14=$AR$24,$AU$29,IF(B14=$AR$25,$AU$30,IF(B14=$AR$26,$AU$31,0))))) ),0) -> 0 | AN14: =AM14*10.7*(1-K14) -> 0 | AO14: =IF(AL14="",0,IF((AL14-AN14)>0,AL14-AN14,0)) -> 0 | AP14: =AO14*R14*SUM(G14:I14) -> 0 | AQ14: =IF(COUNTBLANK(B14:E14) = 4,"", IF( AND( PRODUCT(G14,R14) > PRODUCT(H14,R14),PRODUCT(G14,R14) > PRODUCT(I14,R14)),$AR$52, IF( AND( PRODUCT(H14,R14) > PRODUCT(G14,R14),PRODUCT(H14,R14) > PRODUCT(I14,R14)),$AR$53, IF( AND( PRODUCT(I14,R14) > PRODUCT(G14,R14),PRODUCT(I14,R14) > PRODUCT(H14,R14)),$AR$54, $AR$55) ) ) ) | AR14: Technologieübergreifend | AT14: 10,6-16 m | AU14: 280000 | AV14: 525000 | AW14: 543000 | AY14: 245000 | AZ14: 263000 | BA14: 10,6-16 m | BB14: 80 | BC14: 0.936 | BE14: =IF(O14=$AR$2,R14,0) -> 0
A15: 4 | P15: =IF(OR('01_Allgemein'!$B$6="",B15="",D15=""),"", IF(B15 = $AR$26,F15, IF(D15=$AR$16,0, IF('01_Allgemein'!$B$6=$AR$2, IF(B15=$AR$22,$AU$12,IF(B15=$AR$23,$AU$13,IF(B15=$AR$24,$AU$14,$AU$15))), IF(B15=$AR$22,$AU$20,IF(B15=$AR$23,$AU$21,IF(B15=$AR$24,$AU$22,$AU$23))) ) ) ) ) | Q15: =IF(OR(P15="",C15="",E15=""),"", IF('01_Allgemein'!$B$6 = $AR$2, IF(D15 = $AR$16, IF(C15 = $AR$11, IF(B15=$AR$22,IF(E15<$AY$12,E15,$AY$12), IF(B15=$AR$23,IF(E15<$AY$13,E15,$AY$13), IF(B15=$AR$24,IF(E15<$AY$14,E15,$AY$14), IF(B15=$AR$25,IF(E15<$AY$15,E15,$AY$15), IF(B15=$AR$26,IF(E15<$AY$16,E15,$AY$16), ""))))), IF(C15=$AR$12, IF(B15=$AR$22,IF(E15<$AZ$12,E15,$AZ$12), IF(B15=$AR$23,IF(E15<$AZ$13,E15,$AZ$13), IF(B15=$AR$24,IF(E15<$AZ$14,E15,$AZ$14), IF(B15=$AR$25,IF(E15<$AZ$15,E15,$AZ$15), IF(B15=$AR$26,IF(E15<$AZ$16,E15,$AZ$16), ""))))), "") ), IF(C15=$AR$11, IF(B15=$AR$22,IF(E15<$AV$12,E15-$AU$12,$AV$12-$AU$12), IF(B15=$AR$23,IF(E15<$AV$13,E15-$AU$13,$AV$13-$AU$13), IF(B15=$AR$24,IF(E15<$AV$14,E15-$AU$14,$AV$14-$AU$14), IF(B15=$AR$25,IF(E15<$AV$15,E15-$AU$15,$AV$15-$AU$15), IF(B15=$AR$26,IF(E15<$AV$16,E15-F15,$AV$16-F15), "" ) ) ) ) ), IF(C15=$AR$12, IF(B15=$AR$22,IF(E15<$AW$12,E15-$AU$12,$AW$12-$AU$12), IF(B15=$AR$23,IF(E15<$AW$13,E15-$AU$13,$AW$13-$AU$13), IF(B15=$AR$24,IF(E15<$AW$14,E15-$AU$14,$AW$14-$AU$14), IF(B15=$AR$25,IF(E15<$AW$15,E15-$AU$15,$AW$15-$AU$15), IF(B15=$AR$26,IF(E15<$AW$16,E15-F15,$AW$16-F15), ""))) ) ), "") ) ), IF(D15 = $AR$16, IF(C15 = $AR$11, IF(B15=$AR$22,IF(E15<$AY$20,E15,$AY$20), IF(B15=$AR$23,IF(E15<$AY$21,E15,$AY$21), IF(B15=$AR$24,IF(E15<$AY$22,E15,$AY$22), IF(B15=$AR$25,IF(E15<$AY$23,E15,$AY$23), IF(B15=$AR$26,IF(E15<$AY$24,E15,$AY$24), ""))))), IF(C15=$AR$12, IF(B15=$AR$22,IF(E15<$AZ$20,E15,$AZ$20), IF(B15=$AR$23,IF(E15<$AZ$21,E15,$AZ$21), IF(B15=$AR$24,IF(E15<$AZ$22,E15,$AZ$22), IF(B15=$AR$25,IF(E15<$AZ$23,E15,$AZ$23), IF(B15=$AR$26,IF(E15<$AZ$24,E15,$AZ$24), ""))))), "") ), IF(C15=$AR$11, IF(B15=$AR$22,IF(E15<$AV$20,E15-$AU$20,$AV$20-$AU$20), IF(B15=$AR$23,IF(E15<$AV$21,E15-$AU$21,$AV$21-$AU$21), IF(B15=$AR$24,IF(E15<$AV$22,E15-$AU$22,$AV$22-$AU$22), IF(B15=$AR$25,IF(E15<$AV$23,E15-$AU$23,$AV$23-$AU$23), IF(B15=$AR$26,IF(E15<$AV$24,E15-F15,$AV$24-F15), "" ) ) ) ) ), IF(C15=$AR$12, IF(B15=$AR$22,IF(E15<$AW$20,E15-$AU$20,$AW$20-$AU$20), IF(B15=$AR$23,IF(E15<$AW$21,E15-$AU$21,$AW$21-$AU$21), IF(B15=$AR$24,IF(E15<$AW$22,E15-$AU$22,$AW$22-$AU$22), IF(B15=$AR$25,IF(E15<$AW$23,E15-$AU$23,$AW$23-$AU$23), IF(B15=$AR$26,IF(E15<$AW$24,E15-F15,$AW$24-F15), ""))) ) ), "") ) ))) | S15: =IF(Q15="","", IF(Q15<0,0,Q15*R15)) | AK15: =IF(B15=$AR$22,$BB$12,IF(B15=$AR$23,$BB$13,IF(B15=$AR$24,$BB$14,IF(B15=$AR$25,$BB$15,IF(B15=$AR$26,$BB$16,0))))) -> 0 | AL15: =IF(B15=$AR$22,$BC$12,IF(B15=$AR$23,$BC$13,IF(B15=$AR$24,$BC$14,IF(B15=$AR$25,$BC$15,IF(B15=$AR$26,$BC$16,"0"))))) -> 0 | AM15: =IF(C15=$AR$12, IF(L15=$AR$2, IF(B15=$AR$22,$AV$27,IF(B15=$AR$23,$AV$28,IF(B15=$AR$24,$AV$29,IF(B15=$AR$25,$AV$30,IF(B15=$AR$26,$AV$31,0))))), IF(B15=$AR$22,$AU$27,IF(B15=$AR$23,$AU$28,IF(B15=$AR$24,$AU$29,IF(B15=$AR$25,$AU$30,IF(B15=$AR$26,$AU$31,0))))) ),0) -> 0 | AN15: =AM15*10.7*(1-K15) -> 0 | AO15: =IF(AL15="",0,IF((AL15-AN15)>0,AL15-AN15,0)) -> 0 | AP15: =AO15*R15*SUM(G15:I15) -> 0 | AQ15: =IF(COUNTBLANK(B15:E15) = 4,"", IF( AND( PRODUCT(G15,R15) > PRODUCT(H15,R15),PRODUCT(G15,R15) > PRODUCT(I15,R15)),$AR$52, IF( AND( PRODUCT(H15,R15) > PRODUCT(G15,R15),PRODUCT(H15,R15) > PRODUCT(I15,R15)),$AR$53, IF( AND( PRODUCT(I15,R15) > PRODUCT(G15,R15),PRODUCT(I15,R15) > PRODUCT(H15,R15)),$AR$54, $AR$55) ) ) ) | AR15: Neufahrzeug | AT15: ab 16m | AU15: 370000 | AV15: 672000 | AW15: 736000 | AY15: 302000 | AZ15: 366000 | BA15: ab 16m | BB15: 120 | BC15: 1.26 | BE15: =IF(O15=$AR$2,R15,0) -> 0
A16: 5 | P16: =IF(OR('01_Allgemein'!$B$6="",B16="",D16=""),"", IF(B16 = $AR$26,F16, IF(D16=$AR$16,0, IF('01_Allgemein'!$B$6=$AR$2, IF(B16=$AR$22,$AU$12,IF(B16=$AR$23,$AU$13,IF(B16=$AR$24,$AU$14,$AU$15))), IF(B16=$AR$22,$AU$20,IF(B16=$AR$23,$AU$21,IF(B16=$AR$24,$AU$22,$AU$23))) ) ) ) ) | Q16: =IF(OR(P16="",C16="",E16=""),"", IF('01_Allgemein'!$B$6 = $AR$2, IF(D16 = $AR$16, IF(C16 = $AR$11, IF(B16=$AR$22,IF(E16<$AY$12,E16,$AY$12), IF(B16=$AR$23,IF(E16<$AY$13,E16,$AY$13), IF(B16=$AR$24,IF(E16<$AY$14,E16,$AY$14), IF(B16=$AR$25,IF(E16<$AY$15,E16,$AY$15), IF(B16=$AR$26,IF(E16<$AY$16,E16,$AY$16), ""))))), IF(C16=$AR$12, IF(B16=$AR$22,IF(E16<$AZ$12,E16,$AZ$12), IF(B16=$AR$23,IF(E16<$AZ$13,E16,$AZ$13), IF(B16=$AR$24,IF(E16<$AZ$14,E16,$AZ$14), IF(B16=$AR$25,IF(E16<$AZ$15,E16,$AZ$15), IF(B16=$AR$26,IF(E16<$AZ$16,E16,$AZ$16), ""))))), "") ), IF(C16=$AR$11, IF(B16=$AR$22,IF(E16<$AV$12,E16-$AU$12,$AV$12-$AU$12), IF(B16=$AR$23,IF(E16<$AV$13,E16-$AU$13,$AV$13-$AU$13), IF(B16=$AR$24,IF(E16<$AV$14,E16-$AU$14,$AV$14-$AU$14), IF(B16=$AR$25,IF(E16<$AV$15,E16-$AU$15,$AV$15-$AU$15), IF(B16=$AR$26,IF(E16<$AV$16,E16-F16,$AV$16-F16), "" ) ) ) ) ), IF(C16=$AR$12, IF(B16=$AR$22,IF(E16<$AW$12,E16-$AU$12,$AW$12-$AU$12), IF(B16=$AR$23,IF(E16<$AW$13,E16-$AU$13,$AW$13-$AU$13), IF(B16=$AR$24,IF(E16<$AW$14,E16-$AU$14,$AW$14-$AU$14), IF(B16=$AR$25,IF(E16<$AW$15,E16-$AU$15,$AW$15-$AU$15), IF(B16=$AR$26,IF(E16<$AW$16,E16-F16,$AW$16-F16), ""))) ) ), "") ) ), IF(D16 = $AR$16, IF(C16 = $AR$11, IF(B16=$AR$22,IF(E16<$AY$20,E16,$AY$20), IF(B16=$AR$23,IF(E16<$AY$21,E16,$AY$21), IF(B16=$AR$24,IF(E16<$AY$22,E16,$AY$22), IF(B16=$AR$25,IF(E16<$AY$23,E16,$AY$23), IF(B16=$AR$26,IF(E16<$AY$24,E16,$AY$24), ""))))), IF(C16=$AR$12, IF(B16=$AR$22,IF(E16<$AZ$20,E16,$AZ$20), IF(B16=$AR$23,IF(E16<$AZ$21,E16,$AZ$21), IF(B16=$AR$24,IF(E16<$AZ$22,E16,$AZ$22), IF(B16=$AR$25,IF(E16<$AZ$23,E16,$AZ$23), IF(B16=$AR$26,IF(E16<$AZ$24,E16,$AZ$24), ""))))), "") ), IF(C16=$AR$11, IF(B16=$AR$22,IF(E16<$AV$20,E16-$AU$20,$AV$20-$AU$20), IF(B16=$AR$23,IF(E16<$AV$21,E16-$AU$21,$AV$21-$AU$21), IF(B16=$AR$24,IF(E16<$AV$22,E16-$AU$22,$AV$22-$AU$22), IF(B16=$AR$25,IF(E16<$AV$23,E16-$AU$23,$AV$23-$AU$23), IF(B16=$AR$26,IF(E16<$AV$24,E16-F16,$AV$24-F16), "" ) ) ) ) ), IF(C16=$AR$12, IF(B16=$AR$22,IF(E16<$AW$20,E16-$AU$20,$AW$20-$AU$20), IF(B16=$AR$23,IF(E16<$AW$21,E16-$AU$21,$AW$21-$AU$21), IF(B16=$AR$24,IF(E16<$AW$22,E16-$AU$22,$AW$22-$AU$22), IF(B16=$AR$25,IF(E16<$AW$23,E16-$AU$23,$AW$23-$AU$23), IF(B16=$AR$26,IF(E16<$AW$24,E16-F16,$AW$24-F16), ""))) ) ), "") ) ))) | S16: =IF(Q16="","", IF(Q16<0,0,Q16*R16)) | AK16: =IF(B16=$AR$22,$BB$12,IF(B16=$AR$23,$BB$13,IF(B16=$AR$24,$BB$14,IF(B16=$AR$25,$BB$15,IF(B16=$AR$26,$BB$16,0))))) -> 0 | AL16: =IF(B16=$AR$22,$BC$12,IF(B16=$AR$23,$BC$13,IF(B16=$AR$24,$BC$14,IF(B16=$AR$25,$BC$15,IF(B16=$AR$26,$BC$16,"0"))))) -> 0 | AM16: =IF(C16=$AR$12, IF(L16=$AR$2, IF(B16=$AR$22,$AV$27,IF(B16=$AR$23,$AV$28,IF(B16=$AR$24,$AV$29,IF(B16=$AR$25,$AV$30,IF(B16=$AR$26,$AV$31,0))))), IF(B16=$AR$22,$AU$27,IF(B16=$AR$23,$AU$28,IF(B16=$AR$24,$AU$29,IF(B16=$AR$25,$AU$30,IF(B16=$AR$26,$AU$31,0))))) ),0) -> 0 | AN16: =AM16*10.7*(1-K16) -> 0 | AO16: =IF(AL16="",0,IF((AL16-AN16)>0,AL16-AN16,0)) -> 0 | AP16: =AO16*R16*SUM(G16:I16) -> 0 | AQ16: =IF(COUNTBLANK(B16:E16) = 4,"", IF( AND( PRODUCT(G16,R16) > PRODUCT(H16,R16),PRODUCT(G16,R16) > PRODUCT(I16,R16)),$AR$52, IF( AND( PRODUCT(H16,R16) > PRODUCT(G16,R16),PRODUCT(H16,R16) > PRODUCT(I16,R16)),$AR$53, IF( AND( PRODUCT(I16,R16) > PRODUCT(G16,R16),PRODUCT(I16,R16) > PRODUCT(H16,R16)),$AR$54, $AR$55) ) ) ) | AR16: Umrüstung | AT16: Reise- und Fernbusse | AV16: 672000 | AW16: 736000 | AY16: 302000 | AZ16: 366000 | BB16: 80 | BC16: 0.936 | BE16: =IF(O16=$AR$2,R16,0) -> 0
A17: 6 | P17: =IF(OR('01_Allgemein'!$B$6="",B17="",D17=""),"", IF(B17 = $AR$26,F17, IF(D17=$AR$16,0, IF('01_Allgemein'!$B$6=$AR$2, IF(B17=$AR$22,$AU$12,IF(B17=$AR$23,$AU$13,IF(B17=$AR$24,$AU$14,$AU$15))), IF(B17=$AR$22,$AU$20,IF(B17=$AR$23,$AU$21,IF(B17=$AR$24,$AU$22,$AU$23))) ) ) ) ) | Q17: =IF(OR(P17="",C17="",E17=""),"", IF('01_Allgemein'!$B$6 = $AR$2, IF(D17 = $AR$16, IF(C17 = $AR$11, IF(B17=$AR$22,IF(E17<$AY$12,E17,$AY$12), IF(B17=$AR$23,IF(E17<$AY$13,E17,$AY$13), IF(B17=$AR$24,IF(E17<$AY$14,E17,$AY$14), IF(B17=$AR$25,IF(E17<$AY$15,E17,$AY$15), IF(B17=$AR$26,IF(E17<$AY$16,E17,$AY$16), ""))))), IF(C17=$AR$12, IF(B17=$AR$22,IF(E17<$AZ$12,E17,$AZ$12), IF(B17=$AR$23,IF(E17<$AZ$13,E17,$AZ$13), IF(B17=$AR$24,IF(E17<$AZ$14,E17,$AZ$14), IF(B17=$AR$25,IF(E17<$AZ$15,E17,$AZ$15), IF(B17=$AR$26,IF(E17<$AZ$16,E17,$AZ$16), ""))))), "") ), IF(C17=$AR$11, IF(B17=$AR$22,IF(E17<$AV$12,E17-$AU$12,$AV$12-$AU$12), IF(B17=$AR$23,IF(E17<$AV$13,E17-$AU$13,$AV$13-$AU$13), IF(B17=$AR$24,IF(E17<$AV$14,E17-$AU$14,$AV$14-$AU$14), IF(B17=$AR$25,IF(E17<$AV$15,E17-$AU$15,$AV$15-$AU$15), IF(B17=$AR$26,IF(E17<$AV$16,E17-F17,$AV$16-F17), "" ) ) ) ) ), IF(C17=$AR$12, IF(B17=$AR$22,IF(E17<$AW$12,E17-$AU$12,$AW$12-$AU$12), IF(B17=$AR$23,IF(E17<$AW$13,E17-$AU$13,$AW$13-$AU$13), IF(B17=$AR$24,IF(E17<$AW$14,E17-$AU$14,$AW$14-$AU$14), IF(B17=$AR$25,IF(E17<$AW$15,E17-$AU$15,$AW$15-$AU$15), IF(B17=$AR$26,IF(E17<$AW$16,E17-F17,$AW$16-F17), ""))) ) ), "") ) ), IF(D17 = $AR$16, IF(C17 = $AR$11, IF(B17=$AR$22,IF(E17<$AY$20,E17,$AY$20), IF(B17=$AR$23,IF(E17<$AY$21,E17,$AY$21), IF(B17=$AR$24,IF(E17<$AY$22,E17,$AY$22), IF(B17=$AR$25,IF(E17<$AY$23,E17,$AY$23), IF(B17=$AR$26,IF(E17<$AY$24,E17,$AY$24), ""))))), IF(C17=$AR$12, IF(B17=$AR$22,IF(E17<$AZ$20,E17,$AZ$20), IF(B17=$AR$23,IF(E17<$AZ$21,E17,$AZ$21), IF(B17=$AR$24,IF(E17<$AZ$22,E17,$AZ$22), IF(B17=$AR$25,IF(E17<$AZ$23,E17,$AZ$23), IF(B17=$AR$26,IF(E17<$AZ$24,E17,$AZ$24), ""))))), "") ), IF(C17=$AR$11, IF(B17=$AR$22,IF(E17<$AV$20,E17-$AU$20,$AV$20-$AU$20), IF(B17=$AR$23,IF(E17<$AV$21,E17-$AU$21,$AV$21-$AU$21), IF(B17=$AR$24,IF(E17<$AV$22,E17-$AU$22,$AV$22-$AU$22), IF(B17=$AR$25,IF(E17<$AV$23,E17-$AU$23,$AV$23-$AU$23), IF(B17=$AR$26,IF(E17<$AV$24,E17-F17,$AV$24-F17), "" ) ) ) ) ), IF(C17=$AR$12, IF(B17=$AR$22,IF(E17<$AW$20,E17-$AU$20,$AW$20-$AU$20), IF(B17=$AR$23,IF(E17<$AW$21,E17-$AU$21,$AW$21-$AU$21), IF(B17=$AR$24,IF(E17<$AW$22,E17-$AU$22,$AW$22-$AU$22), IF(B17=$AR$25,IF(E17<$AW$23,E17-$AU$23,$AW$23-$AU$23), IF(B17=$AR$26,IF(E17<$AW$24,E17-F17,$AW$24-F17), ""))) ) ), "") ) ))) | S17: =IF(Q17="","", IF(Q17<0,0,Q17*R17)) | X17: Wenn die beantragen Busse keine Dieselbusse ersetzten (keine Substitution), erhöhen diese Busse die Gesamtflotte welche für die Berechnung der oberen Schranke genutzt wird. | AK17: =IF(B17=$AR$22,$BB$12,IF(B17=$AR$23,$BB$13,IF(B17=$AR$24,$BB$14,IF(B17=$AR$25,$BB$15,IF(B17=$AR$26,$BB$16,0))))) -> 0 | AL17: =IF(B17=$AR$22,$BC$12,IF(B17=$AR$23,$BC$13,IF(B17=$AR$24,$BC$14,IF(B17=$AR$25,$BC$15,IF(B17=$AR$26,$BC$16,"0"))))) -> 0 | AM17: =IF(C17=$AR$12, IF(L17=$AR$2, IF(B17=$AR$22,$AV$27,IF(B17=$AR$23,$AV$28,IF(B17=$AR$24,$AV$29,IF(B17=$AR$25,$AV$30,IF(B17=$AR$26,$AV$31,0))))), IF(B17=$AR$22,$AU$27,IF(B17=$AR$23,$AU$28,IF(B17=$AR$24,$AU$29,IF(B17=$AR$25,$AU$30,IF(B17=$AR$26,$AU$31,0))))) ),0) -> 0 | AN17: =AM17*10.7*(1-K17) -> 0 | AO17: =IF(AL17="",0,IF((AL17-AN17)>0,AL17-AN17,0)) -> 0 | AP17: =AO17*R17*SUM(G17:I17) -> 0 | AQ17: =IF(COUNTBLANK(B17:E17) = 4,"", IF( AND( PRODUCT(G17,R17) > PRODUCT(H17,R17),PRODUCT(G17,R17) > PRODUCT(I17,R17)),$AR$52, IF( AND( PRODUCT(H17,R17) > PRODUCT(G17,R17),PRODUCT(H17,R17) > PRODUCT(I17,R17)),$AR$53, IF( AND( PRODUCT(I17,R17) > PRODUCT(G17,R17),PRODUCT(I17,R17) > PRODUCT(H17,R17)),$AR$54, $AR$55) ) ) ) | BE17: =IF(O17=$AR$2,R17,0) -> 0
A18: 7 | P18: =IF(OR('01_Allgemein'!$B$6="",B18="",D18=""),"", IF(B18 = $AR$26,F18, IF(D18=$AR$16,0, IF('01_Allgemein'!$B$6=$AR$2, IF(B18=$AR$22,$AU$12,IF(B18=$AR$23,$AU$13,IF(B18=$AR$24,$AU$14,$AU$15))), IF(B18=$AR$22,$AU$20,IF(B18=$AR$23,$AU$21,IF(B18=$AR$24,$AU$22,$AU$23))) ) ) ) ) | Q18: =IF(OR(P18="",C18="",E18=""),"", IF('01_Allgemein'!$B$6 = $AR$2, IF(D18 = $AR$16, IF(C18 = $AR$11, IF(B18=$AR$22,IF(E18<$AY$12,E18,$AY$12), IF(B18=$AR$23,IF(E18<$AY$13,E18,$AY$13), IF(B18=$AR$24,IF(E18<$AY$14,E18,$AY$14), IF(B18=$AR$25,IF(E18<$AY$15,E18,$AY$15), IF(B18=$AR$26,IF(E18<$AY$16,E18,$AY$16), ""))))), IF(C18=$AR$12, IF(B18=$AR$22,IF(E18<$AZ$12,E18,$AZ$12), IF(B18=$AR$23,IF(E18<$AZ$13,E18,$AZ$13), IF(B18=$AR$24,IF(E18<$AZ$14,E18,$AZ$14), IF(B18=$AR$25,IF(E18<$AZ$15,E18,$AZ$15), IF(B18=$AR$26,IF(E18<$AZ$16,E18,$AZ$16), ""))))), "") ), IF(C18=$AR$11, IF(B18=$AR$22,IF(E18<$AV$12,E18-$AU$12,$AV$12-$AU$12), IF(B18=$AR$23,IF(E18<$AV$13,E18-$AU$13,$AV$13-$AU$13), IF(B18=$AR$24,IF(E18<$AV$14,E18-$AU$14,$AV$14-$AU$14), IF(B18=$AR$25,IF(E18<$AV$15,E18-$AU$15,$AV$15-$AU$15), IF(B18=$AR$26,IF(E18<$AV$16,E18-F18,$AV$16-F18), "" ) ) ) ) ), IF(C18=$AR$12, IF(B18=$AR$22,IF(E18<$AW$12,E18-$AU$12,$AW$12-$AU$12), IF(B18=$AR$23,IF(E18<$AW$13,E18-$AU$13,$AW$13-$AU$13), IF(B18=$AR$24,IF(E18<$AW$14,E18-$AU$14,$AW$14-$AU$14), IF(B18=$AR$25,IF(E18<$AW$15,E18-$AU$15,$AW$15-$AU$15), IF(B18=$AR$26,IF(E18<$AW$16,E18-F18,$AW$16-F18), ""))) ) ), "") ) ), IF(D18 = $AR$16, IF(C18 = $AR$11, IF(B18=$AR$22,IF(E18<$AY$20,E18,$AY$20), IF(B18=$AR$23,IF(E18<$AY$21,E18,$AY$21), IF(B18=$AR$24,IF(E18<$AY$22,E18,$AY$22), IF(B18=$AR$25,IF(E18<$AY$23,E18,$AY$23), IF(B18=$AR$26,IF(E18<$AY$24,E18,$AY$24), ""))))), IF(C18=$AR$12, IF(B18=$AR$22,IF(E18<$AZ$20,E18,$AZ$20), IF(B18=$AR$23,IF(E18<$AZ$21,E18,$AZ$21), IF(B18=$AR$24,IF(E18<$AZ$22,E18,$AZ$22), IF(B18=$AR$25,IF(E18<$AZ$23,E18,$AZ$23), IF(B18=$AR$26,IF(E18<$AZ$24,E18,$AZ$24), ""))))), "") ), IF(C18=$AR$11, IF(B18=$AR$22,IF(E18<$AV$20,E18-$AU$20,$AV$20-$AU$20), IF(B18=$AR$23,IF(E18<$AV$21,E18-$AU$21,$AV$21-$AU$21), IF(B18=$AR$24,IF(E18<$AV$22,E18-$AU$22,$AV$22-$AU$22), IF(B18=$AR$25,IF(E18<$AV$23,E18-$AU$23,$AV$23-$AU$23), IF(B18=$AR$26,IF(E18<$AV$24,E18-F18,$AV$24-F18), "" ) ) ) ) ), IF(C18=$AR$12, IF(B18=$AR$22,IF(E18<$AW$20,E18-$AU$20,$AW$20-$AU$20), IF(B18=$AR$23,IF(E18<$AW$21,E18-$AU$21,$AW$21-$AU$21), IF(B18=$AR$24,IF(E18<$AW$22,E18-$AU$22,$AW$22-$AU$22), IF(B18=$AR$25,IF(E18<$AW$23,E18-$AU$23,$AW$23-$AU$23), IF(B18=$AR$26,IF(E18<$AW$24,E18-F18,$AW$24-F18), ""))) ) ), "") ) ))) | S18: =IF(Q18="","", IF(Q18<0,0,Q18*R18)) | AK18: =IF(B18=$AR$22,$BB$12,IF(B18=$AR$23,$BB$13,IF(B18=$AR$24,$BB$14,IF(B18=$AR$25,$BB$15,IF(B18=$AR$26,$BB$16,0))))) -> 0 | AL18: =IF(B18=$AR$22,$BC$12,IF(B18=$AR$23,$BC$13,IF(B18=$AR$24,$BC$14,IF(B18=$AR$25,$BC$15,IF(B18=$AR$26,$BC$16,"0"))))) -> 0 | AM18: =IF(C18=$AR$12, IF(L18=$AR$2, IF(B18=$AR$22,$AV$27,IF(B18=$AR$23,$AV$28,IF(B18=$AR$24,$AV$29,IF(B18=$AR$25,$AV$30,IF(B18=$AR$26,$AV$31,0))))), IF(B18=$AR$22,$AU$27,IF(B18=$AR$23,$AU$28,IF(B18=$AR$24,$AU$29,IF(B18=$AR$25,$AU$30,IF(B18=$AR$26,$AU$31,0))))) ),0) -> 0 | AN18: =AM18*10.7*(1-K18) -> 0 | AO18: =IF(AL18="",0,IF((AL18-AN18)>0,AL18-AN18,0)) -> 0 | AP18: =AO18*R18*SUM(G18:I18) -> 0 | AQ18: =IF(COUNTBLANK(B18:E18) = 4,"", IF( AND( PRODUCT(G18,R18) > PRODUCT(H18,R18),PRODUCT(G18,R18) > PRODUCT(I18,R18)),$AR$52, IF( AND( PRODUCT(H18,R18) > PRODUCT(G18,R18),PRODUCT(H18,R18) > PRODUCT(I18,R18)),$AR$53, IF( AND( PRODUCT(I18,R18) > PRODUCT(G18,R18),PRODUCT(I18,R18) > PRODUCT(H18,R18)),$AR$54, $AR$55) ) ) ) | AR18: SORT I | AU18: Brutto | BE18: =IF(O18=$AR$2,R18,0) -> 0
A19: 8 | P19: =IF(OR('01_Allgemein'!$B$6="",B19="",D19=""),"", IF(B19 = $AR$26,F19, IF(D19=$AR$16,0, IF('01_Allgemein'!$B$6=$AR$2, IF(B19=$AR$22,$AU$12,IF(B19=$AR$23,$AU$13,IF(B19=$AR$24,$AU$14,$AU$15))), IF(B19=$AR$22,$AU$20,IF(B19=$AR$23,$AU$21,IF(B19=$AR$24,$AU$22,$AU$23))) ) ) ) ) | Q19: =IF(OR(P19="",C19="",E19=""),"", IF('01_Allgemein'!$B$6 = $AR$2, IF(D19 = $AR$16, IF(C19 = $AR$11, IF(B19=$AR$22,IF(E19<$AY$12,E19,$AY$12), IF(B19=$AR$23,IF(E19<$AY$13,E19,$AY$13), IF(B19=$AR$24,IF(E19<$AY$14,E19,$AY$14), IF(B19=$AR$25,IF(E19<$AY$15,E19,$AY$15), IF(B19=$AR$26,IF(E19<$AY$16,E19,$AY$16), ""))))), IF(C19=$AR$12, IF(B19=$AR$22,IF(E19<$AZ$12,E19,$AZ$12), IF(B19=$AR$23,IF(E19<$AZ$13,E19,$AZ$13), IF(B19=$AR$24,IF(E19<$AZ$14,E19,$AZ$14), IF(B19=$AR$25,IF(E19<$AZ$15,E19,$AZ$15), IF(B19=$AR$26,IF(E19<$AZ$16,E19,$AZ$16), ""))))), "") ), IF(C19=$AR$11, IF(B19=$AR$22,IF(E19<$AV$12,E19-$AU$12,$AV$12-$AU$12), IF(B19=$AR$23,IF(E19<$AV$13,E19-$AU$13,$AV$13-$AU$13), IF(B19=$AR$24,IF(E19<$AV$14,E19-$AU$14,$AV$14-$AU$14), IF(B19=$AR$25,IF(E19<$AV$15,E19-$AU$15,$AV$15-$AU$15), IF(B19=$AR$26,IF(E19<$AV$16,E19-F19,$AV$16-F19), "" ) ) ) ) ), IF(C19=$AR$12, IF(B19=$AR$22,IF(E19<$AW$12,E19-$AU$12,$AW$12-$AU$12), IF(B19=$AR$23,IF(E19<$AW$13,E19-$AU$13,$AW$13-$AU$13), IF(B19=$AR$24,IF(E19<$AW$14,E19-$AU$14,$AW$14-$AU$14), IF(B19=$AR$25,IF(E19<$AW$15,E19-$AU$15,$AW$15-$AU$15), IF(B19=$AR$26,IF(E19<$AW$16,E19-F19,$AW$16-F19), ""))) ) ), "") ) ), IF(D19 = $AR$16, IF(C19 = $AR$11, IF(B19=$AR$22,IF(E19<$AY$20,E19,$AY$20), IF(B19=$AR$23,IF(E19<$AY$21,E19,$AY$21), IF(B19=$AR$24,IF(E19<$AY$22,E19,$AY$22), IF(B19=$AR$25,IF(E19<$AY$23,E19,$AY$23), IF(B19=$AR$26,IF(E19<$AY$24,E19,$AY$24), ""))))), IF(C19=$AR$12, IF(B19=$AR$22,IF(E19<$AZ$20,E19,$AZ$20), IF(B19=$AR$23,IF(E19<$AZ$21,E19,$AZ$21), IF(B19=$AR$24,IF(E19<$AZ$22,E19,$AZ$22), IF(B19=$AR$25,IF(E19<$AZ$23,E19,$AZ$23), IF(B19=$AR$26,IF(E19<$AZ$24,E19,$AZ$24), ""))))), "") ), IF(C19=$AR$11, IF(B19=$AR$22,IF(E19<$AV$20,E19-$AU$20,$AV$20-$AU$20), IF(B19=$AR$23,IF(E19<$AV$21,E19-$AU$21,$AV$21-$AU$21), IF(B19=$AR$24,IF(E19<$AV$22,E19-$AU$22,$AV$22-$AU$22), IF(B19=$AR$25,IF(E19<$AV$23,E19-$AU$23,$AV$23-$AU$23), IF(B19=$AR$26,IF(E19<$AV$24,E19-F19,$AV$24-F19), "" ) ) ) ) ), IF(C19=$AR$12, IF(B19=$AR$22,IF(E19<$AW$20,E19-$AU$20,$AW$20-$AU$20), IF(B19=$AR$23,IF(E19<$AW$21,E19-$AU$21,$AW$21-$AU$21), IF(B19=$AR$24,IF(E19<$AW$22,E19-$AU$22,$AW$22-$AU$22), IF(B19=$AR$25,IF(E19<$AW$23,E19-$AU$23,$AW$23-$AU$23), IF(B19=$AR$26,IF(E19<$AW$24,E19-F19,$AW$24-F19), ""))) ) ), "") ) ))) | S19: =IF(Q19="","", IF(Q19<0,0,Q19*R19)) | U19: Technologiepfad | X19: Kategorie | AK19: =IF(B19=$AR$22,$BB$12,IF(B19=$AR$23,$BB$13,IF(B19=$AR$24,$BB$14,IF(B19=$AR$25,$BB$15,IF(B19=$AR$26,$BB$16,0))))) -> 0 | AL19: =IF(B19=$AR$22,$BC$12,IF(B19=$AR$23,$BC$13,IF(B19=$AR$24,$BC$14,IF(B19=$AR$25,$BC$15,IF(B19=$AR$26,$BC$16,"0"))))) -> 0 | AM19: =IF(C19=$AR$12, IF(L19=$AR$2, IF(B19=$AR$22,$AV$27,IF(B19=$AR$23,$AV$28,IF(B19=$AR$24,$AV$29,IF(B19=$AR$25,$AV$30,IF(B19=$AR$26,$AV$31,0))))), IF(B19=$AR$22,$AU$27,IF(B19=$AR$23,$AU$28,IF(B19=$AR$24,$AU$29,IF(B19=$AR$25,$AU$30,IF(B19=$AR$26,$AU$31,0))))) ),0) -> 0 | AN19: =AM19*10.7*(1-K19) -> 0 | AO19: =IF(AL19="",0,IF((AL19-AN19)>0,AL19-AN19,0)) -> 0 | AP19: =AO19*R19*SUM(G19:I19) -> 0 | AQ19: =IF(COUNTBLANK(B19:E19) = 4,"", IF( AND( PRODUCT(G19,R19) > PRODUCT(H19,R19),PRODUCT(G19,R19) > PRODUCT(I19,R19)),$AR$52, IF( AND( PRODUCT(H19,R19) > PRODUCT(G19,R19),PRODUCT(H19,R19) > PRODUCT(I19,R19)),$AR$53, IF( AND( PRODUCT(I19,R19) > PRODUCT(G19,R19),PRODUCT(I19,R19) > PRODUCT(H19,R19)),$AR$54, $AR$55) ) ) ) | AR19: SORT II | AU19: Diesel-referenz | AV19: Batterie | AW19: Brennstoffzelle | AX19: Gas | AY19: Batterie (Umrüstung) | AZ19: Brennstoffzelle (Umrüstung) | BE19: =IF(O19=$AR$2,R19,0) -> 0
A20: 9 | P20: =IF(OR('01_Allgemein'!$B$6="",B20="",D20=""),"", IF(B20 = $AR$26,F20, IF(D20=$AR$16,0, IF('01_Allgemein'!$B$6=$AR$2, IF(B20=$AR$22,$AU$12,IF(B20=$AR$23,$AU$13,IF(B20=$AR$24,$AU$14,$AU$15))), IF(B20=$AR$22,$AU$20,IF(B20=$AR$23,$AU$21,IF(B20=$AR$24,$AU$22,$AU$23))) ) ) ) ) | Q20: =IF(OR(P20="",C20="",E20=""),"", IF('01_Allgemein'!$B$6 = $AR$2, IF(D20 = $AR$16, IF(C20 = $AR$11, IF(B20=$AR$22,IF(E20<$AY$12,E20,$AY$12), IF(B20=$AR$23,IF(E20<$AY$13,E20,$AY$13), IF(B20=$AR$24,IF(E20<$AY$14,E20,$AY$14), IF(B20=$AR$25,IF(E20<$AY$15,E20,$AY$15), IF(B20=$AR$26,IF(E20<$AY$16,E20,$AY$16), ""))))), IF(C20=$AR$12, IF(B20=$AR$22,IF(E20<$AZ$12,E20,$AZ$12), IF(B20=$AR$23,IF(E20<$AZ$13,E20,$AZ$13), IF(B20=$AR$24,IF(E20<$AZ$14,E20,$AZ$14), IF(B20=$AR$25,IF(E20<$AZ$15,E20,$AZ$15), IF(B20=$AR$26,IF(E20<$AZ$16,E20,$AZ$16), ""))))), "") ), IF(C20=$AR$11, IF(B20=$AR$22,IF(E20<$AV$12,E20-$AU$12,$AV$12-$AU$12), IF(B20=$AR$23,IF(E20<$AV$13,E20-$AU$13,$AV$13-$AU$13), IF(B20=$AR$24,IF(E20<$AV$14,E20-$AU$14,$AV$14-$AU$14), IF(B20=$AR$25,IF(E20<$AV$15,E20-$AU$15,$AV$15-$AU$15), IF(B20=$AR$26,IF(E20<$AV$16,E20-F20,$AV$16-F20), "" ) ) ) ) ), IF(C20=$AR$12, IF(B20=$AR$22,IF(E20<$AW$12,E20-$AU$12,$AW$12-$AU$12), IF(B20=$AR$23,IF(E20<$AW$13,E20-$AU$13,$AW$13-$AU$13), IF(B20=$AR$24,IF(E20<$AW$14,E20-$AU$14,$AW$14-$AU$14), IF(B20=$AR$25,IF(E20<$AW$15,E20-$AU$15,$AW$15-$AU$15), IF(B20=$AR$26,IF(E20<$AW$16,E20-F20,$AW$16-F20), ""))) ) ), "") ) ), IF(D20 = $AR$16, IF(C20 = $AR$11, IF(B20=$AR$22,IF(E20<$AY$20,E20,$AY$20), IF(B20=$AR$23,IF(E20<$AY$21,E20,$AY$21), IF(B20=$AR$24,IF(E20<$AY$22,E20,$AY$22), IF(B20=$AR$25,IF(E20<$AY$23,E20,$AY$23), IF(B20=$AR$26,IF(E20<$AY$24,E20,$AY$24), ""))))), IF(C20=$AR$12, IF(B20=$AR$22,IF(E20<$AZ$20,E20,$AZ$20), IF(B20=$AR$23,IF(E20<$AZ$21,E20,$AZ$21), IF(B20=$AR$24,IF(E20<$AZ$22,E20,$AZ$22), IF(B20=$AR$25,IF(E20<$AZ$23,E20,$AZ$23), IF(B20=$AR$26,IF(E20<$AZ$24,E20,$AZ$24), ""))))), "") ), IF(C20=$AR$11, IF(B20=$AR$22,IF(E20<$AV$20,E20-$AU$20,$AV$20-$AU$20), IF(B20=$AR$23,IF(E20<$AV$21,E20-$AU$21,$AV$21-$AU$21), IF(B20=$AR$24,IF(E20<$AV$22,E20-$AU$22,$AV$22-$AU$22), IF(B20=$AR$25,IF(E20<$AV$23,E20-$AU$23,$AV$23-$AU$23), IF(B20=$AR$26,IF(E20<$AV$24,E20-F20,$AV$24-F20), "" ) ) ) ) ), IF(C20=$AR$12, IF(B20=$AR$22,IF(E20<$AW$20,E20-$AU$20,$AW$20-$AU$20), IF(B20=$AR$23,IF(E20<$AW$21,E20-$AU$21,$AW$21-$AU$21), IF(B20=$AR$24,IF(E20<$AW$22,E20-$AU$22,$AW$22-$AU$22), IF(B20=$AR$25,IF(E20<$AW$23,E20-$AU$23,$AW$23-$AU$23), IF(B20=$AR$26,IF(E20<$AW$24,E20-F20,$AW$24-F20), ""))) ) ), "") ) ))) | S20: =IF(Q20="","", IF(Q20<0,0,Q20*R20)) | U20: Antrag enthält | X20: Bedigung 1 | Y20: Alle emissionsfreien Busse betrachtet (Zeile 6) | AK20: =IF(B20=$AR$22,$BB$12,IF(B20=$AR$23,$BB$13,IF(B20=$AR$24,$BB$14,IF(B20=$AR$25,$BB$15,IF(B20=$AR$26,$BB$16,0))))) -> 0 | AL20: =IF(B20=$AR$22,$BC$12,IF(B20=$AR$23,$BC$13,IF(B20=$AR$24,$BC$14,IF(B20=$AR$25,$BC$15,IF(B20=$AR$26,$BC$16,"0"))))) -> 0 | AM20: =IF(C20=$AR$12, IF(L20=$AR$2, IF(B20=$AR$22,$AV$27,IF(B20=$AR$23,$AV$28,IF(B20=$AR$24,$AV$29,IF(B20=$AR$25,$AV$30,IF(B20=$AR$26,$AV$31,0))))), IF(B20=$AR$22,$AU$27,IF(B20=$AR$23,$AU$28,IF(B20=$AR$24,$AU$29,IF(B20=$AR$25,$AU$30,IF(B20=$AR$26,$AU$31,0))))) ),0) -> 0 | AN20: =AM20*10.7*(1-K20) -> 0 | AO20: =IF(AL20="",0,IF((AL20-AN20)>0,AL20-AN20,0)) -> 0 | AP20: =AO20*R20*SUM(G20:I20) -> 0 | AQ20: =IF(COUNTBLANK(B20:E20) = 4,"", IF( AND( PRODUCT(G20,R20) > PRODUCT(H20,R20),PRODUCT(G20,R20) > PRODUCT(I20,R20)),$AR$52, IF( AND( PRODUCT(H20,R20) > PRODUCT(G20,R20),PRODUCT(H20,R20) > PRODUCT(I20,R20)),$AR$53, IF( AND( PRODUCT(I20,R20) > PRODUCT(G20,R20),PRODUCT(I20,R20) > PRODUCT(H20,R20)),$AR$54, $AR$55) ) ) ) | AR20: SORT III | AT20: bis 8 m | AU20: =AU12*1.19 -> 160650 | AV20: =AV12*1.19 -> 295120 | AW20: =AW12*1.19 -> 372470 | AX20: =AX12*1.19 -> 0 | AY20: =AY12*1.19 -> 134470 | AZ20: =AZ12*1.19 -> 211820 | BE20: =IF(O20=$AR$2,R20,0) -> 0
A21: 10 | P21: =IF(OR('01_Allgemein'!$B$6="",B21="",D21=""),"", IF(B21 = $AR$26,F21, IF(D21=$AR$16,0, IF('01_Allgemein'!$B$6=$AR$2, IF(B21=$AR$22,$AU$12,IF(B21=$AR$23,$AU$13,IF(B21=$AR$24,$AU$14,$AU$15))), IF(B21=$AR$22,$AU$20,IF(B21=$AR$23,$AU$21,IF(B21=$AR$24,$AU$22,$AU$23))) ) ) ) ) | Q21: =IF(OR(P21="",C21="",E21=""),"", IF('01_Allgemein'!$B$6 = $AR$2, IF(D21 = $AR$16, IF(C21 = $AR$11, IF(B21=$AR$22,IF(E21<$AY$12,E21,$AY$12), IF(B21=$AR$23,IF(E21<$AY$13,E21,$AY$13), IF(B21=$AR$24,IF(E21<$AY$14,E21,$AY$14), IF(B21=$AR$25,IF(E21<$AY$15,E21,$AY$15), IF(B21=$AR$26,IF(E21<$AY$16,E21,$AY$16), ""))))), IF(C21=$AR$12, IF(B21=$AR$22,IF(E21<$AZ$12,E21,$AZ$12), IF(B21=$AR$23,IF(E21<$AZ$13,E21,$AZ$13), IF(B21=$AR$24,IF(E21<$AZ$14,E21,$AZ$14), IF(B21=$AR$25,IF(E21<$AZ$15,E21,$AZ$15), IF(B21=$AR$26,IF(E21<$AZ$16,E21,$AZ$16), ""))))), "") ), IF(C21=$AR$11, IF(B21=$AR$22,IF(E21<$AV$12,E21-$AU$12,$AV$12-$AU$12), IF(B21=$AR$23,IF(E21<$AV$13,E21-$AU$13,$AV$13-$AU$13), IF(B21=$AR$24,IF(E21<$AV$14,E21-$AU$14,$AV$14-$AU$14), IF(B21=$AR$25,IF(E21<$AV$15,E21-$AU$15,$AV$15-$AU$15), IF(B21=$AR$26,IF(E21<$AV$16,E21-F21,$AV$16-F21), "" ) ) ) ) ), IF(C21=$AR$12, IF(B21=$AR$22,IF(E21<$AW$12,E21-$AU$12,$AW$12-$AU$12), IF(B21=$AR$23,IF(E21<$AW$13,E21-$AU$13,$AW$13-$AU$13), IF(B21=$AR$24,IF(E21<$AW$14,E21-$AU$14,$AW$14-$AU$14), IF(B21=$AR$25,IF(E21<$AW$15,E21-$AU$15,$AW$15-$AU$15), IF(B21=$AR$26,IF(E21<$AW$16,E21-F21,$AW$16-F21), ""))) ) ), "") ) ), IF(D21 = $AR$16, IF(C21 = $AR$11, IF(B21=$AR$22,IF(E21<$AY$20,E21,$AY$20), IF(B21=$AR$23,IF(E21<$AY$21,E21,$AY$21), IF(B21=$AR$24,IF(E21<$AY$22,E21,$AY$22), IF(B21=$AR$25,IF(E21<$AY$23,E21,$AY$23), IF(B21=$AR$26,IF(E21<$AY$24,E21,$AY$24), ""))))), IF(C21=$AR$12, IF(B21=$AR$22,IF(E21<$AZ$20,E21,$AZ$20), IF(B21=$AR$23,IF(E21<$AZ$21,E21,$AZ$21), IF(B21=$AR$24,IF(E21<$AZ$22,E21,$AZ$22), IF(B21=$AR$25,IF(E21<$AZ$23,E21,$AZ$23), IF(B21=$AR$26,IF(E21<$AZ$24,E21,$AZ$24), ""))))), "") ), IF(C21=$AR$11, IF(B21=$AR$22,IF(E21<$AV$20,E21-$AU$20,$AV$20-$AU$20), IF(B21=$AR$23,IF(E21<$AV$21,E21-$AU$21,$AV$21-$AU$21), IF(B21=$AR$24,IF(E21<$AV$22,E21-$AU$22,$AV$22-$AU$22), IF(B21=$AR$25,IF(E21<$AV$23,E21-$AU$23,$AV$23-$AU$23), IF(B21=$AR$26,IF(E21<$AV$24,E21-F21,$AV$24-F21), "" ) ) ) ) ), IF(C21=$AR$12, IF(B21=$AR$22,IF(E21<$AW$20,E21-$AU$20,$AW$20-$AU$20), IF(B21=$AR$23,IF(E21<$AW$21,E21-$AU$21,$AW$21-$AU$21), IF(B21=$AR$24,IF(E21<$AW$22,E21-$AU$22,$AW$22-$AU$22), IF(B21=$AR$25,IF(E21<$AW$23,E21-$AU$23,$AW$23-$AU$23), IF(B21=$AR$26,IF(E21<$AW$24,E21-F21,$AW$24-F21), ""))) ) ), "") ) ))) | S21: =IF(Q21="","", IF(Q21<0,0,Q21*R21)) | U21: Batterie | V21: =COUNTIF(C12:C31,"*"&AR11&"*")>0 -> FALSE | X21: Bedigung 2 | Y21: Alle emissionsfreien Busse betrachtet (Zeile 6) | AK21: =IF(B21=$AR$22,$BB$12,IF(B21=$AR$23,$BB$13,IF(B21=$AR$24,$BB$14,IF(B21=$AR$25,$BB$15,IF(B21=$AR$26,$BB$16,0))))) -> 0 | AL21: =IF(B21=$AR$22,$BC$12,IF(B21=$AR$23,$BC$13,IF(B21=$AR$24,$BC$14,IF(B21=$AR$25,$BC$15,IF(B21=$AR$26,$BC$16,"0"))))) -> 0 | AM21: =IF(C21=$AR$12, IF(L21=$AR$2, IF(B21=$AR$22,$AV$27,IF(B21=$AR$23,$AV$28,IF(B21=$AR$24,$AV$29,IF(B21=$AR$25,$AV$30,IF(B21=$AR$26,$AV$31,0))))), IF(B21=$AR$22,$AU$27,IF(B21=$AR$23,$AU$28,IF(B21=$AR$24,$AU$29,IF(B21=$AR$25,$AU$30,IF(B21=$AR$26,$AU$31,0))))) ),0) -> 0 | AN21: =AM21*10.7*(1-K21) -> 0 | AO21: =IF(AL21="",0,IF((AL21-AN21)>0,AL21-AN21,0)) -> 0 | AP21: =AO21*R21*SUM(G21:I21) -> 0 | AQ21: =IF(COUNTBLANK(B21:E21) = 4,"", IF( AND( PRODUCT(G21,R21) > PRODUCT(H21,R21),PRODUCT(G21,R21) > PRODUCT(I21,R21)),$AR$52, IF( AND( PRODUCT(H21,R21) > PRODUCT(G21,R21),PRODUCT(H21,R21) > PRODUCT(I21,R21)),$AR$53, IF( AND( PRODUCT(I21,R21) > PRODUCT(G21,R21),PRODUCT(I21,R21) > PRODUCT(H21,R21)),$AR$54, $AR$55) ) ) ) | AT21: 8-10,6 m | AU21: =AU13*1.19 -> 297500 | AV21: =AV13*1.19 -> 492660 | AW21: =AW13*1.19 -> 602140 | AX21: =AX13*1.19 -> 0 | AY21: =AY13*1.19 -> 195160 | AZ21: =AZ13*1.19 -> 304640 | BE21: =IF(O21=$AR$2,R21,0) -> 0
A22: 11 | P22: =IF(OR('01_Allgemein'!$B$6="",B22="",D22=""),"", IF(B22 = $AR$26,F22, IF(D22=$AR$16,0, IF('01_Allgemein'!$B$6=$AR$2, IF(B22=$AR$22,$AU$12,IF(B22=$AR$23,$AU$13,IF(B22=$AR$24,$AU$14,$AU$15))), IF(B22=$AR$22,$AU$20,IF(B22=$AR$23,$AU$21,IF(B22=$AR$24,$AU$22,$AU$23))) ) ) ) ) | Q22: =IF(OR(P22="",C22="",E22=""),"", IF('01_Allgemein'!$B$6 = $AR$2, IF(D22 = $AR$16, IF(C22 = $AR$11, IF(B22=$AR$22,IF(E22<$AY$12,E22,$AY$12), IF(B22=$AR$23,IF(E22<$AY$13,E22,$AY$13), IF(B22=$AR$24,IF(E22<$AY$14,E22,$AY$14), IF(B22=$AR$25,IF(E22<$AY$15,E22,$AY$15), IF(B22=$AR$26,IF(E22<$AY$16,E22,$AY$16), ""))))), IF(C22=$AR$12, IF(B22=$AR$22,IF(E22<$AZ$12,E22,$AZ$12), IF(B22=$AR$23,IF(E22<$AZ$13,E22,$AZ$13), IF(B22=$AR$24,IF(E22<$AZ$14,E22,$AZ$14), IF(B22=$AR$25,IF(E22<$AZ$15,E22,$AZ$15), IF(B22=$AR$26,IF(E22<$AZ$16,E22,$AZ$16), ""))))), "") ), IF(C22=$AR$11, IF(B22=$AR$22,IF(E22<$AV$12,E22-$AU$12,$AV$12-$AU$12), IF(B22=$AR$23,IF(E22<$AV$13,E22-$AU$13,$AV$13-$AU$13), IF(B22=$AR$24,IF(E22<$AV$14,E22-$AU$14,$AV$14-$AU$14), IF(B22=$AR$25,IF(E22<$AV$15,E22-$AU$15,$AV$15-$AU$15), IF(B22=$AR$26,IF(E22<$AV$16,E22-F22,$AV$16-F22), "" ) ) ) ) ), IF(C22=$AR$12, IF(B22=$AR$22,IF(E22<$AW$12,E22-$AU$12,$AW$12-$AU$12), IF(B22=$AR$23,IF(E22<$AW$13,E22-$AU$13,$AW$13-$AU$13), IF(B22=$AR$24,IF(E22<$AW$14,E22-$AU$14,$AW$14-$AU$14), IF(B22=$AR$25,IF(E22<$AW$15,E22-$AU$15,$AW$15-$AU$15), IF(B22=$AR$26,IF(E22<$AW$16,E22-F22,$AW$16-F22), ""))) ) ), "") ) ), IF(D22 = $AR$16, IF(C22 = $AR$11, IF(B22=$AR$22,IF(E22<$AY$20,E22,$AY$20), IF(B22=$AR$23,IF(E22<$AY$21,E22,$AY$21), IF(B22=$AR$24,IF(E22<$AY$22,E22,$AY$22), IF(B22=$AR$25,IF(E22<$AY$23,E22,$AY$23), IF(B22=$AR$26,IF(E22<$AY$24,E22,$AY$24), ""))))), IF(C22=$AR$12, IF(B22=$AR$22,IF(E22<$AZ$20,E22,$AZ$20), IF(B22=$AR$23,IF(E22<$AZ$21,E22,$AZ$21), IF(B22=$AR$24,IF(E22<$AZ$22,E22,$AZ$22), IF(B22=$AR$25,IF(E22<$AZ$23,E22,$AZ$23), IF(B22=$AR$26,IF(E22<$AZ$24,E22,$AZ$24), ""))))), "") ), IF(C22=$AR$11, IF(B22=$AR$22,IF(E22<$AV$20,E22-$AU$20,$AV$20-$AU$20), IF(B22=$AR$23,IF(E22<$AV$21,E22-$AU$21,$AV$21-$AU$21), IF(B22=$AR$24,IF(E22<$AV$22,E22-$AU$22,$AV$22-$AU$22), IF(B22=$AR$25,IF(E22<$AV$23,E22-$AU$23,$AV$23-$AU$23), IF(B22=$AR$26,IF(E22<$AV$24,E22-F22,$AV$24-F22), "" ) ) ) ) ), IF(C22=$AR$12, IF(B22=$AR$22,IF(E22<$AW$20,E22-$AU$20,$AW$20-$AU$20), IF(B22=$AR$23,IF(E22<$AW$21,E22-$AU$21,$AW$21-$AU$21), IF(B22=$AR$24,IF(E22<$AW$22,E22-$AU$22,$AW$22-$AU$22), IF(B22=$AR$25,IF(E22<$AW$23,E22-$AU$23,$AW$23-$AU$23), IF(B22=$AR$26,IF(E22<$AW$24,E22-F22,$AW$24-F22), ""))) ) ), "") ) ))) | S22: =IF(Q22="","", IF(Q22<0,0,Q22*R22)) | U22: Brennstoffzelle | V22: =COUNTIF(C12:C31,"*"&AR12&"*")>0 -> FALSE | AK22: =IF(B22=$AR$22,$BB$12,IF(B22=$AR$23,$BB$13,IF(B22=$AR$24,$BB$14,IF(B22=$AR$25,$BB$15,IF(B22=$AR$26,$BB$16,0))))) -> 0 | AL22: =IF(B22=$AR$22,$BC$12,IF(B22=$AR$23,$BC$13,IF(B22=$AR$24,$BC$14,IF(B22=$AR$25,$BC$15,IF(B22=$AR$26,$BC$16,"0"))))) -> 0 | AM22: =IF(C22=$AR$12, IF(L22=$AR$2, IF(B22=$AR$22,$AV$27,IF(B22=$AR$23,$AV$28,IF(B22=$AR$24,$AV$29,IF(B22=$AR$25,$AV$30,IF(B22=$AR$26,$AV$31,0))))), IF(B22=$AR$22,$AU$27,IF(B22=$AR$23,$AU$28,IF(B22=$AR$24,$AU$29,IF(B22=$AR$25,$AU$30,IF(B22=$AR$26,$AU$31,0))))) ),0) -> 0 | AN22: =AM22*10.7*(1-K22) -> 0 | AO22: =IF(AL22="",0,IF((AL22-AN22)>0,AL22-AN22,0)) -> 0 | AP22: =AO22*R22*SUM(G22:I22) -> 0 | AQ22: =IF(COUNTBLANK(B22:E22) = 4,"", IF( AND( PRODUCT(G22,R22) > PRODUCT(H22,R22),PRODUCT(G22,R22) > PRODUCT(I22,R22)),$AR$52, IF( AND( PRODUCT(H22,R22) > PRODUCT(G22,R22),PRODUCT(H22,R22) > PRODUCT(I22,R22)),$AR$53, IF( AND( PRODUCT(I22,R22) > PRODUCT(G22,R22),PRODUCT(I22,R22) > PRODUCT(H22,R22)),$AR$54, $AR$55) ) ) ) | AR22: bis 8m | AT22: 10,6-16 m | AU22: =AU14*1.19 -> 333200 | AV22: =AV14*1.19 -> 624750 | AW22: =AW14*1.19 -> 646170 | AX22: =AX14*1.19 -> 0 | AY22: =AY14*1.19 -> 291550 | AZ22: =AZ14*1.19 -> 312970 | BE22: =IF(O22=$AR$2,R22,0) -> 0
A23: 12 | P23: =IF(OR('01_Allgemein'!$B$6="",B23="",D23=""),"", IF(B23 = $AR$26,F23, IF(D23=$AR$16,0, IF('01_Allgemein'!$B$6=$AR$2, IF(B23=$AR$22,$AU$12,IF(B23=$AR$23,$AU$13,IF(B23=$AR$24,$AU$14,$AU$15))), IF(B23=$AR$22,$AU$20,IF(B23=$AR$23,$AU$21,IF(B23=$AR$24,$AU$22,$AU$23))) ) ) ) ) | Q23: =IF(OR(P23="",C23="",E23=""),"", IF('01_Allgemein'!$B$6 = $AR$2, IF(D23 = $AR$16, IF(C23 = $AR$11, IF(B23=$AR$22,IF(E23<$AY$12,E23,$AY$12), IF(B23=$AR$23,IF(E23<$AY$13,E23,$AY$13), IF(B23=$AR$24,IF(E23<$AY$14,E23,$AY$14), IF(B23=$AR$25,IF(E23<$AY$15,E23,$AY$15), IF(B23=$AR$26,IF(E23<$AY$16,E23,$AY$16), ""))))), IF(C23=$AR$12, IF(B23=$AR$22,IF(E23<$AZ$12,E23,$AZ$12), IF(B23=$AR$23,IF(E23<$AZ$13,E23,$AZ$13), IF(B23=$AR$24,IF(E23<$AZ$14,E23,$AZ$14), IF(B23=$AR$25,IF(E23<$AZ$15,E23,$AZ$15), IF(B23=$AR$26,IF(E23<$AZ$16,E23,$AZ$16), ""))))), "") ), IF(C23=$AR$11, IF(B23=$AR$22,IF(E23<$AV$12,E23-$AU$12,$AV$12-$AU$12), IF(B23=$AR$23,IF(E23<$AV$13,E23-$AU$13,$AV$13-$AU$13), IF(B23=$AR$24,IF(E23<$AV$14,E23-$AU$14,$AV$14-$AU$14), IF(B23=$AR$25,IF(E23<$AV$15,E23-$AU$15,$AV$15-$AU$15), IF(B23=$AR$26,IF(E23<$AV$16,E23-F23,$AV$16-F23), "" ) ) ) ) ), IF(C23=$AR$12, IF(B23=$AR$22,IF(E23<$AW$12,E23-$AU$12,$AW$12-$AU$12), IF(B23=$AR$23,IF(E23<$AW$13,E23-$AU$13,$AW$13-$AU$13), IF(B23=$AR$24,IF(E23<$AW$14,E23-$AU$14,$AW$14-$AU$14), IF(B23=$AR$25,IF(E23<$AW$15,E23-$AU$15,$AW$15-$AU$15), IF(B23=$AR$26,IF(E23<$AW$16,E23-F23,$AW$16-F23), ""))) ) ), "") ) ), IF(D23 = $AR$16, IF(C23 = $AR$11, IF(B23=$AR$22,IF(E23<$AY$20,E23,$AY$20), IF(B23=$AR$23,IF(E23<$AY$21,E23,$AY$21), IF(B23=$AR$24,IF(E23<$AY$22,E23,$AY$22), IF(B23=$AR$25,IF(E23<$AY$23,E23,$AY$23), IF(B23=$AR$26,IF(E23<$AY$24,E23,$AY$24), ""))))), IF(C23=$AR$12, IF(B23=$AR$22,IF(E23<$AZ$20,E23,$AZ$20), IF(B23=$AR$23,IF(E23<$AZ$21,E23,$AZ$21), IF(B23=$AR$24,IF(E23<$AZ$22,E23,$AZ$22), IF(B23=$AR$25,IF(E23<$AZ$23,E23,$AZ$23), IF(B23=$AR$26,IF(E23<$AZ$24,E23,$AZ$24), ""))))), "") ), IF(C23=$AR$11, IF(B23=$AR$22,IF(E23<$AV$20,E23-$AU$20,$AV$20-$AU$20), IF(B23=$AR$23,IF(E23<$AV$21,E23-$AU$21,$AV$21-$AU$21), IF(B23=$AR$24,IF(E23<$AV$22,E23-$AU$22,$AV$22-$AU$22), IF(B23=$AR$25,IF(E23<$AV$23,E23-$AU$23,$AV$23-$AU$23), IF(B23=$AR$26,IF(E23<$AV$24,E23-F23,$AV$24-F23), "" ) ) ) ) ), IF(C23=$AR$12, IF(B23=$AR$22,IF(E23<$AW$20,E23-$AU$20,$AW$20-$AU$20), IF(B23=$AR$23,IF(E23<$AW$21,E23-$AU$21,$AW$21-$AU$21), IF(B23=$AR$24,IF(E23<$AW$22,E23-$AU$22,$AW$22-$AU$22), IF(B23=$AR$25,IF(E23<$AW$23,E23-$AU$23,$AW$23-$AU$23), IF(B23=$AR$26,IF(E23<$AW$24,E23-F23,$AW$24-F23), ""))) ) ), "") ) ))) | S23: =IF(Q23="","", IF(Q23<0,0,Q23*R23)) | X23: Grenzen | AK23: =IF(B23=$AR$22,$BB$12,IF(B23=$AR$23,$BB$13,IF(B23=$AR$24,$BB$14,IF(B23=$AR$25,$BB$15,IF(B23=$AR$26,$BB$16,0))))) -> 0 | AL23: =IF(B23=$AR$22,$BC$12,IF(B23=$AR$23,$BC$13,IF(B23=$AR$24,$BC$14,IF(B23=$AR$25,$BC$15,IF(B23=$AR$26,$BC$16,"0"))))) -> 0 | AM23: =IF(C23=$AR$12, IF(L23=$AR$2, IF(B23=$AR$22,$AV$27,IF(B23=$AR$23,$AV$28,IF(B23=$AR$24,$AV$29,IF(B23=$AR$25,$AV$30,IF(B23=$AR$26,$AV$31,0))))), IF(B23=$AR$22,$AU$27,IF(B23=$AR$23,$AU$28,IF(B23=$AR$24,$AU$29,IF(B23=$AR$25,$AU$30,IF(B23=$AR$26,$AU$31,0))))) ),0) -> 0 | AN23: =AM23*10.7*(1-K23) -> 0 | AO23: =IF(AL23="",0,IF((AL23-AN23)>0,AL23-AN23,0)) -> 0 | AP23: =AO23*R23*SUM(G23:I23) -> 0 | AQ23: =IF(COUNTBLANK(B23:E23) = 4,"", IF( AND( PRODUCT(G23,R23) > PRODUCT(H23,R23),PRODUCT(G23,R23) > PRODUCT(I23,R23)),$AR$52, IF( AND( PRODUCT(H23,R23) > PRODUCT(G23,R23),PRODUCT(H23,R23) > PRODUCT(I23,R23)),$AR$53, IF( AND( PRODUCT(I23,R23) > PRODUCT(G23,R23),PRODUCT(I23,R23) > PRODUCT(H23,R23)),$AR$54, $AR$55) ) ) ) | AR23: größer 8m bis 10,6m | AT23: ab 16m | AU23: =AU15*1.19 -> 440300 | AV23: =AV15*1.19 -> 799680 | AW23: =AW15*1.19 -> 875840 | AX23: =AX15*1.19 -> 0 | AY23: =AY15*1.19 -> 359380 | AZ23: =AZ15*1.19 -> 435540 | BE23: =IF(O23=$AR$2,R23,0) -> 0
A24: 13 | P24: =IF(OR('01_Allgemein'!$B$6="",B24="",D24=""),"", IF(B24 = $AR$26,F24, IF(D24=$AR$16,0, IF('01_Allgemein'!$B$6=$AR$2, IF(B24=$AR$22,$AU$12,IF(B24=$AR$23,$AU$13,IF(B24=$AR$24,$AU$14,$AU$15))), IF(B24=$AR$22,$AU$20,IF(B24=$AR$23,$AU$21,IF(B24=$AR$24,$AU$22,$AU$23))) ) ) ) ) | Q24: =IF(OR(P24="",C24="",E24=""),"", IF('01_Allgemein'!$B$6 = $AR$2, IF(D24 = $AR$16, IF(C24 = $AR$11, IF(B24=$AR$22,IF(E24<$AY$12,E24,$AY$12), IF(B24=$AR$23,IF(E24<$AY$13,E24,$AY$13), IF(B24=$AR$24,IF(E24<$AY$14,E24,$AY$14), IF(B24=$AR$25,IF(E24<$AY$15,E24,$AY$15), IF(B24=$AR$26,IF(E24<$AY$16,E24,$AY$16), ""))))), IF(C24=$AR$12, IF(B24=$AR$22,IF(E24<$AZ$12,E24,$AZ$12), IF(B24=$AR$23,IF(E24<$AZ$13,E24,$AZ$13), IF(B24=$AR$24,IF(E24<$AZ$14,E24,$AZ$14), IF(B24=$AR$25,IF(E24<$AZ$15,E24,$AZ$15), IF(B24=$AR$26,IF(E24<$AZ$16,E24,$AZ$16), ""))))), "") ), IF(C24=$AR$11, IF(B24=$AR$22,IF(E24<$AV$12,E24-$AU$12,$AV$12-$AU$12), IF(B24=$AR$23,IF(E24<$AV$13,E24-$AU$13,$AV$13-$AU$13), IF(B24=$AR$24,IF(E24<$AV$14,E24-$AU$14,$AV$14-$AU$14), IF(B24=$AR$25,IF(E24<$AV$15,E24-$AU$15,$AV$15-$AU$15), IF(B24=$AR$26,IF(E24<$AV$16,E24-F24,$AV$16-F24), "" ) ) ) ) ), IF(C24=$AR$12, IF(B24=$AR$22,IF(E24<$AW$12,E24-$AU$12,$AW$12-$AU$12), IF(B24=$AR$23,IF(E24<$AW$13,E24-$AU$13,$AW$13-$AU$13), IF(B24=$AR$24,IF(E24<$AW$14,E24-$AU$14,$AW$14-$AU$14), IF(B24=$AR$25,IF(E24<$AW$15,E24-$AU$15,$AW$15-$AU$15), IF(B24=$AR$26,IF(E24<$AW$16,E24-F24,$AW$16-F24), ""))) ) ), "") ) ), IF(D24 = $AR$16, IF(C24 = $AR$11, IF(B24=$AR$22,IF(E24<$AY$20,E24,$AY$20), IF(B24=$AR$23,IF(E24<$AY$21,E24,$AY$21), IF(B24=$AR$24,IF(E24<$AY$22,E24,$AY$22), IF(B24=$AR$25,IF(E24<$AY$23,E24,$AY$23), IF(B24=$AR$26,IF(E24<$AY$24,E24,$AY$24), ""))))), IF(C24=$AR$12, IF(B24=$AR$22,IF(E24<$AZ$20,E24,$AZ$20), IF(B24=$AR$23,IF(E24<$AZ$21,E24,$AZ$21), IF(B24=$AR$24,IF(E24<$AZ$22,E24,$AZ$22), IF(B24=$AR$25,IF(E24<$AZ$23,E24,$AZ$23), IF(B24=$AR$26,IF(E24<$AZ$24,E24,$AZ$24), ""))))), "") ), IF(C24=$AR$11, IF(B24=$AR$22,IF(E24<$AV$20,E24-$AU$20,$AV$20-$AU$20), IF(B24=$AR$23,IF(E24<$AV$21,E24-$AU$21,$AV$21-$AU$21), IF(B24=$AR$24,IF(E24<$AV$22,E24-$AU$22,$AV$22-$AU$22), IF(B24=$AR$25,IF(E24<$AV$23,E24-$AU$23,$AV$23-$AU$23), IF(B24=$AR$26,IF(E24<$AV$24,E24-F24,$AV$24-F24), "" ) ) ) ) ), IF(C24=$AR$12, IF(B24=$AR$22,IF(E24<$AW$20,E24-$AU$20,$AW$20-$AU$20), IF(B24=$AR$23,IF(E24<$AW$21,E24-$AU$21,$AW$21-$AU$21), IF(B24=$AR$24,IF(E24<$AW$22,E24-$AU$22,$AW$22-$AU$22), IF(B24=$AR$25,IF(E24<$AW$23,E24-$AU$23,$AW$23-$AU$23), IF(B24=$AR$26,IF(E24<$AW$24,E24-F24,$AW$24-F24), ""))) ) ), "") ) ))) | S24: =IF(Q24="","", IF(Q24<0,0,Q24*R24)) | V24: Untergrenze 1 | W24: Kat1 | X24: 0 | AK24: =IF(B24=$AR$22,$BB$12,IF(B24=$AR$23,$BB$13,IF(B24=$AR$24,$BB$14,IF(B24=$AR$25,$BB$15,IF(B24=$AR$26,$BB$16,0))))) -> 0 | AL24: =IF(B24=$AR$22,$BC$12,IF(B24=$AR$23,$BC$13,IF(B24=$AR$24,$BC$14,IF(B24=$AR$25,$BC$15,IF(B24=$AR$26,$BC$16,"0"))))) -> 0 | AM24: =IF(C24=$AR$12, IF(L24=$AR$2, IF(B24=$AR$22,$AV$27,IF(B24=$AR$23,$AV$28,IF(B24=$AR$24,$AV$29,IF(B24=$AR$25,$AV$30,IF(B24=$AR$26,$AV$31,0))))), IF(B24=$AR$22,$AU$27,IF(B24=$AR$23,$AU$28,IF(B24=$AR$24,$AU$29,IF(B24=$AR$25,$AU$30,IF(B24=$AR$26,$AU$31,0))))) ),0) -> 0 | AN24: =AM24*10.7*(1-K24) -> 0 | AO24: =IF(AL24="",0,IF((AL24-AN24)>0,AL24-AN24,0)) -> 0 | AP24: =AO24*R24*SUM(G24:I24) -> 0 | AQ24: =IF(COUNTBLANK(B24:E24) = 4,"", IF( AND( PRODUCT(G24,R24) > PRODUCT(H24,R24),PRODUCT(G24,R24) > PRODUCT(I24,R24)),$AR$52, IF( AND( PRODUCT(H24,R24) > PRODUCT(G24,R24),PRODUCT(H24,R24) > PRODUCT(I24,R24)),$AR$53, IF( AND( PRODUCT(I24,R24) > PRODUCT(G24,R24),PRODUCT(I24,R24) > PRODUCT(H24,R24)),$AR$54, $AR$55) ) ) ) | AR24: größer 10,6m bis 16m | AT24: Reise- und Fernbusse | AV24: 868700 | AW24: 952000 | AY24: 487900 | AZ24: 571200 | BE24: =IF(O24=$AR$2,R24,0) -> 0
