Workbook
Name Fahrzeugtypen: 'Referenzwerte und Vorgaben'!$A$2:$A$7

Sheet Erläuterungen (unbedingt lesen)
B2: Allgemeines: | D2: Beispiel:
B4: Dieses Excel-Tool unterstützt Sie bei der Vorbereitung Ihres Förderantrags und ermöglicht eine erste Einschätzung, ob Ihr Vorhaben (speziell die Varianten 1,2 und 3) grundsätzlich förderfähig sein könnte. Bitte beachten Sie, dass alle Ergebnisse unverbindlich sind und eine endgültige Prüfung ausschließlich nach Einreichung des Antrags erfolgt. Beachten Sie bitte auch die Checkliste, die Ihnen auf der Internetseite des Projektträgers zur Verfügung gestellt wird.
B6: Tragen Sie alle erforderlichen Informationen in die gelb markierten Felder ein.
B8: Im Tabellenblatt "1_HRS Tankstelle Auswertung" geben Sie die geplante Tageskapazität Ihrer Wasserstofftankstelle, den gewünschten Förderbetrag sowie die CAPEX an. Direkt unter Ihren Eingaben erhalten Sie eine automatisierte Einschätzung, ob die Kombination aus Tankstelle und Fahrzeugflotte grundsätzlich förderfähig sein könnte.
B10: Im Tabellenblatt "2_Fahrzeugflotte Vehicles" erfassen Sie Ihre Fahrzeuge. Für jedes Fahrzeug wählen Sie die Fahrzeugklasse aus und geben an, ob es sich um ein Neu- oder Bestandsfahrzeug handelt. Außerdem tragen Sie den Referenzpreis eines vergleichbaren Dieselfahrzeugs, den Preis des Wasserstofffahrzeugs sowie den gewünschten Förderbetrag ein. Tragen sie bei Bestandsfahrzeugen für diese Felder unbedingt 0 Euro ein (sonst taucht eine Fehlermeldung auf). Bitte füllen Sie für jedes Fahrzeug alle Felder vollständig aus und achten Sie darauf, dass das Tool jedes Fahrzeug als gültig anzeigt.
B11: Sonderfahrzeuge werden in diesem Tool nicht erfasst.
B13: Bei der Förderung gelten bestimmte Kriterien:
B15: Für die Tankstelle können maximal 4.000.000 Euro und für die Fahrzeuge insgesamt maximal 3.000.000 Euro beantragt werden.
B17: Der Förderbetrag für die Tankstelle darf höchstens 50 Prozent der zuwendungsfähigen Investitionsausgaben betragen.
B19: Für die Fahrzeuge darf der beantragte Förderbetrag weder den Maximalbetrag der jeweiligen Fahrzeugklasse (einsehbar im Tabellenblatt "Referenzwerte und Vorgaben") überschreiten noch mehr als 80 Prozent der Differenz zwischen Diesel-Referenzpreis und dem Preis des Wasserstofffahrzeugs betragen. Außerdem muss der gesamte Wasserstoffbedarf Ihrer Fahrzeugflotte zwischen 10 und 15 Prozent der Tageskapazität der Tankstelle liegen.
B21: Der Bedarf aller Neufahrzeuge wird vollständig angerechnet, während der Bedarf von Bestandsfahrzeugen nur berücksichtigt wird, wenn die Neufahrzeuge den Mindestbedarf nicht erreichen.
B23: Die Tageskapazität der Tankstelle muss mindestens eine Tonne betragen.

Sheet 1_HRS Tankstelle Auswertung
B3: 1. HRS
B5: Parameter | D5: Wert
B6: Neugeschaffene Tankkapazität durch Neubau oder Ausbau der HRS: C in kg/Tag
B7: Bestehende Tankkapazität ohne Neubau der HRS: C0 in kg/Tag
B8: Beantragter Förderbetrag x in Euro
B9: CAPEX (Gesamtkosten) der HRS (Neubau, Ausbau) in Euro
B12: 3. Auswertung Gültigkeit des Antrags
B14: Parameter | C14: Angaben | E14: Wert
B15: Kapazität Tankstelle kg/Tag (C+C0) | C15: Wie hoch ist die Tageskapazität der Tankstelle in kg? | E15: =D6+D7 -> 0 | F15: =IFERROR(IF(E15="","",IF(E15<'Referenzwerte und Vorgaben'!B29,"Zu niedrig","OK")),"") -> Zu niedrig
B16: Wasserstoffabnahme durch Fahrzeugflotte kg/Tag | C16: Wie viel H2 benötigen die Fahrzeuge in kg? | E16: =MAX(TblFahrzeuge[Wasserstoffbedarf kummulativ]) -> 0 | F16: =IFERROR(IF(E17="","",IF(E17<'Referenzwerte und Vorgaben'!B22,"Weitere Fahrzeuge werden benötigt",IF(E17>'Referenzwerte und Vorgaben'!C22,"Zu hoch","OK"))),"")
B17: Grundauslastung der HRS durch Fahrzeugflotte | C17: Welchen Anteil der Tageskapazität verbrauchen die Fahrzeuge? | E17: =IFERROR(E16/E15,"") | F17: =IFERROR(IF(E17="","",IF(E17<'Referenzwerte und Vorgaben'!B22,"Weitere Fahrzeuge werden benötigt",IF(E17>'Referenzwerte und Vorgaben'!C22,"Zu hoch","OK"))),"")
B18: Bedingung für Grundauslastung der HRS
B19: Förderquote für HRS | C19: Wie hoch ist die Förderquote für die HRS? | E19: =IFERROR(D8/D9,"") | F19: =IFERROR(IF(E19="","",IF(E19>'Referenzwerte und Vorgaben'!B26,"Zu hoch","OK")),"")
B20: Gesamtkostendeckel HRS in Euro | C20: Wie hoch ist der Förderbetrag für die HRS? | E20: =D8 -> 0 | F20: =IFERROR(IF(E20="","",IF(E20>'Referenzwerte und Vorgaben'!B18,"Zu hoch","OK")),"") -> OK
B21: Gesamtkostendeckel Fahrzeuge in Euro | C21: Wie hoch ist der Förderbetrag für die Fahrzeuge? | E21: =SUM(TblFahrzeuge[Beantragter Förderbetrag in Euro]) -> 0 | F21: =IFERROR(IF(E21="","",IF(E21>'Referenzwerte und Vorgaben'!C18,"Zu hoch","OK")),"") -> OK
B22: Fahrzeugeinträge Unzulässig | C22: Wie viele Fahrzeugeinträge sind nicht zulässig? | E22: =COUNTIFS(TblFahrzeuge[Eintrag Zulässig],"nein") -> 0 | F22: =IF(E22=0,"OK","Alle Fahrzeuge müssen gültig sein") -> OK
B25: Der Antrag erfüllt formal die Grundbedingungen, um bei dem Förderaufruf der Paketförderung berücksichtigt zu werden. | F25: =IFERROR(IF(AND(E15>='Referenzwerte und Vorgaben'!B29,'1_HRS Tankstelle Auswertung'!E17>='Referenzwerte und Vorgaben'!B22,'1_HRS Tankstelle Auswertung'!E17<='Referenzwerte und Vorgaben'!C22,'1_HRS Tankstelle Auswertung'!E19<='Referenzwerte und Vorgaben'!B26,'1_HRS Tankstelle Auswertung'!E20<='Referenzwerte und Vorgaben'!B18,'1_HRS Tankstelle Auswertung'!E21<='Referenzwerte und Vorgaben'!C18, E22=0),"Ja","Nein"),"") -> Nein

Sheet 2_Fahrzeugflotte Vehicles
A1: 1 Fahrzeugübersicht
A4: Index | B4: Fahrzeugklasse | C4: Neu oder Bestand | D4: Referenzpreis Dieselfahrzeug in Euro | E4: Angebotspreis H2 Fahrzeug in Euro | F4: Beantragter Förderbetrag in Euro | G4: Förderquote zum Differenzbetrag | H4: Förderbetrag kummulativ | I4: Wasserstoffbedarf kummulativ | J4: Eintrag Zulässig
A5: 1 | G5: =IF((E5-D5)=0,0,IF(F5/(E5-D5)>'Referenzwerte und Vorgaben'!$C$26,"Max. Förderquote = 80%!",F5/(E5-D5))) -> 0 | H5: =IF(0=TblFahrzeuge[[#This Row],[Förderquote zum Differenzbetrag]],0,IF(SUM($F$5:F5)<='Referenzwerte und Vorgaben'!$C$18,SUM($F$5:F5),"Max. Förderbetrag überschritten")) -> 0 | I5: {=_xlfn.LET( _xlpm.mind, '1_HRS Tankstelle Auswertung'!$E$15*'Referenzwerte und Vorgaben'!$B$22, _xlpm.classesAll, TblFahrzeuge[Fahrzeugklasse], _xlpm.statusAll, TblFahrzeuge[Neu oder Bestand], _xlpm.demandAll, _xlfn.XLOOKUP(_xlpm.classesAll, 'Referenzwerte und Vorgaben'!$A$2:$A$12, 'Referenzwerte und Vorgaben'!$C$2:$C$12, 0), _xlpm.totalNeu, SUMPRODUCT( (_xlpm.statusAll="Neu") * _xlpm.demandAll ), _xlpm.classesUpTo, $B$2:INDEX($B:$B, ROW()), _xlpm.statusUpTo, $C$2:INDEX($C:$C, ROW()), _xlpm.demandUpTo, _xlfn.XLOOKUP(_xlpm.classesUpTo, 'Referenzwerte und Vorgaben'!$A$2:$A$12, 'Referenzwerte und Vorgaben'!$C$2:$C$12, 0), _xlpm.cumNeu, SUMPRODUCT( (_xlpm.statusUpTo="Neu") * _xlpm.demandUpTo ), _xlpm.cumBest, SUMPRODUCT( (_xlpm.statusUpTo="Bestand") * _xlpm.demandUpTo ), _xlpm.needed, MAX(0, _xlpm.mind - _xlpm.totalNeu), IF(_xlpm.totalNeu >= _xlpm.mind, _xlpm.cumNeu, _xlpm.cumNeu + MIN(_xlpm.cumBest, _xlpm.needed) ) )} -> 0 | J5: =IF( AND(TblFahrzeuge[[#This Row],[Fahrzeugklasse]]="",TblFahrzeuge[[#This Row],[Neu oder Bestand]]="",TblFahrzeuge[[#This Row],[Referenzpreis Dieselfahrzeug in Euro]]="",TblFahrzeuge[[#This Row],[Angebotspreis H2 Fahrzeug in Euro]]="",TblFahrzeuge[[#This Row],[Beantragter Förderbetrag in Euro]]=""), "", IF( AND(TblFahrzeuge[[#This Row],[Neu oder Bestand]]="Bestand",OR(TblFahrzeuge[[#This Row],[Referenzpreis Dieselfahrzeug in Euro]]<>0,TblFahrzeuge[[#This Row],[Angebotspreis H2 Fahrzeug in Euro]]<>0,TblFahrzeuge[[#This Row],[Beantragter Förderbetrag in Euro]]<>0)), "nein", IF( OR(TblFahrzeuge[[#This Row],[Fahrzeugklasse]]="",TblFahrzeuge[[#This Row],[Neu oder Bestand]]="",TblFahrzeuge[[#This Row],[Referenzpreis Dieselfahrzeug in Euro]]="",TblFahrzeuge[[#This Row],[Angebotspreis H2 Fahrzeug in Euro]]="",TblFahrzeuge[[#This Row],[Beantragter Förderbetrag in Euro]]=""), "nein", IFERROR( IF( AND( TblFahrzeuge[[#This Row],[Förderquote zum Differenzbetrag]]<='Referenzwerte und Vorgaben'!$C$26, TblFahrzeuge[[#This Row],[Förderquote zum Differenzbetrag]]>=0, F9<=_xlfn.XLOOKUP(B9,'Referenzwerte und Vorgaben'!$A$2:$A$12,'Referenzwerte und Vorgaben'!$B$2:$B$12), TblFahrzeuge[[#This Row],[Förderbetrag kummulativ ]]<='Referenzwerte und Vorgaben'!$C$18, TblFahrzeuge[[#This Row],[Wasserstoffbedarf kummulativ]]<=('1_HRS Tankstelle Auswertung'!$E$15*'Referenzwerte und Vorgaben'!$C$22), F5<=_xlfn.XLOOKUP(B5,'Referenzwerte und Vorgaben'!$A$2:$A$12,'Referenzwerte und Vorgaben'!$B$2:$B$12) ), "ja", "nein" ), "") ) ) )
A6: 2 | G6: =IF((E6-D6)=0,0,IF(F6/(E6-D6)>'Referenzwerte und Vorgaben'!$C$26,"Max. Förderquote = 80%!",F6/(E6-D6))) -> 0 | H6: =IF(0=TblFahrzeuge[[#This Row],[Förderquote zum Differenzbetrag]],0,IF(SUM($F$5:F6)<='Referenzwerte und Vorgaben'!$C$18,SUM($F$5:F6),"Max. Förderbetrag überschritten")) -> 0 | I6: {=_xlfn.LET( _xlpm.mind, '1_HRS Tankstelle Auswertung'!$E$15*'Referenzwerte und Vorgaben'!$B$22, _xlpm.classesAll, TblFahrzeuge[Fahrzeugklasse], _xlpm.statusAll, TblFahrzeuge[Neu oder Bestand], _xlpm.demandAll, _xlfn.XLOOKUP(_xlpm.classesAll, 'Referenzwerte und Vorgaben'!$A$2:$A$12, 'Referenzwerte und Vorgaben'!$C$2:$C$12, 0), _xlpm.totalNeu, SUMPRODUCT( (_xlpm.statusAll="Neu") * _xlpm.demandAll ), _xlpm.classesUpTo, $B$2:INDEX($B:$B, ROW()), _xlpm.statusUpTo, $C$2:INDEX($C:$C, ROW()), _xlpm.demandUpTo, _xlfn.XLOOKUP(_xlpm.classesUpTo, 'Referenzwerte und Vorgaben'!$A$2:$A$12, 'Referenzwerte und Vorgaben'!$C$2:$C$12, 0), _xlpm.cumNeu, SUMPRODUCT( (_xlpm.statusUpTo="Neu") * _xlpm.demandUpTo ), _xlpm.cumBest, SUMPRODUCT( (_xlpm.statusUpTo="Bestand") * _xlpm.demandUpTo ), _xlpm.needed, MAX(0, _xlpm.mind - _xlpm.totalNeu), IF(_xlpm.totalNeu >= _xlpm.mind, _xlpm.cumNeu, _xlpm.cumNeu + MIN(_xlpm.cumBest, _xlpm.needed) ) )} -> 0 | J6: =IF( AND(TblFahrzeuge[[#This Row],[Fahrzeugklasse]]="",TblFahrzeuge[[#This Row],[Neu oder Bestand]]="",TblFahrzeuge[[#This Row],[Referenzpreis Dieselfahrzeug in Euro]]="",TblFahrzeuge[[#This Row],[Angebotspreis H2 Fahrzeug in Euro]]="",TblFahrzeuge[[#This Row],[Beantragter Förderbetrag in Euro]]=""), "", IF( AND(TblFahrzeuge[[#This Row],[Neu oder Bestand]]="Bestand",OR(TblFahrzeuge[[#This Row],[Referenzpreis Dieselfahrzeug in Euro]]<>0,TblFahrzeuge[[#This Row],[Angebotspreis H2 Fahrzeug in Euro]]<>0,TblFahrzeuge[[#This Row],[Beantragter Förderbetrag in Euro]]<>0)), "nein", IF( OR(TblFahrzeuge[[#This Row],[Fahrzeugklasse]]="",TblFahrzeuge[[#This Row],[Neu oder Bestand]]="",TblFahrzeuge[[#This Row],[Referenzpreis Dieselfahrzeug in Euro]]="",TblFahrzeuge[[#This Row],[Angebotspreis H2 Fahrzeug in Euro]]="",TblFahrzeuge[[#This Row],[Beantragter Förderbetrag in Euro]]=""), "nein", IFERROR( IF( AND( TblFahrzeuge[[#This Row],[Förderquote zum Differenzbetrag]]<='Referenzwerte und Vorgaben'!$C$26, TblFahrzeuge[[#This Row],[Förderquote zum Differenzbetrag]]>=0, F10<=_xlfn.XLOOKUP(B10,'Referenzwerte und Vorgaben'!$A$2:$A$12,'Referenzwerte und Vorgaben'!$B$2:$B$12), TblFahrzeuge[[#This Row],[Förderbetrag kummulativ ]]<='Referenzwerte und Vorgaben'!$C$18, TblFahrzeuge[[#This Row],[Wasserstoffbedarf kummulativ]]<=('1_HRS Tankstelle Auswertung'!$E$15*'Referenzwerte und Vorgaben'!$C$22), F6<=_xlfn.XLOOKUP(B6,'Referenzwerte und Vorgaben'!$A$2:$A$12,'Referenzwerte und Vorgaben'!$B$2:$B$12) ), "ja", "nein" ), "") ) ) )
A7: 3 | G7: =IF((E7-D7)=0,0,IF(F7/(E7-D7)>'Referenzwerte und Vorgaben'!$C$26,"Max. Förderquote = 80%!",F7/(E7-D7))) -> 0 | H7: =IF(0=TblFahrzeuge[[#This Row],[Förderquote zum Differenzbetrag]],0,IF(SUM($F$5:F7)<='Referenzwerte und Vorgaben'!$C$18,SUM($F$5:F7),"Max. Förderbetrag überschritten")) -> 0 | I7: {=_xlfn.LET( _xlpm.mind, '1_HRS Tankstelle Auswertung'!$E$15*'Referenzwerte und Vorgaben'!$B$22, _xlpm.classesAll, TblFahrzeuge[Fahrzeugklasse], _xlpm.statusAll, TblFahrzeuge[Neu oder Bestand], _xlpm.demandAll, _xlfn.XLOOKUP(_xlpm.classesAll, 'Referenzwerte und Vorgaben'!$A$2:$A$12, 'Referenzwerte und Vorgaben'!$C$2:$C$12, 0), _xlpm.totalNeu, SUMPRODUCT( (_xlpm.statusAll="Neu") * _xlpm.demandAll ), _xlpm.classesUpTo, $B$2:INDEX($B:$B, ROW()), _xlpm.statusUpTo, $C$2:INDEX($C:$C, ROW()), _xlpm.demandUpTo, _xlfn.XLOOKUP(_xlpm.classesUpTo, 'Referenzwerte und Vorgaben'!$A$2:$A$12, 'Referenzwerte und Vorgaben'!$C$2:$C$12, 0), _xlpm.cumNeu, SUMPRODUCT( (_xlpm.statusUpTo="Neu") * _xlpm.demandUpTo ), _xlpm.cumBest, SUMPRODUCT( (_xlpm.statusUpTo="Bestand") * _xlpm.demandUpTo ), _xlpm.needed, MAX(0, _xlpm.mind - _xlpm.totalNeu), IF(_xlpm.totalNeu >= _xlpm.mind, _xlpm.cumNeu, _xlpm.cumNeu + MIN(_xlpm.cumBest, _xlpm.needed) ) )} -> 0 | J7: =IF( AND(TblFahrzeuge[[#This Row],[Fahrzeugklasse]]="",TblFahrzeuge[[#This Row],[Neu oder Bestand]]="",TblFahrzeuge[[#This Row],[Referenzpreis Dieselfahrzeug in Euro]]="",TblFahrzeuge[[#This Row],[Angebotspreis H2 Fahrzeug in Euro]]="",TblFahrzeuge[[#This Row],[Beantragter Förderbetrag in Euro]]=""), "", IF( AND(TblFahrzeuge[[#This Row],[Neu oder Bestand]]="Bestand",OR(TblFahrzeuge[[#This Row],[Referenzpreis Dieselfahrzeug in Euro]]<>0,TblFahrzeuge[[#This Row],[Angebotspreis H2 Fahrzeug in Euro]]<>0,TblFahrzeuge[[#This Row],[Beantragter Förderbetrag in Euro]]<>0)), "nein", IF( OR(TblFahrzeuge[[#This Row],[Fahrzeugklasse]]="",TblFahrzeuge[[#This Row],[Neu oder Bestand]]="",TblFahrzeuge[[#This Row],[Referenzpreis Dieselfahrzeug in Euro]]="",TblFahrzeuge[[#This Row],[Angebotspreis H2 Fahrzeug in Euro]]="",TblFahrzeuge[[#This Row],[Beantragter Förderbetrag in Euro]]=""), "nein", IFERROR( IF( AND( TblFahrzeuge[[#This Row],[Förderquote zum Differenzbetrag]]<='Referenzwerte und Vorgaben'!$C$26, TblFahrzeuge[[#This Row],[Förderquote zum Differenzbetrag]]>=0, F11<=_xlfn.XLOOKUP(B11,'Referenzwerte und Vorgaben'!$A$2:$A$12,'Referenzwerte und Vorgaben'!$B$2:$B$12), TblFahrzeuge[[#This Row],[Förderbetrag kummulativ ]]<='Referenzwerte und Vorgaben'!$C$18, TblFahrzeuge[[#This Row],[Wasserstoffbedarf kummulativ]]<=('1_HRS Tankstelle Auswertung'!$E$15*'Referenzwerte und Vorgaben'!$C$22), F7<=_xlfn.XLOOKUP(B7,'Referenzwerte und Vorgaben'!$A$2:$A$12,'Referenzwerte und Vorgaben'!$B$2:$B$12) ), "ja", "nein" ), "") ) ) )
A8: 4 | G8: =IF((E8-D8)=0,0,IF(F8/(E8-D8)>'Referenzwerte und Vorgaben'!$C$26,"Max. Förderquote = 80%!",F8/(E8-D8))) -> 0 | H8: =IF(0=TblFahrzeuge[[#This Row],[Förderquote zum Differenzbetrag]],0,IF(SUM($F$5:F8)<='Referenzwerte und Vorgaben'!$C$18,SUM($F$5:F8),"Max. Förderbetrag überschritten")) -> 0 | I8: {=_xlfn.LET( _xlpm.mind, '1_HRS Tankstelle Auswertung'!$E$15*'Referenzwerte und Vorgaben'!$B$22, _xlpm.classesAll, TblFahrzeuge[Fahrzeugklasse], _xlpm.statusAll, TblFahrzeuge[Neu oder Bestand], _xlpm.demandAll, _xlfn.XLOOKUP(_xlpm.classesAll, 'Referenzwerte und Vorgaben'!$A$2:$A$12, 'Referenzwerte und Vorgaben'!$C$2:$C$12, 0), _xlpm.totalNeu, SUMPRODUCT( (_xlpm.statusAll="Neu") * _xlpm.demandAll ), _xlpm.classesUpTo, $B$2:INDEX($B:$B, ROW()), _xlpm.statusUpTo, $C$2:INDEX($C:$C, ROW()), _xlpm.demandUpTo, _xlfn.XLOOKUP(_xlpm.classesUpTo, 'Referenzwerte und Vorgaben'!$A$2:$A$12, 'Referenzwerte und Vorgaben'!$C$2:$C$12, 0), _xlpm.cumNeu, SUMPRODUCT( (_xlpm.statusUpTo="Neu") * _xlpm.demandUpTo ), _xlpm.cumBest, SUMPRODUCT( (_xlpm.statusUpTo="Bestand") * _xlpm.demandUpTo ), _xlpm.needed, MAX(0, _xlpm.mind - _xlpm.totalNeu), IF(_xlpm.totalNeu >= _xlpm.mind, _xlpm.cumNeu, _xlpm.cumNeu + MIN(_xlpm.cumBest, _xlpm.needed) ) )} -> 0 | J8: =IF( AND(TblFahrzeuge[[#This Row],[Fahrzeugklasse]]="",TblFahrzeuge[[#This Row],[Neu oder Bestand]]="",TblFahrzeuge[[#This Row],[Referenzpreis Dieselfahrzeug in Euro]]="",TblFahrzeuge[[#This Row],[Angebotspreis H2 Fahrzeug in Euro]]="",TblFahrzeuge[[#This Row],[Beantragter Förderbetrag in Euro]]=""), "", IF( AND(TblFahrzeuge[[#This Row],[Neu oder Bestand]]="Bestand",OR(TblFahrzeuge[[#This Row],[Referenzpreis Dieselfahrzeug in Euro]]<>0,TblFahrzeuge[[#This Row],[Angebotspreis H2 Fahrzeug in Euro]]<>0,TblFahrzeuge[[#This Row],[Beantragter Förderbetrag in Euro]]<>0)), "nein", IF( OR(TblFahrzeuge[[#This Row],[Fahrzeugklasse]]="",TblFahrzeuge[[#This Row],[Neu oder Bestand]]="",TblFahrzeuge[[#This Row],[Referenzpreis Dieselfahrzeug in Euro]]="",TblFahrzeuge[[#This Row],[Angebotspreis H2 Fahrzeug in Euro]]="",TblFahrzeuge[[#This Row],[Beantragter Förderbetrag in Euro]]=""), "nein", IFERROR( IF( AND( TblFahrzeuge[[#This Row],[Förderquote zum Differenzbetrag]]<='Referenzwerte und Vorgaben'!$C$26, TblFahrzeuge[[#This Row],[Förderquote zum Differenzbetrag]]>=0, F12<=_xlfn.XLOOKUP(B12,'Referenzwerte und Vorgaben'!$A$2:$A$12,'Referenzwerte und Vorgaben'!$B$2:$B$12), TblFahrzeuge[[#This Row],[Förderbetrag kummulativ ]]<='Referenzwerte und Vorgaben'!$C$18, TblFahrzeuge[[#This Row],[Wasserstoffbedarf kummulativ]]<=('1_HRS Tankstelle Auswertung'!$E$15*'Referenzwerte und Vorgaben'!$C$22), F8<=_xlfn.XLOOKUP(B8,'Referenzwerte und Vorgaben'!$A$2:$A$12,'Referenzwerte und Vorgaben'!$B$2:$B$12) ), "ja", "nein" ), "") ) ) )
A9: 5 | G9: =IF((E9-D9)=0,0,IF(F9/(E9-D9)>'Referenzwerte und Vorgaben'!$C$26,"Max. Förderquote = 80%!",F9/(E9-D9))) -> 0 | H9: =IF(0=TblFahrzeuge[[#This Row],[Förderquote zum Differenzbetrag]],0,IF(SUM($F$5:F9)<='Referenzwerte und Vorgaben'!$C$18,SUM($F$5:F9),"Max. Förderbetrag überschritten")) -> 0 | I9: {=_xlfn.LET( _xlpm.mind, '1_HRS Tankstelle Auswertung'!$E$15*'Referenzwerte und Vorgaben'!$B$22, _xlpm.classesAll, TblFahrzeuge[Fahrzeugklasse], _xlpm.statusAll, TblFahrzeuge[Neu oder Bestand], _xlpm.demandAll, _xlfn.XLOOKUP(_xlpm.classesAll, 'Referenzwerte und Vorgaben'!$A$2:$A$12, 'Referenzwerte und Vorgaben'!$C$2:$C$12, 0), _xlpm.totalNeu, SUMPRODUCT( (_xlpm.statusAll="Neu") * _xlpm.demandAll ), _xlpm.classesUpTo, $B$2:INDEX($B:$B, ROW()), _xlpm.statusUpTo, $C$2:INDEX($C:$C, ROW()), _xlpm.demandUpTo, _xlfn.XLOOKUP(_xlpm.classesUpTo, 'Referenzwerte und Vorgaben'!$A$2:$A$12, 'Referenzwerte und Vorgaben'!$C$2:$C$12, 0), _xlpm.cumNeu, SUMPRODUCT( (_xlpm.statusUpTo="Neu") * _xlpm.demandUpTo ), _xlpm.cumBest, SUMPRODUCT( (_xlpm.statusUpTo="Bestand") * _xlpm.demandUpTo ), _xlpm.needed, MAX(0, _xlpm.mind - _xlpm.totalNeu), IF(_xlpm.totalNeu >= _xlpm.mind, _xlpm.cumNeu, _xlpm.cumNeu + MIN(_xlpm.cumBest, _xlpm.needed) ) )} -> 0 | J9: =IF( AND(TblFahrzeuge[[#This Row],[Fahrzeugklasse]]="",TblFahrzeuge[[#This Row],[Neu oder Bestand]]="",TblFahrzeuge[[#This Row],[Referenzpreis Dieselfahrzeug in Euro]]="",TblFahrzeuge[[#This Row],[Angebotspreis H2 Fahrzeug in Euro]]="",TblFahrzeuge[[#This Row],[Beantragter Förderbetrag in Euro]]=""), "", IF( AND(TblFahrzeuge[[#This Row],[Neu oder Bestand]]="Bestand",OR(TblFahrzeuge[[#This Row],[Referenzpreis Dieselfahrzeug in Euro]]<>0,TblFahrzeuge[[#This Row],[Angebotspreis H2 Fahrzeug in Euro]]<>0,TblFahrzeuge[[#This Row],[Beantragter Förderbetrag in Euro]]<>0)), "nein", IF( OR(TblFahrzeuge[[#This Row],[Fahrzeugklasse]]="",TblFahrzeuge[[#This Row],[Neu oder Bestand]]="",TblFahrzeuge[[#This Row],[Referenzpreis Dieselfahrzeug in Euro]]="",TblFahrzeuge[[#This Row],[Angebotspreis H2 Fahrzeug in Euro]]="",TblFahrzeuge[[#This Row],[Beantragter Förderbetrag in Euro]]=""), "nein", IFERROR( IF( AND( TblFahrzeuge[[#This Row],[Förderquote zum Differenzbetrag]]<='Referenzwerte und Vorgaben'!$C$26, TblFahrzeuge[[#This Row],[Förderquote zum Differenzbetrag]]>=0, F13<=_xlfn.XLOOKUP(B13,'Referenzwerte und Vorgaben'!$A$2:$A$12,'Referenzwerte und Vorgaben'!$B$2:$B$12), TblFahrzeuge[[#This Row],[Förderbetrag kummulativ ]]<='Referenzwerte und Vorgaben'!$C$18, TblFahrzeuge[[#This Row],[Wasserstoffbedarf kummulativ]]<=('1_HRS Tankstelle Auswertung'!$E$15*'Referenzwerte und Vorgaben'!$C$22), F9<=_xlfn.XLOOKUP(B9,'Referenzwerte und Vorgaben'!$A$2:$A$12,'Referenzwerte und Vorgaben'!$B$2:$B$12) ), "ja", "nein" ), "") ) ) )
A10: 6 | G10: =IF((E10-D10)=0,0,IF(F10/(E10-D10)>'Referenzwerte und Vorgaben'!$C$26,"Max. Förderquote = 80%!",F10/(E10-D10))) -> 0 | H10: =IF(0=TblFahrzeuge[[#This Row],[Förderquote zum Differenzbetrag]],0,IF(SUM($F$5:F10)<='Referenzwerte und Vorgaben'!$C$18,SUM($F$5:F10),"Max. Förderbetrag überschritten")) -> 0 | I10: {=_xlfn.LET( _xlpm.mind, '1_HRS Tankstelle Auswertung'!$E$15*'Referenzwerte und Vorgaben'!$B$22, _xlpm.classesAll, TblFahrzeuge[Fahrzeugklasse], _xlpm.statusAll, TblFahrzeuge[Neu oder Bestand], _xlpm.demandAll, _xlfn.XLOOKUP(_xlpm.classesAll, 'Referenzwerte und Vorgaben'!$A$2:$A$12, 'Referenzwerte und Vorgaben'!$C$2:$C$12, 0), _xlpm.totalNeu, SUMPRODUCT( (_xlpm.statusAll="Neu") * _xlpm.demandAll ), _xlpm.classesUpTo, $B$2:INDEX($B:$B, ROW()), _xlpm.statusUpTo, $C$2:INDEX($C:$C, ROW()), _xlpm.demandUpTo, _xlfn.XLOOKUP(_xlpm.classesUpTo, 'Referenzwerte und Vorgaben'!$A$2:$A$12, 'Referenzwerte und Vorgaben'!$C$2:$C$12, 0), _xlpm.cumNeu, SUMPRODUCT( (_xlpm.statusUpTo="Neu") * _xlpm.demandUpTo ), _xlpm.cumBest, SUMPRODUCT( (_xlpm.statusUpTo="Bestand") * _xlpm.demandUpTo ), _xlpm.needed, MAX(0, _xlpm.mind - _xlpm.totalNeu), IF(_xlpm.totalNeu >= _xlpm.mind, _xlpm.cumNeu, _xlpm.cumNeu + MIN(_xlpm.cumBest, _xlpm.needed) ) )} -> 0 | J10: =IF( AND(TblFahrzeuge[[#This Row],[Fahrzeugklasse]]="",TblFahrzeuge[[#This Row],[Neu oder Bestand]]="",TblFahrzeuge[[#This Row],[Referenzpreis Dieselfahrzeug in Euro]]="",TblFahrzeuge[[#This Row],[Angebotspreis H2 Fahrzeug in Euro]]="",TblFahrzeuge[[#This Row],[Beantragter Förderbetrag in Euro]]=""), "", IF( AND(TblFahrzeuge[[#This Row],[Neu oder Bestand]]="Bestand",OR(TblFahrzeuge[[#This Row],[Referenzpreis Dieselfahrzeug in Euro]]<>0,TblFahrzeuge[[#This Row],[Angebotspreis H2 Fahrzeug in Euro]]<>0,TblFahrzeuge[[#This Row],[Beantragter Förderbetrag in Euro]]<>0)), "nein", IF( OR(TblFahrzeuge[[#This Row],[Fahrzeugklasse]]="",TblFahrzeuge[[#This Row],[Neu oder Bestand]]="",TblFahrzeuge[[#This Row],[Referenzpreis Dieselfahrzeug in Euro]]="",TblFahrzeuge[[#This Row],[Angebotspreis H2 Fahrzeug in Euro]]="",TblFahrzeuge[[#This Row],[Beantragter Förderbetrag in Euro]]=""), "nein", IFERROR( IF( AND( TblFahrzeuge[[#This Row],[Förderquote zum Differenzbetrag]]<='Referenzwerte und Vorgaben'!$C$26, TblFahrzeuge[[#This Row],[Förderquote zum Differenzbetrag]]>=0, F14<=_xlfn.XLOOKUP(B14,'Referenzwerte und Vorgaben'!$A$2:$A$12,'Referenzwerte und Vorgaben'!$B$2:$B$12), TblFahrzeuge[[#This Row],[Förderbetrag kummulativ ]]<='Referenzwerte und Vorgaben'!$C$18, TblFahrzeuge[[#This Row],[Wasserstoffbedarf kummulativ]]<=('1_HRS Tankstelle Auswertung'!$E$15*'Referenzwerte und Vorgaben'!$C$22), F10<=_xlfn.XLOOKUP(B10,'Referenzwerte und Vorgaben'!$A$2:$A$12,'Referenzwerte und Vorgaben'!$B$2:$B$12) ), "ja", "nein" ), "") ) ) )
A11: 7 | G11: =IF((E11-D11)=0,0,IF(F11/(E11-D11)>'Referenzwerte und Vorgaben'!$C$26,"Max. Förderquote = 80%!",F11/(E11-D11))) -> 0 | H11: =IF(0=TblFahrzeuge[[#This Row],[Förderquote zum Differenzbetrag]],0,IF(SUM($F$5:F11)<='Referenzwerte und Vorgaben'!$C$18,SUM($F$5:F11),"Max. Förderbetrag überschritten")) -> 0 | I11: {=_xlfn.LET( _xlpm.mind, '1_HRS Tankstelle Auswertung'!$E$15*'Referenzwerte und Vorgaben'!$B$22, _xlpm.classesAll, TblFahrzeuge[Fahrzeugklasse], _xlpm.statusAll, TblFahrzeuge[Neu oder Bestand], _xlpm.demandAll, _xlfn.XLOOKUP(_xlpm.classesAll, 'Referenzwerte und Vorgaben'!$A$2:$A$12, 'Referenzwerte und Vorgaben'!$C$2:$C$12, 0), _xlpm.totalNeu, SUMPRODUCT( (_xlpm.statusAll="Neu") * _xlpm.demandAll ), _xlpm.classesUpTo, $B$2:INDEX($B:$B, ROW()), _xlpm.statusUpTo, $C$2:INDEX($C:$C, ROW()), _xlpm.demandUpTo, _xlfn.XLOOKUP(_xlpm.classesUpTo, 'Referenzwerte und Vorgaben'!$A$2:$A$12, 'Referenzwerte und Vorgaben'!$C$2:$C$12, 0), _xlpm.cumNeu, SUMPRODUCT( (_xlpm.statusUpTo="Neu") * _xlpm.demandUpTo ), _xlpm.cumBest, SUMPRODUCT( (_xlpm.statusUpTo="Bestand") * _xlpm.demandUpTo ), _xlpm.needed, MAX(0, _xlpm.mind - _xlpm.totalNeu), IF(_xlpm.totalNeu >= _xlpm.mind, _xlpm.cumNeu, _xlpm.cumNeu + MIN(_xlpm.cumBest, _xlpm.needed) ) )} -> 0 | J11: =IF( AND(TblFahrzeuge[[#This Row],[Fahrzeugklasse]]="",TblFahrzeuge[[#This Row],[Neu oder Bestand]]="",TblFahrzeuge[[#This Row],[Referenzpreis Dieselfahrzeug in Euro]]="",TblFahrzeuge[[#This Row],[Angebotspreis H2 Fahrzeug in Euro]]="",TblFahrzeuge[[#This Row],[Beantragter Förderbetrag in Euro]]=""), "", IF( AND(TblFahrzeuge[[#This Row],[Neu oder Bestand]]="Bestand",OR(TblFahrzeuge[[#This Row],[Referenzpreis Dieselfahrzeug in Euro]]<>0,TblFahrzeuge[[#This Row],[Angebotspreis H2 Fahrzeug in Euro]]<>0,TblFahrzeuge[[#This Row],[Beantragter Förderbetrag in Euro]]<>0)), "nein", IF( OR(TblFahrzeuge[[#This Row],[Fahrzeugklasse]]="",TblFahrzeuge[[#This Row],[Neu oder Bestand]]="",TblFahrzeuge[[#This Row],[Referenzpreis Dieselfahrzeug in Euro]]="",TblFahrzeuge[[#This Row],[Angebotspreis H2 Fahrzeug in Euro]]="",TblFahrzeuge[[#This Row],[Beantragter Förderbetrag in Euro]]=""), "nein", IFERROR( IF( AND( TblFahrzeuge[[#This Row],[Förderquote zum Differenzbetrag]]<='Referenzwerte und Vorgaben'!$C$26, TblFahrzeuge[[#This Row],[Förderquote zum Differenzbetrag]]>=0, F15<=_xlfn.XLOOKUP(B15,'Referenzwerte und Vorgaben'!$A$2:$A$12,'Referenzwerte und Vorgaben'!$B$2:$B$12), TblFahrzeuge[[#This Row],[Förderbetrag kummulativ ]]<='Referenzwerte und Vorgaben'!$C$18, TblFahrzeuge[[#This Row],[Wasserstoffbedarf kummulativ]]<=('1_HRS Tankstelle Auswertung'!$E$15*'Referenzwerte und Vorgaben'!$C$22), F11<=_xlfn.XLOOKUP(B11,'Referenzwerte und Vorgaben'!$A$2:$A$12,'Referenzwerte und Vorgaben'!$B$2:$B$12) ), "ja", "nein" ), "") ) ) )
A12: 8 | G12: =IF((E12-D12)=0,0,IF(F12/(E12-D12)>'Referenzwerte und Vorgaben'!$C$26,"Max. Förderquote = 80%!",F12/(E12-D12))) -> 0 | H12: =IF(0=TblFahrzeuge[[#This Row],[Förderquote zum Differenzbetrag]],0,IF(SUM($F$5:F12)<='Referenzwerte und Vorgaben'!$C$18,SUM($F$5:F12),"Max. Förderbetrag überschritten")) -> 0 | I12: {=_xlfn.LET( _xlpm.mind, '1_HRS Tankstelle Auswertung'!$E$15*'Referenzwerte und Vorgaben'!$B$22, _xlpm.classesAll, TblFahrzeuge[Fahrzeugklasse], _xlpm.statusAll, TblFahrzeuge[Neu oder Bestand], _xlpm.demandAll, _xlfn.XLOOKUP(_xlpm.classesAll, 'Referenzwerte und Vorgaben'!$A$2:$A$12, 'Referenzwerte und Vorgaben'!$C$2:$C$12, 0), _xlpm.totalNeu, SUMPRODUCT( (_xlpm.statusAll="Neu") * _xlpm.demandAll ), _xlpm.classesUpTo, $B$2:INDEX($B:$B, ROW()), _xlpm.statusUpTo, $C$2:INDEX($C:$C, ROW()), _xlpm.demandUpTo, _xlfn.XLOOKUP(_xlpm.classesUpTo, 'Referenzwerte und Vorgaben'!$A$2:$A$12, 'Referenzwerte und Vorgaben'!$C$2:$C$12, 0), _xlpm.cumNeu, SUMPRODUCT( (_xlpm.statusUpTo="Neu") * _xlpm.demandUpTo ), _xlpm.cumBest, SUMPRODUCT( (_xlpm.statusUpTo="Bestand") * _xlpm.demandUpTo ), _xlpm.needed, MAX(0, _xlpm.mind - _xlpm.totalNeu), IF(_xlpm.totalNeu >= _xlpm.mind, _xlpm.cumNeu, _xlpm.cumNeu + MIN(_xlpm.cumBest, _xlpm.needed) ) )} -> 0 | J12: =IF( AND(TblFahrzeuge[[#This Row],[Fahrzeugklasse]]="",TblFahrzeuge[[#This Row],[Neu oder Bestand]]="",TblFahrzeuge[[#This Row],[Referenzpreis Dieselfahrzeug in Euro]]="",TblFahrzeuge[[#This Row],[Angebotspreis H2 Fahrzeug in Euro]]="",TblFahrzeuge[[#This Row],[Beantragter Förderbetrag in Euro]]=""), "", IF( AND(TblFahrzeuge[[#This Row],[Neu oder Bestand]]="Bestand",OR(TblFahrzeuge[[#This Row],[Referenzpreis Dieselfahrzeug in Euro]]<>0,TblFahrzeuge[[#This Row],[Angebotspreis H2 Fahrzeug in Euro]]<>0,TblFahrzeuge[[#This Row],[Beantragter Förderbetrag in Euro]]<>0)), "nein", IF( OR(TblFahrzeuge[[#This Row],[Fahrzeugklasse]]="",TblFahrzeuge[[#This Row],[Neu oder Bestand]]="",TblFahrzeuge[[#This Row],[Referenzpreis Dieselfahrzeug in Euro]]="",TblFahrzeuge[[#This Row],[Angebotspreis H2 Fahrzeug in Euro]]="",TblFahrzeuge[[#This Row],[Beantragter Förderbetrag in Euro]]=""), "nein", IFERROR( IF( AND( TblFahrzeuge[[#This Row],[Förderquote zum Differenzbetrag]]<='Referenzwerte und Vorgaben'!$C$26, TblFahrzeuge[[#This Row],[Förderquote zum Differenzbetrag]]>=0, F16<=_xlfn.XLOOKUP(B16,'Referenzwerte und Vorgaben'!$A$2:$A$12,'Referenzwerte und Vorgaben'!$B$2:$B$12), TblFahrzeuge[[#This Row],[Förderbetrag kummulativ ]]<='Referenzwerte und Vorgaben'!$C$18, TblFahrzeuge[[#This Row],[Wasserstoffbedarf kummulativ]]<=('1_HRS Tankstelle Auswertung'!$E$15*'Referenzwerte und Vorgaben'!$C$22), F12<=_xlfn.XLOOKUP(B12,'Referenzwerte und Vorgaben'!$A$2:$A$12,'Referenzwerte und Vorgaben'!$B$2:$B$12) ), "ja", "nein" ), "") ) ) )
A13: 9 | G13: =IF((E13-D13)=0,0,IF(F13/(E13-D13)>'Referenzwerte und Vorgaben'!$C$26,"Max. Förderquote = 80%!",F13/(E13-D13))) -> 0 | H13: =IF(0=TblFahrzeuge[[#This Row],[Förderquote zum Differenzbetrag]],0,IF(SUM($F$5:F13)<='Referenzwerte und Vorgaben'!$C$18,SUM($F$5:F13),"Max. Förderbetrag überschritten")) -> 0 | I13: {=_xlfn.LET( _xlpm.mind, '1_HRS Tankstelle Auswertung'!$E$15*'Referenzwerte und Vorgaben'!$B$22, _xlpm.classesAll, TblFahrzeuge[Fahrzeugklasse], _xlpm.statusAll, TblFahrzeuge[Neu oder Bestand], _xlpm.demandAll, _xlfn.XLOOKUP(_xlpm.classesAll, 'Referenzwerte und Vorgaben'!$A$2:$A$12, 'Referenzwerte und Vorgaben'!$C$2:$C$12, 0), _xlpm.totalNeu, SUMPRODUCT( (_xlpm.statusAll="Neu") * _xlpm.demandAll ), _xlpm.classesUpTo, $B$2:INDEX($B:$B, ROW()), _xlpm.statusUpTo, $C$2:INDEX($C:$C, ROW()), _xlpm.demandUpTo, _xlfn.XLOOKUP(_xlpm.classesUpTo, 'Referenzwerte und Vorgaben'!$A$2:$A$12, 'Referenzwerte und Vorgaben'!$C$2:$C$12, 0), _xlpm.cumNeu, SUMPRODUCT( (_xlpm.statusUpTo="Neu") * _xlpm.demandUpTo ), _xlpm.cumBest, SUMPRODUCT( (_xlpm.statusUpTo="Bestand") * _xlpm.demandUpTo ), _xlpm.needed, MAX(0, _xlpm.mind - _xlpm.totalNeu), IF(_xlpm.totalNeu >= _xlpm.mind, _xlpm.cumNeu, _xlpm.cumNeu + MIN(_xlpm.cumBest, _xlpm.needed) ) )} -> 0 | J13: =IF( AND(TblFahrzeuge[[#This Row],[Fahrzeugklasse]]="",TblFahrzeuge[[#This Row],[Neu oder Bestand]]="",TblFahrzeuge[[#This Row],[Referenzpreis Dieselfahrzeug in Euro]]="",TblFahrzeuge[[#This Row],[Angebotspreis H2 Fahrzeug in Euro]]="",TblFahrzeuge[[#This Row],[Beantragter Förderbetrag in Euro]]=""), "", IF( AND(TblFahrzeuge[[#This Row],[Neu oder Bestand]]="Bestand",OR(TblFahrzeuge[[#This Row],[Referenzpreis Dieselfahrzeug in Euro]]<>0,TblFahrzeuge[[#This Row],[Angebotspreis H2 Fahrzeug in Euro]]<>0,TblFahrzeuge[[#This Row],[Beantragter Förderbetrag in Euro]]<>0)), "nein", IF( OR(TblFahrzeuge[[#This Row],[Fahrzeugklasse]]="",TblFahrzeuge[[#This Row],[Neu oder Bestand]]="",TblFahrzeuge[[#This Row],[Referenzpreis Dieselfahrzeug in Euro]]="",TblFahrzeuge[[#This Row],[Angebotspreis H2 Fahrzeug in Euro]]="",TblFahrzeuge[[#This Row],[Beantragter Förderbetrag in Euro]]=""), "nein", IFERROR( IF( AND( TblFahrzeuge[[#This Row],[Förderquote zum Differenzbetrag]]<='Referenzwerte und Vorgaben'!$C$26, TblFahrzeuge[[#This Row],[Förderquote zum Differenzbetrag]]>=0, F17<=_xlfn.XLOOKUP(B17,'Referenzwerte und Vorgaben'!$A$2:$A$12,'Referenzwerte und Vorgaben'!$B$2:$B$12), TblFahrzeuge[[#This Row],[Förderbetrag kummulativ ]]<='Referenzwerte und Vorgaben'!$C$18, TblFahrzeuge[[#This Row],[Wasserstoffbedarf kummulativ]]<=('1_HRS Tankstelle Auswertung'!$E$15*'Referenzwerte und Vorgaben'!$C$22), F13<=_xlfn.XLOOKUP(B13,'Referenzwerte und Vorgaben'!$A$2:$A$12,'Referenzwerte und Vorgaben'!$B$2:$B$12) ), "ja", "nein" ), "") ) ) )
A14: 10 | G14: =IF((E14-D14)=0,0,IF(F14/(E14-D14)>'Referenzwerte und Vorgaben'!$C$26,"Max. Förderquote = 80%!",F14/(E14-D14))) -> 0 | H14: =IF(0=TblFahrzeuge[[#This Row],[Förderquote zum Differenzbetrag]],0,IF(SUM($F$5:F14)<='Referenzwerte und Vorgaben'!$C$18,SUM($F$5:F14),"Max. Förderbetrag überschritten")) -> 0 | I14: {=_xlfn.LET( _xlpm.mind, '1_HRS Tankstelle Auswertung'!$E$15*'Referenzwerte und Vorgaben'!$B$22, _xlpm.classesAll, TblFahrzeuge[Fahrzeugklasse], _xlpm.statusAll, TblFahrzeuge[Neu oder Bestand], _xlpm.demandAll, _xlfn.XLOOKUP(_xlpm.classesAll, 'Referenzwerte und Vorgaben'!$A$2:$A$12, 'Referenzwerte und Vorgaben'!$C$2:$C$12, 0), _xlpm.totalNeu, SUMPRODUCT( (_xlpm.statusAll="Neu") * _xlpm.demandAll ), _xlpm.classesUpTo, $B$2:INDEX($B:$B, ROW()), _xlpm.statusUpTo, $C$2:INDEX($C:$C, ROW()), _xlpm.demandUpTo, _xlfn.XLOOKUP(_xlpm.classesUpTo, 'Referenzwerte und Vorgaben'!$A$2:$A$12, 'Referenzwerte und Vorgaben'!$C$2:$C$12, 0), _xlpm.cumNeu, SUMPRODUCT( (_xlpm.statusUpTo="Neu") * _xlpm.demandUpTo ), _xlpm.cumBest, SUMPRODUCT( (_xlpm.statusUpTo="Bestand") * _xlpm.demandUpTo ), _xlpm.needed, MAX(0, _xlpm.mind - _xlpm.totalNeu), IF(_xlpm.totalNeu >= _xlpm.mind, _xlpm.cumNeu, _xlpm.cumNeu + MIN(_xlpm.cumBest, _xlpm.needed) ) )} -> 0 | J14: =IF( AND(TblFahrzeuge[[#This Row],[Fahrzeugklasse]]="",TblFahrzeuge[[#This Row],[Neu oder Bestand]]="",TblFahrzeuge[[#This Row],[Referenzpreis Dieselfahrzeug in Euro]]="",TblFahrzeuge[[#This Row],[Angebotspreis H2 Fahrzeug in Euro]]="",TblFahrzeuge[[#This Row],[Beantragter Förderbetrag in Euro]]=""), "", IF( AND(TblFahrzeuge[[#This Row],[Neu oder Bestand]]="Bestand",OR(TblFahrzeuge[[#This Row],[Referenzpreis Dieselfahrzeug in Euro]]<>0,TblFahrzeuge[[#This Row],[Angebotspreis H2 Fahrzeug in Euro]]<>0,TblFahrzeuge[[#This Row],[Beantragter Förderbetrag in Euro]]<>0)), "nein", IF( OR(TblFahrzeuge[[#This Row],[Fahrzeugklasse]]="",TblFahrzeuge[[#This Row],[Neu oder Bestand]]="",TblFahrzeuge[[#This Row],[Referenzpreis Dieselfahrzeug in Euro]]="",TblFahrzeuge[[#This Row],[Angebotspreis H2 Fahrzeug in Euro]]="",TblFahrzeuge[[#This Row],[Beantragter Förderbetrag in Euro]]=""), "nein", IFERROR( IF( AND( TblFahrzeuge[[#This Row],[Förderquote zum Differenzbetrag]]<='Referenzwerte und Vorgaben'!$C$26, TblFahrzeuge[[#This Row],[Förderquote zum Differenzbetrag]]>=0, F18<=_xlfn.XLOOKUP(B18,'Referenzwerte und Vorgaben'!$A$2:$A$12,'Referenzwerte und Vorgaben'!$B$2:$B$12), TblFahrzeuge[[#This Row],[Förderbetrag kummulativ ]]<='Referenzwerte und Vorgaben'!$C$18, TblFahrzeuge[[#This Row],[Wasserstoffbedarf kummulativ]]<=('1_HRS Tankstelle Auswertung'!$E$15*'Referenzwerte und Vorgaben'!$C$22), F14<=_xlfn.XLOOKUP(B14,'Referenzwerte und Vorgaben'!$A$2:$A$12,'Referenzwerte und Vorgaben'!$B$2:$B$12) ), "ja", "nein" ), "") ) ) )
A15: 11 | G15: =IF((E15-D15)=0,0,IF(F15/(E15-D15)>'Referenzwerte und Vorgaben'!$C$26,"Max. Förderquote = 80%!",F15/(E15-D15))) -> 0 | H15: =IF(0=TblFahrzeuge[[#This Row],[Förderquote zum Differenzbetrag]],0,IF(SUM($F$5:F15)<='Referenzwerte und Vorgaben'!$C$18,SUM($F$5:F15),"Max. Förderbetrag überschritten")) -> 0 | I15: {=_xlfn.LET( _xlpm.mind, '1_HRS Tankstelle Auswertung'!$E$15*'Referenzwerte und Vorgaben'!$B$22, _xlpm.classesAll, TblFahrzeuge[Fahrzeugklasse], _xlpm.statusAll, TblFahrzeuge[Neu oder Bestand], _xlpm.demandAll, _xlfn.XLOOKUP(_xlpm.classesAll, 'Referenzwerte und Vorgaben'!$A$2:$A$12, 'Referenzwerte und Vorgaben'!$C$2:$C$12, 0), _xlpm.totalNeu, SUMPRODUCT( (_xlpm.statusAll="Neu") * _xlpm.demandAll ), _xlpm.classesUpTo, $B$2:INDEX($B:$B, ROW()), _xlpm.statusUpTo, $C$2:INDEX($C:$C, ROW()), _xlpm.demandUpTo, _xlfn.XLOOKUP(_xlpm.classesUpTo, 'Referenzwerte und Vorgaben'!$A$2:$A$12, 'Referenzwerte und Vorgaben'!$C$2:$C$12, 0), _xlpm.cumNeu, SUMPRODUCT( (_xlpm.statusUpTo="Neu") * _xlpm.demandUpTo ), _xlpm.cumBest, SUMPRODUCT( (_xlpm.statusUpTo="Bestand") * _xlpm.demandUpTo ), _xlpm.needed, MAX(0, _xlpm.mind - _xlpm.totalNeu), IF(_xlpm.totalNeu >= _xlpm.mind, _xlpm.cumNeu, _xlpm.cumNeu + MIN(_xlpm.cumBest, _xlpm.needed) ) )} -> 0 | J15: =IF( AND(TblFahrzeuge[[#This Row],[Fahrzeugklasse]]="",TblFahrzeuge[[#This Row],[Neu oder Bestand]]="",TblFahrzeuge[[#This Row],[Referenzpreis Dieselfahrzeug in Euro]]="",TblFahrzeuge[[#This Row],[Angebotspreis H2 Fahrzeug in Euro]]="",TblFahrzeuge[[#This Row],[Beantragter Förderbetrag in Euro]]=""), "", IF( AND(TblFahrzeuge[[#This Row],[Neu oder Bestand]]="Bestand",OR(TblFahrzeuge[[#This Row],[Referenzpreis Dieselfahrzeug in Euro]]<>0,TblFahrzeuge[[#This Row],[Angebotspreis H2 Fahrzeug in Euro]]<>0,TblFahrzeuge[[#This Row],[Beantragter Förderbetrag in Euro]]<>0)), "nein", IF( OR(TblFahrzeuge[[#This Row],[Fahrzeugklasse]]="",TblFahrzeuge[[#This Row],[Neu oder Bestand]]="",TblFahrzeuge[[#This Row],[Referenzpreis Dieselfahrzeug in Euro]]="",TblFahrzeuge[[#This Row],[Angebotspreis H2 Fahrzeug in Euro]]="",TblFahrzeuge[[#This Row],[Beantragter Förderbetrag in Euro]]=""), "nein", IFERROR( IF( AND( TblFahrzeuge[[#This Row],[Förderquote zum Differenzbetrag]]<='Referenzwerte und Vorgaben'!$C$26, TblFahrzeuge[[#This Row],[Förderquote zum Differenzbetrag]]>=0, F19<=_xlfn.XLOOKUP(B19,'Referenzwerte und Vorgaben'!$A$2:$A$12,'Referenzwerte und Vorgaben'!$B$2:$B$12), TblFahrzeuge[[#This Row],[Förderbetrag kummulativ ]]<='Referenzwerte und Vorgaben'!$C$18, TblFahrzeuge[[#This Row],[Wasserstoffbedarf kummulativ]]<=('1_HRS Tankstelle Auswertung'!$E$15*'Referenzwerte und Vorgaben'!$C$22), F15<=_xlfn.XLOOKUP(B15,'Referenzwerte und Vorgaben'!$A$2:$A$12,'Referenzwerte und Vorgaben'!$B$2:$B$12) ), "ja", "nein" ), "") ) ) )
A16: 12 | G16: =IF((E16-D16)=0,0,IF(F16/(E16-D16)>'Referenzwerte und Vorgaben'!$C$26,"Max. Förderquote = 80%!",F16/(E16-D16))) -> 0 | H16: =IF(0=TblFahrzeuge[[#This Row],[Förderquote zum Differenzbetrag]],0,IF(SUM($F$5:F16)<='Referenzwerte und Vorgaben'!$C$18,SUM($F$5:F16),"Max. Förderbetrag überschritten")) -> 0 | I16: {=_xlfn.LET( _xlpm.mind, '1_HRS Tankstelle Auswertung'!$E$15*'Referenzwerte und Vorgaben'!$B$22, _xlpm.classesAll, TblFahrzeuge[Fahrzeugklasse], _xlpm.statusAll, TblFahrzeuge[Neu oder Bestand], _xlpm.demandAll, _xlfn.XLOOKUP(_xlpm.classesAll, 'Referenzwerte und Vorgaben'!$A$2:$A$12, 'Referenzwerte und Vorgaben'!$C$2:$C$12, 0), _xlpm.totalNeu, SUMPRODUCT( (_xlpm.statusAll="Neu") * _xlpm.demandAll ), _xlpm.classesUpTo, $B$2:INDEX($B:$B, ROW()), _xlpm.statusUpTo, $C$2:INDEX($C:$C, ROW()), _xlpm.demandUpTo, _xlfn.XLOOKUP(_xlpm.classesUpTo, 'Referenzwerte und Vorgaben'!$A$2:$A$12, 'Referenzwerte und Vorgaben'!$C$2:$C$12, 0), _xlpm.cumNeu, SUMPRODUCT( (_xlpm.statusUpTo="Neu") * _xlpm.demandUpTo ), _xlpm.cumBest, SUMPRODUCT( (_xlpm.statusUpTo="Bestand") * _xlpm.demandUpTo ), _xlpm.needed, MAX(0, _xlpm.mind - _xlpm.totalNeu), IF(_xlpm.totalNeu >= _xlpm.mind, _xlpm.cumNeu, _xlpm.cumNeu + MIN(_xlpm.cumBest, _xlpm.needed) ) )} -> 0 | J16: =IF( AND(TblFahrzeuge[[#This Row],[Fahrzeugklasse]]="",TblFahrzeuge[[#This Row],[Neu oder Bestand]]="",TblFahrzeuge[[#This Row],[Referenzpreis Dieselfahrzeug in Euro]]="",TblFahrzeuge[[#This Row],[Angebotspreis H2 Fahrzeug in Euro]]="",TblFahrzeuge[[#This Row],[Beantragter Förderbetrag in Euro]]=""), "", IF( AND(TblFahrzeuge[[#This Row],[Neu oder Bestand]]="Bestand",OR(TblFahrzeuge[[#This Row],[Referenzpreis Dieselfahrzeug in Euro]]<>0,TblFahrzeuge[[#This Row],[Angebotspreis H2 Fahrzeug in Euro]]<>0,TblFahrzeuge[[#This Row],[Beantragter Förderbetrag in Euro]]<>0)), "nein", IF( OR(TblFahrzeuge[[#This Row],[Fahrzeugklasse]]="",TblFahrzeuge[[#This Row],[Neu oder Bestand]]="",TblFahrzeuge[[#This Row],[Referenzpreis Dieselfahrzeug in Euro]]="",TblFahrzeuge[[#This Row],[Angebotspreis H2 Fahrzeug in Euro]]="",TblFahrzeuge[[#This Row],[Beantragter Förderbetrag in Euro]]=""), "nein", IFERROR( IF( AND( TblFahrzeuge[[#This Row],[Förderquote zum Differenzbetrag]]<='Referenzwerte und Vorgaben'!$C$26, TblFahrzeuge[[#This Row],[Förderquote zum Differenzbetrag]]>=0, F20<=_xlfn.XLOOKUP(B20,'Referenzwerte und Vorgaben'!$A$2:$A$12,'Referenzwerte und Vorgaben'!$B$2:$B$12), TblFahrzeuge[[#This Row],[Förderbetrag kummulativ ]]<='Referenzwerte und Vorgaben'!$C$18, TblFahrzeuge[[#This Row],[Wasserstoffbedarf kummulativ]]<=('1_HRS Tankstelle Auswertung'!$E$15*'Referenzwerte und Vorgaben'!$C$22), F16<=_xlfn.XLOOKUP(B16,'Referenzwerte und Vorgaben'!$A$2:$A$12,'Referenzwerte und Vorgaben'!$B$2:$B$12) ), "ja", "nein" ), "") ) ) )
... A104: 100 | G104: =IF((E104-D104)=0,0,IF(F104/(E104-D104)>'Referenzwerte und Vorgaben'!$C$26,"Max. Förderquote = 80%!",F104/(E104-D104))) -> 0 | H104: =IF(0=TblFahrzeuge[[#This Row],[Förderquote zum Differenzbetrag]],0,IF(SUM($F$5:F104)<='Referenzwerte und Vorgaben'!$C$18,SUM($F$5:F104),"Max. Förderbetrag überschritten")) -> 0 | I104: {=_xlfn.LET( _xlpm.mind, '1_HRS Tankstelle Auswertung'!$E$15*'Referenzwerte und Vorgaben'!$B$22, _xlpm.classesAll, TblFahrzeuge[Fahrzeugklasse], _xlpm.statusAll, TblFahrzeuge[Neu oder Bestand], _xlpm.demandAll, _xlfn.XLOOKUP(_xlpm.classesAll, 'Referenzwerte und Vorgaben'!$A$2:$A$12, 'Referenzwerte und Vorgaben'!$C$2:$C$12, 0), _xlpm.totalNeu, SUMPRODUCT( (_xlpm.statusAll="Neu") * _xlpm.demandAll ), _xlpm.classesUpTo, $B$2:INDEX($B:$B, ROW()), _xlpm.statusUpTo, $C$2:INDEX($C:$C, ROW()), _xlpm.demandUpTo, _xlfn.XLOOKUP(_xlpm.classesUpTo, 'Referenzwerte und Vorgaben'!$A$2:$A$12, 'Referenzwerte und Vorgaben'!$C$2:$C$12, 0), _xlpm.cumNeu, SUMPRODUCT( (_xlpm.statusUpTo="Neu") * _xlpm.demandUpTo ), _xlpm.cumBest, SUMPRODUCT( (_xlpm.statusUpTo="Bestand") * _xlpm.demandUpTo ), _xlpm.needed, MAX(0, _xlpm.mind - _xlpm.totalNeu), IF(_xlpm.totalNeu >= _xlpm.mind, _xlpm.cumNeu, _xlpm.cumNeu + MIN(_xlpm.cumBest, _xlpm.needed) ) )} -> 0 | J104: =IF( AND(TblFahrzeuge[[#This Row],[Fahrzeugklasse]]="",TblFahrzeuge[[#This Row],[Neu oder Bestand]]="",TblFahrzeuge[[#This Row],[Referenzpreis Dieselfahrzeug in Euro]]="",TblFahrzeuge[[#This Row],[Angebotspreis H2 Fahrzeug in Euro]]="",TblFahrzeuge[[#This Row],[Beantragter Förderbetrag in Euro]]=""), "", IF( AND(TblFahrzeuge[[#This Row],[Neu oder Bestand]]="Bestand",OR(TblFahrzeuge[[#This Row],[Referenzpreis Dieselfahrzeug in Euro]]<>0,TblFahrzeuge[[#This Row],[Angebotspreis H2 Fahrzeug in Euro]]<>0,TblFahrzeuge[[#This Row],[Beantragter Förderbetrag in Euro]]<>0)), "nein", IF( OR(TblFahrzeuge[[#This Row],[Fahrzeugklasse]]="",TblFahrzeuge[[#This Row],[Neu oder Bestand]]="",TblFahrzeuge[[#This Row],[Referenzpreis Dieselfahrzeug in Euro]]="",TblFahrzeuge[[#This Row],[Angebotspreis H2 Fahrzeug in Euro]]="",TblFahrzeuge[[#This Row],[Beantragter Förderbetrag in Euro]]=""), "nein", IFERROR( IF( AND( TblFahrzeuge[[#This Row],[Förderquote zum Differenzbetrag]]<='Referenzwerte und Vorgaben'!$C$26, TblFahrzeuge[[#This Row],[Förderquote zum Differenzbetrag]]>=0, F108<=_xlfn.XLOOKUP(B108,'Referenzwerte und Vorgaben'!$A$2:$A$12,'Referenzwerte und Vorgaben'!$B$2:$B$12), TblFahrzeuge[[#This Row],[Förderbetrag kummulativ ]]<='Referenzwerte und Vorgaben'!$C$18, TblFahrzeuge[[#This Row],[Wasserstoffbedarf kummulativ]]<=('1_HRS Tankstelle Auswertung'!$E$15*'Referenzwerte und Vorgaben'!$C$22), F104<=_xlfn.XLOOKUP(B104,'Referenzwerte und Vorgaben'!$A$2:$A$12,'Referenzwerte und Vorgaben'!$B$2:$B$12) ), "ja", "nein" ), "") ) ) )
I105: =IFERROR(IF(AND(TblFahrzeuge[[#This Row],[Förderquote zum Differenzbetrag]]<='Referenzwerte und Vorgaben'!$C$26,F105<=_xlfn.XLOOKUP(B105,'Referenzwerte und Vorgaben'!$A$2:$A$12,'Referenzwerte und Vorgaben'!$B$2:$B$12),TblFahrzeuge[[#This Row],[Förderbetrag kummulativ ]]<='Referenzwerte und Vorgaben'!$C$18),"ja","nein"),"")

Sheet Referenzwerte und Vorgaben
A1: (1) Fahrzeugklassen | B1: Max. Förderbetrag* in Euro | C1: Wasserstoffabnahme des Fahrzeugs an der Tankstelle in kg/Tag gemäß den Referenzwerten*
A2: N2 mit Brennstoffzelle | B2: 150000 | C2: 9
A3: N2 mit Wasserstoffverbrenner | B3: 50000 | C3: 9
A4: N3 (<= 30 t) mit Brennstoffzelle | B4: 220000 | C4: 15
A5: N3 (<= 30 t) mit Wasserstoffverbrenner | B5: 70000 | C5: 15
A6: N3 (> 30 t) mit Brennstoffzelle | B6: 300000 | C6: 25
A7: N3 (> 30 t) mit Wasserstoffverbrenner | B7: 100000 | C7: 25
A14: * Werte stammen aus dem Förderaufruf
A17: (2) Förderbeträge | B17: HRS Teil in Euro | C17: Fahrzeugteol in Euro
A18: Höchstförderbeträge | B18: 4000000 | C18: 3000000
A21: (3) Anforderungen Gesamtkapzität | B21: Minimaler Anteil an C+C0 | C21: Maximaler Anteil an C+C0
A22: H2 Gesamtbedarf der Fahreugflotte (neu+Bestand)/(Kapazität der zugeordneten AFIR HRS) | B22: 0.1 | C22: 0.15
A25: (4) Förderquoten nach Bereich | B25: HRS Teil Wert | C25: Fahrzeugteil Wert
A26: Maximale Förderquote | B26: 0.5 | C26: 0.8
A28: (5) Mindeskapazität der HRS | B28: Wert
A29: Kapazität kg/Tag | B29: 1000
