Workbook

Sheet Finanzübersicht
A2: FINANZÜBERSICHT (FÖRDERPHASE 1)
A4: lfd. Nr. | B4: Partner | C4: Personal | D4: Reisen | E4: Material | F4: Investitionen | G4: FuE-Aufträge | H4: Gemeinkosten | I4: Sonstiges | J4: Gesamt | K4: Förderquote | L4: Zuwendung
A5: 1 | B5: Hochschule Musterstadt (Beispiel) | C5: 300000 | D5: 5000 | E5: 600000 | F5: 0 | G5: 10000 | H5: 0 | I5: 6000 | J5: =SUM(Finanzübersicht!$C5:$I5) -> 921000 | K5: 1.2 | L5: =Finanzübersicht!$J5*Finanzübersicht!$K5 -> 1105200 | M5: Beispiel bitte entfernen
A6: 2 | J6: =SUM(Finanzübersicht!$C6:$I6) -> 0 | L6: =Finanzübersicht!$J6*Finanzübersicht!$K6 -> 0
A7: 3 | J7: =SUM(Finanzübersicht!$C7:$I7) -> 0 | L7: =Finanzübersicht!$J7*Finanzübersicht!$K7 -> 0
A8: 4 | J8: =SUM(Finanzübersicht!$C8:$I8) -> 0 | L8: =Finanzübersicht!$J8*Finanzübersicht!$K8 -> 0
A9: 5 | J9: =SUM(Finanzübersicht!$C9:$I9) -> 0 | L9: =Finanzübersicht!$J9*Finanzübersicht!$K9 -> 0
A10: 6 | J10: =SUM(Finanzübersicht!$C10:$I10) -> 0 | L10: =Finanzübersicht!$J10*Finanzübersicht!$K10 -> 0
A11: 7 | J11: =SUM(Finanzübersicht!$C11:$I11) -> 0 | L11: =Finanzübersicht!$J11*Finanzübersicht!$K11 -> 0
A12: 8 | J12: =SUM(Finanzübersicht!$C12:$I12) -> 0 | L12: =Finanzübersicht!$J12*Finanzübersicht!$K12 -> 0
A13: 9 | J13: =SUM(Finanzübersicht!$C13:$I13) -> 0 | L13: =Finanzübersicht!$J13*Finanzübersicht!$K13 -> 0
A14: 10 | J14: =SUM(Finanzübersicht!$C14:$I14) -> 0 | L14: =Finanzübersicht!$J14*Finanzübersicht!$K14 -> 0
A15: 11 | J15: =SUM(Finanzübersicht!$C15:$I15) -> 0 | L15: =Finanzübersicht!$J15*Finanzübersicht!$K15 -> 0
A16: 12 | J16: =SUM(Finanzübersicht!$C16:$I16) -> 0 | L16: =Finanzübersicht!$J16*Finanzübersicht!$K16 -> 0
A17: 13 | J17: =SUM(Finanzübersicht!$C17:$I17) -> 0 | L17: =Finanzübersicht!$J17*Finanzübersicht!$K17 -> 0
... A24: 20 | J24: =SUM(Finanzübersicht!$C24:$I24) -> 0 | L24: =Finanzübersicht!$J24*Finanzübersicht!$K24 -> 0
I25: GESAMT HUB | J25: =SUM(J5:J24) -> 921000 | K25: =L25/J25 -> 1.2 | L25: =SUM(L5:L24) -> 1105200
A27: Hinweise: ► Bitte löschen oder ergänzen Sie Zeilen entsprechend der Partneranzahl im Hub. ► Graue und grüne Felder sind durch Formeln vorbelegt und müssen nicht ausgefüllt werden. ► Bei Antragstellern, die zur Beantragung der Projektpauschale berechtigt sind (Hochschulen, Universitäten), bitte die 20 % Projektpauschale in die Förderquote einbeziehen (= 120 %; siehe Beispiel).
