{"text_format":"2","workbook":"xlsx","n_sheets":6,"sheets":["AZA 2025","AZA 2026","AZA 2027","AZA 2028","8.1a Erläuterung zum AZA","Ausgabenbedarf"],"not_rendered":{"charts":0,"images":1,"macros":0,"external_links":0,"defined_names":5,"comments":0,"pivot_tables":0},"unopened":[],"bounds":{"document_bytes":16777216,"sheet_cells":100000,"run_cost":"one","rows_first":2000,"rows_last":500,"rows_between":2000,"halvings":0,"cell_chars":16384,"cell_head_chars":4096},"cells_cut":0,"cells_raw":0,"read":"whole","date_system":"1900"}

{"sheet":"AZA 2025","index":0,"n_rows":46,"n_cols":13,"rows_kept":46,"cut":false,"hidden":false,"merged":[[43,1,43,11],[44,1,44,11],[45,1,45,11],[35,0,35,3],[35,8,35,12],[3,11,6,11],[3,12,6,12],[5,0,6,0],[5,1,6,1],[5,2,6,2],[5,3,6,3],[3,7,3,9],[4,10,6,10],[3,2,4,5],[3,0,4,1],[4,7,6,7],[46,1,46,11],[5,8,6,9],[0,0,0,1],[0,2,0,10],[1,0,1,1],[1,2,1,12],[2,0,2,1],[2,3,2,12],[36,0,36,4],[38,0,38,12],[40,1,40,11],[41,1,41,11],[5,4,6,4],[5,5,6,5],[34,0,34,4],[3,6,6,6]]}
["Prokjekttitel (kurz):",null,"Projekttitel einmalig eingeben (wird übernommen)",{"$nulls":8},"Jahr:",2025]
["Antragstellerin / Antragsteller:",null,"Name der Antragsstellerin einmalig eingeben (wird übernommen)"]
["Auswahl Gemeinausgabenpauschale:\n(bitte nur bei Auswahl von 3.9.1 , \"ja\" eintragen)"]
["Arbeitspakete \n(identisch mit Vorhabensbeschreibung)",null,"Personal *",null,null,null,"Investitionen\n(Schwellenwert > 800 €)","Sachausgaben ***\n",null,null,"Gemein-ausgaben ***","Summe der AP \n(Spalten 6 bis 10)","Bemerkungen \n(z.B. Verweis auf Erläuterungs-Beiblatt)"]
[{"$nulls":7},"Dienst- und Fremdleistungen","Verbrauchsstoffe und –materialien, geringfügige Wirtschaftsgüter","Reisen","(nur bei Auswahl von 3.9.2, Einzelnachweise erforderlich)"]
["lfd. Nr. ","Bezeichnung ","Anzahl und Qualifikation/ Funktion","Stunden gesamt \n**","Stunden-satz [€]** (Übertrag aus 8.1a)","Ausgaben [Spalte4 x Spalte5]",null,null,"(nur bei Auswahl 3.9.2 oder 3.9.3, Ausgabengruppen ENTFALLEN bei Wahl der Pauschale)"]
[]
[1,2,3,4,5,6,7,8,9,10,11,12,13]
[{"$nulls":5},{"$f":"D9*E9","v":0},{"$nulls":5},{"$f":"IF($C$3=\"\",SUM(F9:J9),SUM(F9:H9))","v":0}]
[{"$nulls":5},{"$f":"D10*E10","v":0},{"$nulls":5},{"$f":"IF($C$3=\"\",SUM(F10:J10),SUM(F10:H10))","v":0}]
[{"$nulls":5},{"$f":"D11*E11","v":0},{"$nulls":5},0]
[{"$nulls":5},{"$f":"D12*E12","v":0},{"$nulls":5},0]
[{"$nulls":5},0,{"$nulls":5},0]
[{"$nulls":5},0,{"$nulls":5},0]
[{"$nulls":5},0,{"$nulls":5},0]
[{"$nulls":5},0,{"$nulls":5},0]
[{"$nulls":5},0,{"$nulls":5},0]
[{"$nulls":5},0,{"$nulls":5},0]
[{"$nulls":5},0,{"$nulls":5},0]
[{"$nulls":5},0,{"$nulls":5},0]
[{"$nulls":5},0,{"$nulls":5},0]
[{"$nulls":5},0,{"$nulls":5},0]
[{"$nulls":5},0,{"$nulls":5},0]
[{"$nulls":5},0,{"$nulls":5},0]
[{"$nulls":5},{"$f":"D25*E25","v":0},{"$nulls":5},{"$f":"IF($C$3=\"\",SUM(F25:J25),SUM(F25:H25))","v":0}]
[{"$nulls":5},0,{"$nulls":5},0]
[{"$nulls":5},0,{"$nulls":5},0]
[{"$nulls":5},0,{"$nulls":5},0]
[{"$nulls":5},{"$f":"D29*E29","v":0},{"$nulls":5},{"$f":"IF($C$3=\"\",SUM(F29:J29),SUM(F29:H29))","v":0}]
[{"$nulls":5},0,{"$nulls":5},0]
[{"$nulls":5},0,{"$nulls":5},0]
[{"$nulls":5},0,{"$nulls":5},0]
[{"$nulls":5},0,{"$nulls":5},0]
[null,"Gemeinausgaben (bei Auswahl 3.9.2 des Antragsformulars)"]
["Zwischensumme",{"$nulls":4},{"$f":"SUM(F9:F33)","v":0},{"$f":"SUM(G9:G33)","v":0},{"$f":"SUM(H9:H33)","v":0},{"$f":"IF($C$3=\"\",SUM(I9:I33),\"\")","v":0},{"$f":"IF($C$3=\"\",SUM(J9:J33),\"\")","v":0},{"$f":"IF($C$3=\"\",K34,\"\")","v":0},{"$f":"IF($C$3=\"\",SUM(F35:K35),SUM(F35:H35))","v":0}]
["Gemeinausgabenpauschale (errechnet sich automatisch bei Eintragung in Zelle C3)",null,null,null,0.15,{"$f":"IF($C$3=\"\",\"-\",ROUND((F35)*$E$36,2))","v":"-"},{"$f":"IF($C$3=\"\",\"-\",ROUND((G35)*$E$36,2))","v":"-"},{"$f":"IF($C$3=\"\",\"-\",ROUND((H35)*$E$36,2))","v":"-"}]
["Gesamtsumme",{"$nulls":4},{"$f":"IF(F36=\"-\",F35,SUM(F35+F36))","v":0},{"$f":"IF(G36=\"-\",G35,SUM(G35+G36))","v":0},0,{"$f":"I35","v":0},{"$f":"J35","v":0},{"$f":"K35","v":0},{"$f":"SUM(F37:K37)","v":0}]
[]
[" Eintragungen nur in weißen oder  gelben Feldern möglich!"]
[]
["*","Bei Selbständigen („Freiberufler“) und Personengesellschaften sind nur die Personalausgaben von beschäftigten Arbeitnehmer_innen, die in einem lohnsteuerpflichtigen Arbeitsverhältnis stehen, zuwendungsfähig. Die Arbeitsleistung einer/eines selbständigen Unternehmerin/Unternehmers ist nicht zuwendungsfähig. Ein Ansatz von kalkulatorischem Unternehmerlohn ist ausgeschlossen."]
["**","Maximal erstattungsfähige produktive Jahresarbeitsstunden pro Mitarbeiter_in: 1720 Stunden Vollzeitäquivalent, dementsprechend anteilig bei Teilzeitbeschäftigung. Berechnung des Stundensatzes anhand des Jahresarbeitgeberbruttos (inkl. Sozialversicherung) dividiert durch die erstattungsfähige Jahresarbeitszeit von maximal 1720 Stunden"]
["***","Gemeinausgaben sollen sich wie folgt bemessen:"]
[null,"• 3.9.1 in Form eines pauschalen Aufschlags von bis zu 15 % auf den Gesamtbetrag der beihilfefähigen Ausgaben (Personal, Dienstleistungen, Investitionen)\n(Ausgaben für Reisen und Sachausgaben sind bei Wahl des pauschalen Aufschlags über diesen abgedeckt und können nicht gesondert neben Personal, Dienstleistungen und Investitionen abgerechnet werden)"]
[null,"• 3.9.2 nach den tatsächlich angefallenen und nachgewiesenen Ausgaben\n(Die projektbezogenen Gemeinausgaben/sonstige Betriebsausgaben sind in diesem Fall ebenfalls neben den beihilfefähigen Ausgaben (Personal, Dienstleistungen, Investitionen, Sachausgaben und Reisen) als getätigte Ausgaben belegmäßig einzeln nachzuweisen)"]
[null,"• 3.9.3 es werden keine zusätzlichen Gemeinausgaben und sonstigen Betriebsausgaben beantragt\n(in diesem Fall können nur die beihilfefähigen Ausgaben (Personal, Dienstleistungen, Investitionen, Sachausgaben und Reisen) als getätigte Ausgaben belegmäßig nachgewiesen werden)"]

{"sheet":"AZA 2026","index":1,"n_rows":37,"n_cols":13,"rows_kept":37,"cut":false,"hidden":false,"merged":[[35,0,35,3],[35,8,35,12],[36,0,36,4],[3,11,6,11],[5,3,6,3],[5,4,6,4],[5,5,6,5],[34,0,34,4],[5,8,6,9],[3,12,6,12],[4,10,6,10],[5,0,6,0],[5,1,6,1],[5,2,6,2],[3,0,4,1],[3,2,4,5],[3,6,6,6],[3,7,3,9],[0,0,0,1],[0,2,0,10],[1,0,1,1],[1,2,1,12],[2,0,2,1],[2,3,2,12],[4,7,6,7]]}
["Prokjekttitel (kurz):",null,{"$f":"'AZA 2025'!C1:K1","v":"Projekttitel einmalig eingeben (wird übernommen)"},{"$nulls":8},"Jahr:",2026]
["Antragstellerin / Antragsteller:",null,{"$f":"'AZA 2025'!C2:M2","v":"Name der Antragsstellerin einmalig eingeben (wird übernommen)"}]
["Auswahl Gemeinausgabenpauschale:\n",null,{"$f":"IF('AZA 2025'!$C$3=\"\",\"\",\"ja\")","v":""}]
["Arbeitspakete \n(identisch mit Vorhabensbeschreibung)",null,"Personal *",null,null,null,"Investitionen\n(Schwellenwert > 800 €)","Sachausgaben\n",null,null,"Gemein-ausgaben***","Summe der AP \n(Spalten 6 bis 10)","Bemerkungen \n(z.B. Verweis auf Erläuterungs-Beiblatt)"]
[{"$nulls":7},"Dienst- und Fremdleistungen","Verbrauchsstoffe und –materialien, geringfügige Wirtschaftsgüter","Reisen","(nur bei Auswahl von 3.9.2 des Antragsformulars eintragen, Einzelnachweise erforderlich)"]
["lfd. Nr. ","Bezeichnung ","Anzahl und Qualifikation/ Funktion","Stunden gesamt \n**","Stunden-satz [€]** (Übertrag aus 8.1a)","Ausgaben [Spalte4 x Spalte5]",null,null,"(nur bei Auswahl 3.9.2 oder 3.9.3 des Antragsformulars eintragen, Ausgabengruppen ENTFALLEN bei Wahl der Pauschale)"]
[]
[1,2,3,4,5,6,7,8,9,10,11,12,13]
[{"$nulls":5},{"$f":"D9*E9","v":0},{"$nulls":5},{"$f":"IF($C$3=\"\",SUM(F9:J9),SUM(F9:H9))","v":0}]
[{"$nulls":5},{"$f":"D10*E10","v":0},{"$nulls":5},{"$f":"IF($C$3=\"\",SUM(F10:J10),SUM(F10:H10))","v":0}]
[{"$nulls":5},{"$f":"D11*E11","v":0},{"$nulls":5},0]
[{"$nulls":5},{"$f":"D12*E12","v":0},{"$nulls":5},0]
[{"$nulls":5},0,{"$nulls":5},0]
[{"$nulls":5},0,{"$nulls":5},0]
[{"$nulls":5},0,{"$nulls":5},0]
[{"$nulls":5},0,{"$nulls":5},0]
[{"$nulls":5},0,{"$nulls":5},0]
[{"$nulls":5},0,{"$nulls":5},0]
[{"$nulls":5},0,{"$nulls":5},0]
[{"$nulls":5},0,{"$nulls":5},0]
[{"$nulls":5},0,{"$nulls":5},0]
[{"$nulls":5},0,{"$nulls":5},0]
[{"$nulls":5},0,{"$nulls":5},0]
[{"$nulls":5},0,{"$nulls":5},0]
[{"$nulls":5},0,{"$nulls":5},0]
[{"$nulls":5},0,{"$nulls":5},0]
[{"$nulls":5},0,{"$nulls":5},0]
[{"$nulls":5},0,{"$nulls":5},0]
[{"$nulls":5},0,{"$nulls":5},0]
[{"$nulls":5},0,{"$nulls":5},0]
[{"$nulls":5},0,{"$nulls":5},{"$f":"IF($C$3=\"\",SUM(F31:J31),SUM(F31:H31))","v":0}]
[{"$nulls":5},0,{"$nulls":5},{"$f":"IF($C$3=\"\",SUM(F32:J32),SUM(F32:H32))","v":0}]
[{"$nulls":5},0,{"$nulls":5},0]
[null,"Gemeinausgaben (bei Auswahl 3.9.2 des Antragsformulars)"]
["Zwischensumme",{"$nulls":4},{"$f":"SUM(F9:F33)","v":0},0,0,{"$f":"IF($C$3=\"\",SUM(I9:I33),\"\")","v":0},{"$f":"IF($C$3=\"\",SUM(J9:J33),\"\")","v":0},{"$f":"IF($C$3=\"\",K34,\"\")","v":0},{"$f":"IF($C$3=\"\",SUM(F35:K35),SUM(F35:H35))","v":0}]
["Gemeinausgabenpauschale (errechnet sich automatisch bei Eintragung in Zelle C3)",null,null,null,0.15,{"$f":"IF($C$3=\"\",\"-\",ROUND((F35)*$E$36,2))","v":"-"},{"$f":"IF($C$3=\"\",\"-\",ROUND((G35)*$E$36,2))","v":"-"},"-"]
["Gesamtsumme",{"$nulls":4},{"$f":"IF(F36=\"-\",F35,SUM(F35+F36))","v":0},{"$f":"IF(G36=\"-\",G35,SUM(G35+G36))","v":0},0,{"$f":"I35","v":0},{"$f":"J35","v":0},{"$f":"K35","v":0},{"$f":"SUM(F37:K37)","v":0}]

{"sheet":"AZA 2027","index":2,"n_rows":37,"n_cols":13,"rows_kept":37,"cut":false,"hidden":false,"merged":[[35,0,35,3],[35,8,35,12],[36,0,36,4],[3,11,6,11],[5,3,6,3],[5,4,6,4],[5,5,6,5],[34,0,34,4],[5,8,6,9],[3,12,6,12],[4,10,6,10],[5,0,6,0],[5,1,6,1],[5,2,6,2],[3,0,4,1],[3,2,4,5],[3,6,6,6],[3,7,3,9],[0,0,0,1],[0,2,0,10],[1,0,1,1],[1,2,1,12],[2,0,2,1],[2,3,2,12],[4,7,6,7]]}
["Prokjekttitel (kurz):",null,{"$f":"'AZA 2025'!C1:K1","v":"Projekttitel einmalig eingeben (wird übernommen)"},{"$nulls":8},"Jahr:",2027]
["Antragstellerin / Antragsteller:",null,{"$f":"'AZA 2025'!C2:M2","v":"Name der Antragsstellerin einmalig eingeben (wird übernommen)"}]
["Auswahl Gemeinausgabenpauschale:\n",null,{"$f":"IF('AZA 2025'!$C$3=\"\",\"\",\"ja\")","v":""}]
["Arbeitspakete \n(identisch mit Vorhabensbeschreibung)",null,"Personal *",null,null,null,"Investitionen\n(Schwellenwert > 800 €)","Sachausgaben\n",null,null,"Gemein-ausgaben***","Summe der AP \n(Spalten 6 bis 10)","Bemerkungen \n(z.B. Verweis auf Erläuterungs-Beiblatt)"]
[{"$nulls":7},"Dienst- und Fremdleistungen","Verbrauchsstoffe und –materialien, geringfügige Wirtschaftsgüter","Reisen","(nur bei Auswahl von 3.9.2 des Antragsformulars eintragen, Einzelnachweise erforderlich)"]
["lfd. Nr. ","Bezeichnung ","Anzahl und Qualifikation/ Funktion","Stunden gesamt \n**","Stunden-satz [€]** (Übertrag aus 8.1a)","Ausgaben [Spalte4 x Spalte5]",null,null,"(nur bei Auswahl 3.9.2 oder 3.9.3 des Antragsformulars eintragen, Ausgabengruppen ENTFALLEN bei Wahl der Pauschale)"]
[]
[1,2,3,4,5,6,7,8,9,10,11,12,13]
[{"$nulls":5},{"$f":"D9*E9","v":0},{"$nulls":5},{"$f":"IF($C$3=\"\",SUM(F9:J9),SUM(F9:H9))","v":0}]
[{"$nulls":5},{"$f":"D10*E10","v":0},{"$nulls":5},{"$f":"IF($C$3=\"\",SUM(F10:J10),SUM(F10:H10))","v":0}]
[{"$nulls":5},{"$f":"D11*E11","v":0},{"$nulls":5},0]
[{"$nulls":5},{"$f":"D12*E12","v":0},{"$nulls":5},0]
[{"$nulls":5},0,{"$nulls":5},0]
[{"$nulls":5},0,{"$nulls":5},0]
[{"$nulls":5},0,{"$nulls":5},0]
[{"$nulls":5},0,{"$nulls":5},0]
[{"$nulls":5},0,{"$nulls":5},0]
[{"$nulls":5},0,{"$nulls":5},0]
[{"$nulls":5},0,{"$nulls":5},0]
[{"$nulls":5},0,{"$nulls":5},0]
[{"$nulls":5},0,{"$nulls":5},0]
[{"$nulls":5},0,{"$nulls":5},0]
[{"$nulls":5},0,{"$nulls":5},0]
[{"$nulls":5},0,{"$nulls":5},0]
[{"$nulls":5},0,{"$nulls":5},0]
[{"$nulls":5},0,{"$nulls":5},0]
[{"$nulls":5},0,{"$nulls":5},0]
[{"$nulls":5},0,{"$nulls":5},0]
[{"$nulls":5},0,{"$nulls":5},0]
[{"$nulls":5},0,{"$nulls":5},0]
[{"$nulls":5},0,{"$nulls":5},0]
[{"$nulls":5},0,{"$nulls":5},0]
[{"$nulls":5},0,{"$nulls":5},0]
[null,"Gemeinausgaben (bei Auswahl 3.9.2 des Antragsformulars)"]
["Zwischensumme Ausgabengruppen",{"$nulls":4},{"$f":"SUM(F9:F33)","v":0},{"$f":"SUM(G9:G33)","v":0},{"$f":"SUM(H9:H33)","v":0},{"$f":"IF($C$3=\"\",SUM(I9:I33),\"\")","v":0},{"$f":"IF($C$3=\"\",SUM(J9:J33),\"\")","v":0},{"$f":"IF($C$3=\"\",K34,\"\")","v":0},{"$f":"IF($C$3=\"\",SUM(F35:K35),SUM(F35:H35))","v":0}]
["Gemeinausgabenpauschale (errechnet sich automatisch bei Eintragung in Zelle C3)",null,null,null,0.15,{"$f":"IF($C$3=\"\",\"-\",ROUND((F35)*$E$36,2))","v":"-"},{"$f":"IF($C$3=\"\",\"-\",ROUND((G35)*$E$36,2))","v":"-"},{"$f":"IF($C$3=\"\",\"-\",ROUND((H35)*$E$36,2))","v":"-"}]
["Gesamtsumme",{"$nulls":4},{"$f":"IF(F36=\"-\",F35,SUM(F35+F36))","v":0},{"$f":"IF(G36=\"-\",G35,SUM(G35+G36))","v":0},0,{"$f":"I35","v":0},{"$f":"J35","v":0},{"$f":"K35","v":0},{"$f":"SUM(F37:K37)","v":0}]

{"sheet":"AZA 2028","index":3,"n_rows":37,"n_cols":13,"rows_kept":37,"cut":false,"hidden":false,"merged":[[5,0,6,0],[5,1,6,1],[5,2,6,2],[0,0,0,1],[0,2,0,10],[1,0,1,1],[1,2,1,12],[2,0,2,1],[2,3,2,12],[36,0,36,4],[5,3,6,3],[5,4,6,4],[5,5,6,5],[5,8,6,9],[34,0,34,4],[35,0,35,3],[35,8,35,12],[3,12,6,12],[4,7,6,7],[3,0,4,1],[3,2,4,5],[3,6,6,6],[3,7,3,9],[3,11,6,11],[4,10,6,10]]}
["Prokjekttitel (kurz):",null,{"$f":"'AZA 2025'!C1:K1","v":"Projekttitel einmalig eingeben (wird übernommen)"},{"$nulls":8},"Jahr:",2028]
["Antragstellerin / Antragsteller:",null,{"$f":"'AZA 2025'!C2:M2","v":"Name der Antragsstellerin einmalig eingeben (wird übernommen)"}]
["Auswahl Gemeinausgabenpauschale:\n",null,{"$f":"IF('AZA 2025'!$C$3=\"\",\"\",\"ja\")","v":""}]
["Arbeitspakete \n(identisch mit Vorhabensbeschreibung)",null,"Personal *",null,null,null,"Investitionen\n(Schwellenwert > 800 €)","Sachausgaben\n",null,null,"Gemein-ausgaben***","Summe der AP \n(Spalten 6 bis 10)","Bemerkungen \n(z.B. Verweis auf Erläuterungs-Beiblatt)"]
[{"$nulls":7},"Dienst- und Fremdleistungen","Verbrauchsstoffe und –materialien, geringfügige Wirtschaftsgüter","Reisen","(nur bei Auswahl von 3.9.2 des Antragsformulars eintragen, Einzelnachweise erforderlich)"]
["lfd. Nr. ","Bezeichnung ","Anzahl und Qualifikation/ Funktion","Stunden gesamt \n**","Stunden-satz [€]** (Übertrag aus 8.1a)","Ausgaben [Spalte4 x Spalte5]",null,null,"(nur bei Auswahl 3.9.2 oder 3.9.3 des Antragsformulars eintragen, Ausgabengruppen ENTFALLEN bei Wahl der Pauschale)"]
[]
[1,2,3,4,5,6,7,8,9,10,11,12,13]
[{"$nulls":5},{"$f":"D9*E9","v":0},{"$nulls":5},{"$f":"IF($C$3=\"\",SUM(F9:J9),SUM(F9:H9))","v":0}]
[{"$nulls":5},{"$f":"D10*E10","v":0},{"$nulls":5},{"$f":"IF($C$3=\"\",SUM(F10:J10),SUM(F10:H10))","v":0}]
[{"$nulls":5},{"$f":"D11*E11","v":0},{"$nulls":5},0]
[{"$nulls":5},{"$f":"D12*E12","v":0},{"$nulls":5},0]
[{"$nulls":5},0,{"$nulls":5},0]
[{"$nulls":5},0,{"$nulls":5},0]
[{"$nulls":5},0,{"$nulls":5},0]
[{"$nulls":5},0,{"$nulls":5},0]
[{"$nulls":5},0,{"$nulls":5},0]
[{"$nulls":5},0,{"$nulls":5},0]
[{"$nulls":5},0,{"$nulls":5},0]
[{"$nulls":5},0,{"$nulls":5},0]
[{"$nulls":5},0,{"$nulls":5},0]
[{"$nulls":5},0,{"$nulls":5},0]
[{"$nulls":5},0,{"$nulls":5},0]
[{"$nulls":5},0,{"$nulls":5},0]
[{"$nulls":5},0,{"$nulls":5},0]
[{"$nulls":5},0,{"$nulls":5},0]
[{"$nulls":5},0,{"$nulls":5},0]
[{"$nulls":5},0,{"$nulls":5},0]
[{"$nulls":5},0,{"$nulls":5},0]
[{"$nulls":5},0,{"$nulls":5},0]
[{"$nulls":5},0,{"$nulls":5},0]
[{"$nulls":5},0,{"$nulls":5},0]
[{"$nulls":5},0,{"$nulls":5},0]
[null,"Gemeinausgaben (bei Auswahl 3.9.2 des Antragsformulars)"]
["Zwischensumme Ausgabengruppen",{"$nulls":4},{"$f":"SUM(F9:F33)","v":0},{"$f":"SUM(G9:G33)","v":0},{"$f":"SUM(H9:H33)","v":0},{"$f":"IF($C$3=\"\",SUM(I9:I33),\"\")","v":0},{"$f":"IF($C$3=\"\",SUM(J9:J33),\"\")","v":0},{"$f":"IF($C$3=\"\",K34,\"\")","v":0},{"$f":"IF($C$3=\"\",SUM(F35:K35),SUM(F35:H35))","v":0}]
["Gemeinausgabenpauschale (errechnet sich automatisch bei Eintragung in Zelle C3)",null,null,null,0.15,{"$f":"IF($C$3=\"\",\"-\",ROUND((F35)*$E$36,2))","v":"-"},{"$f":"IF($C$3=\"\",\"-\",ROUND((G35)*$E$36,2))","v":"-"},{"$f":"IF($C$3=\"\",\"-\",ROUND((H35)*$E$36,2))","v":"-"}]
["Gesamtsumme",{"$nulls":4},{"$f":"IF(F36=\"-\",F35,SUM(F35+F36))","v":0},{"$f":"IF(G36=\"-\",G35,SUM(G35+G36))","v":0},0,{"$f":"I35","v":0},{"$f":"J35","v":0},{"$f":"K35","v":0},{"$f":"SUM(F37:K37)","v":0}]

{"sheet":"8.1a Erläuterung zum AZA","index":4,"n_rows":55,"n_cols":10,"rows_kept":55,"cut":false,"hidden":false,"merged":[[52,0,52,8],[53,0,53,8],[43,0,43,3],[34,0,34,3],[46,4,46,8],[45,4,45,8],[44,4,44,8],[46,2,46,3],[45,2,45,3],[44,2,44,3],[39,0,39,3],[42,4,42,8],[41,4,41,8],[40,4,40,8],[42,2,42,3],[41,2,41,3],[36,4,36,8],[35,4,35,8],[37,2,37,3],[36,2,36,3],[35,2,35,3],[54,1,54,2],[4,0,4,8],[22,4,22,8],[33,4,33,8],[18,1,18,7],[22,1,22,3],[23,0,23,3],[24,2,24,3],[25,2,25,3],[26,2,26,3],[27,2,27,3],[24,4,24,8],[27,4,27,8],[40,2,40,3],[38,0,38,9],[37,4,37,8],[0,2,0,4],[1,2,1,4],[2,0,2,9],[31,9,33,9],[20,9,22,9],[20,0,20,8],[23,4,23,8],[26,4,26,8],[25,4,25,8],[28,1,28,8],[31,0,31,8],[33,1,33,3]]}
[null,"Anlage 8.1a zum Antrag"," Erläuterungen zum Ausgabenplan"]
["\n",null,{"$f":"'AZA 2025'!C2:M2","v":"Name der Antragsstellerin einmalig eingeben (wird übernommen)"}]
["Hinweise: Grau hinterlegte Felder bitte nicht ausfüllen - es sind  Berechnungsformeln hinterlegt!\nDie Erläuterungen zum AZA bitte nur einmal für die gesamte Projektlaufzeit (2025-2028) ausfüllen!"]
[]
["A) Personalausgaben"]
[]
[null,"Name Mitarbeiter_in (oder \"Neu-Anstellung\" N.N.) und Qualifikation ","Funktion (z.B. Sekretariat)","Einstufung","Stellenanteil / %","Jahresarbeit-geberbrutto (ohne Boni, Tantiemen o.ä.)/ €","Jahresarbeits-zeit (in Stunden)","Stundensatz / €\n\n","Stundenanzahl bezogen auf die Projektlauf-\nzeit","daraus resultierende Personal-ausgaben"]
["Mi1",{"$nulls":6},{"$f":"IFERROR(ROUND(F8/G8,2),0)","v":0},null,{"$f":"ROUND(H8*I8,2)","v":0}]
["Mi2",{"$nulls":6},{"$f":"IFERROR(ROUND(F9/G9,2),0)","v":0},null,{"$f":"ROUND(H9*I9,2)","v":0}]
["Mi3",{"$nulls":6},0,null,0]
["Mi4",{"$nulls":6},0,null,0]
["Mi5",{"$nulls":6},0,null,0]
["Mi6",{"$nulls":6},0,null,0]
["Mi7",{"$nulls":6},{"$f":"IFERROR(ROUND(F14/G14,2),0)","v":0},null,{"$f":"ROUND(H14*I14,2)","v":0}]
["Mi8",{"$nulls":6},0,null,{"$f":"ROUND(H15*I15,2)","v":0}]
["Mi9",{"$nulls":6},0,null,{"$f":"ROUND(H16*I16,2)","v":0}]
["Mi10",{"$nulls":6},0,null,{"$f":"ROUND(H17*I17,2)","v":0}]
[null,"ggf. weitere Zeilen einfügen",{"$nulls":5},0,null,{"$f":"ROUND(H18*I18,2)","v":0}]
[null,"Summe der Personalausgaben",{"$nulls":6},{"$f":"SUM(I8:I18)","v":0},{"$f":"SUM(J8:J18)","v":0}]
[]
["B) Investitionen",{"$nulls":8},"Summe \n(falls MWST-abzugsberechtigt: Netto-Beträge!)"]
[]
[null,"Ausgabenart (Kurzbeschreibung)",null,null,"Erläuterungen zur Kalkulationsgrundlage / Annahmen"]
["Instrumente, Ausrüstung und Forschungsinfrastruktur ",null,null,null,"(inkl. Angabe AfA-Zeiträume, sofern relevant) ",{"$nulls":4},"X"]
["In1",{"$nulls":8},0]
["In2",{"$nulls":8},0]
[{"$nulls":9},0]
[null,"ggf. weitere Zeilen einfügen",{"$nulls":7},0]
[null,"Summe der Investitionen:",{"$nulls":7},{"$f":"SUM(J25:J28)","v":0}]
[]
[]
["C) Sachausgaben ",{"$nulls":8},"Summe \n(falls MWST-abzugsberechtigt: Netto-Beträge!)"]
[]
[null,"Ausgabenart (Kurzbeschreibung)",null,null,"Erläuterungen zur Kalkulationsgrundlage / Annahmen"]
["Dienst- und Fremdleistungen",null,null,null,"Gesamt:",{"$f":"SUM(J36:J38)","v":0},null,null,null,"X"]
["Fr1",{"$nulls":8},0]
["Fr2",{"$nulls":8},0]
[null,"ggf. weitere Zeilen einfügen",{"$nulls":7},0]
["Material und Bedarfsartikel sowie Reiseausgaben \nnur bei Auswahl von Punkt 3.9.2 oder 3.9.3 des Antragsformulars angeben (siehe AZA)"]
["Verbrauchsstoffe und –materialien, geringfügige Wirtschaftsgüter",null,null,null,"Gesamt:",{"$f":"SUM(J41:J43)","v":0},null,null,null,"X"]
["Ve1",{"$nulls":8},0]
["Ve2",{"$nulls":8},0]
[null,"ggf. weitere Zeilen einfügen",{"$nulls":7},0]
["Reiseausgaben \n(bemessen nach Landesreisekostengesetz NRW vom 1.12.2021 GV. NRW. S. 1367, in der jeweils geltenden Fassung)",null,null,null,"Gesamt:",{"$f":"SUM(J45:J47)","v":0},null,null,null,"X"]
["R1",{"$nulls":8},0]
["R2",{"$nulls":8},0]
[null,"ggf. weitere Zeilen einfügen",{"$nulls":7},0]
[null,"Summe der Sachausgaben:",{"$nulls":7},{"$f":"SUM(J41:J47)","v":0}]
[]
[]
["D)  Gemeinausgaben (keine Eingabe erforderlich, automatische Berechnung)"]
[]
["I. Angabe der Summe der projektbezogenen Gemeinausgabenpauschalen (15%) nach Punkt 3.9.1 des Antragsformulars",{"$nulls":8},{"$f":"IF('AZA 2025'!C3=\"ja\",SUM('AZA 2025'!F36:H36,'AZA 2026'!F36:H36,'AZA 2027'!F36:H36),\"0\")","v":"0"}]
["II. Summe der kalkulierten projektbezogenen Gemeinausgaben gemäß Punkt 3.9.2 des Antragsformulars ",{"$nulls":8},{"$f":"IF('AZA 2025'!C3=\"ja\",\"0\",('AZA 2025'!K35+'AZA 2026'!K35+'AZA 2027'!K35))","v":0}]
[null,"Gesamtausgaben (A-D):",{"$nulls":7},{"$f":"J19+J29+J48+J53+J54","v":0}]

{"sheet":"Ausgabenbedarf","index":5,"n_rows":14,"n_cols":8,"rows_kept":14,"cut":false,"hidden":false,"merged":[[0,2,0,4],[1,2,1,4],[6,1,6,2],[2,0,2,7],[13,1,13,2],[12,1,12,2],[11,1,11,2],[10,1,10,2],[9,1,9,2],[8,1,8,2],[7,1,7,2]]}
[null,"Anlage 8.1a zum Antrag","Übersicht des Ausgabebedarfs"]
["\n",null,{"$f":"'AZA 2025'!C2:M2","v":"Name der Antragsstellerin einmalig eingeben (wird übernommen)"}]
["Hinweis:Felder bitte nicht ausfüllen - es sind  Berechnungsformeln hinterlegt!"]
[]
[null,null,null,"1. Jahr","2. Jahr","3. Jahr","4. Jahr","GESAMT"]
[null,null,null,{"$f":"'AZA 2025'!M1","v":2025},{"$f":"'AZA 2026'!M1","v":2026},{"$f":"'AZA 2027'!M1","v":2027},{"$f":"'AZA 2028'!M1","v":2028}]
[null,"Personalausgaben",null,{"$f":"'AZA 2025'!F35","v":0},{"$f":"'AZA 2026'!F35","v":0},{"$f":"'AZA 2027'!F35","v":0},{"$f":"'AZA 2028'!F35","v":0},{"$f":"SUM(D7:G7)","v":0}]
[null,"Investitionen",null,{"$f":"'AZA 2025'!G35","v":0},{"$f":"'AZA 2026'!G35","v":0},{"$f":"'AZA 2027'!G35","v":0},{"$f":"'AZA 2028'!G35","v":0},0]
[null,"Sachausgaben gesamt:",null,{"$f":"SUM(D10:D12)","v":0},{"$f":"SUM(E10:E12)","v":0},0,0,0]
[null,"davon Dienst- und Fremdleistungen",null,{"$f":"'AZA 2025'!H35","v":0},{"$f":"'AZA 2026'!H35","v":0},{"$f":"'AZA 2027'!H35","v":0},{"$f":"'AZA 2028'!H35","v":0},0]
[null,"davon Verbrauchsstoffe und –materialien, geringfügige Wirtschaftsgüter",null,{"$f":"'AZA 2025'!I35","v":0},{"$f":"'AZA 2026'!I35","v":0},{"$f":"'AZA 2027'!I35","v":0},{"$f":"'AZA 2028'!I35","v":0},0]
[null,"davon Reiseausgaben ",null,{"$f":"'AZA 2025'!J35","v":0},{"$f":"'AZA 2026'!J35","v":0},{"$f":"'AZA 2027'!J35","v":0},{"$f":"'AZA 2028'!J35","v":0},0]
[null,"Gemeinausgaben",null,{"$f":"SUM('AZA 2025'!F36:H36)","v":0},{"$f":"SUM('AZA 2026'!F36:H36)","v":0},{"$f":"SUM('AZA 2027'!F36:H36)","v":0},{"$f":"SUM('AZA 2028'!F36:H36)","v":0},0]
[null,"GESAMTAUSGABEN",null,{"$f":"SUM(D7+D8+D9+D13)","v":0},{"$f":"SUM(E7+E8+E9+E13)","v":0},0,0,0]